BEGIN:VCALENDAR
VERSION:2.0
PRODID:-//CT Grown - ECPv6.15.18//NONSGML v1.0//EN
CALSCALE:GREGORIAN
METHOD:PUBLISH
X-WR-CALNAME:CT Grown
X-ORIGINAL-URL:https://ctgrown.org
X-WR-CALDESC:Events for CT Grown
REFRESH-INTERVAL;VALUE=DURATION:PT1H
X-Robots-Tag:noindex
X-PUBLISHED-TTL:PT1H
BEGIN:VTIMEZONE
TZID:America/New_York
BEGIN:DAYLIGHT
TZOFFSETFROM:-0500
TZOFFSETTO:-0400
TZNAME:EDT
DTSTART:20210314T070000
END:DAYLIGHT
BEGIN:STANDARD
TZOFFSETFROM:-0400
TZOFFSETTO:-0500
TZNAME:EST
DTSTART:20211107T060000
END:STANDARD
BEGIN:DAYLIGHT
TZOFFSETFROM:-0500
TZOFFSETTO:-0400
TZNAME:EDT
DTSTART:20220313T070000
END:DAYLIGHT
BEGIN:STANDARD
TZOFFSETFROM:-0400
TZOFFSETTO:-0500
TZNAME:EST
DTSTART:20221106T060000
END:STANDARD
BEGIN:DAYLIGHT
TZOFFSETFROM:-0500
TZOFFSETTO:-0400
TZNAME:EDT
DTSTART:20230312T070000
END:DAYLIGHT
BEGIN:STANDARD
TZOFFSETFROM:-0400
TZOFFSETTO:-0500
TZNAME:EST
DTSTART:20231105T060000
END:STANDARD
END:VTIMEZONE
BEGIN:VEVENT
DTSTART;TZID=America/New_York:20220721T103000
DTEND;TZID=America/New_York:20220721T140000
DTSTAMP:20260419T130253
CREATED:20220720T020152Z
LAST-MODIFIED:20220722T135535Z
UID:10002980-1658399400-1658412000@ctgrown.org
SUMMARY:Bridgeport - Downtown Farmers Market
DESCRIPTION:Accepts SFNMP\, SNAP/EBT\, benefit doubling\, Bridgeport Bucks
URL:https://ctgrown.org/event/bridgeport-downtown/2022-07-21/
LOCATION:McLevy Green\, 102 Bank Street\, Bridgeport\, Connecticut\, 06604\, United States
END:VEVENT
BEGIN:VEVENT
DTSTART;TZID=America/New_York:20220721T150000
DTEND;TZID=America/New_York:20220721T183000
DTSTAMP:20260419T130253
CREATED:20220721T010319Z
LAST-MODIFIED:20220722T135620Z
UID:10003152-1658415600-1658428200@ctgrown.org
SUMMARY:Durham Farmers Market
DESCRIPTION:Accepts SFMNP
URL:https://ctgrown.org/event/durham-farmers-market/2022-07-21/
LOCATION:Durham Town Green\, 30 Townhouse Road\, Durham\, Connecticut\, 06422\, United States
END:VEVENT
BEGIN:VEVENT
DTSTART;TZID=America/New_York:20220721T153000
DTEND;TZID=America/New_York:20220721T163000
DTSTAMP:20260419T130253
CREATED:20220720T140117Z
LAST-MODIFIED:20220720T184233Z
UID:10002995-1658417400-1658421000@ctgrown.org
SUMMARY:Bridgeport Farm Stand at Bridgeport Hospital
DESCRIPTION:Accepts SFNMP
URL:https://ctgrown.org/event/bridgeport-farm-stand-at-bridgeport-hospital-2/2022-07-21/
LOCATION:Bridgeport Hospital\, Mill Hill and Grant Street\, Bridgeport\, Connecticut\, 06610\, United States
END:VEVENT
END:VCALENDAR