BEGIN:VCALENDAR
VERSION:2.0
PRODID:-//CT Grown - ECPv6.15.18//NONSGML v1.0//EN
CALSCALE:GREGORIAN
METHOD:PUBLISH
X-ORIGINAL-URL:https://ctgrown.org
X-WR-CALDESC:Events for CT Grown
REFRESH-INTERVAL;VALUE=DURATION:PT1H
X-Robots-Tag:noindex
X-PUBLISHED-TTL:PT1H
BEGIN:VTIMEZONE
TZID:America/New_York
BEGIN:DAYLIGHT
TZOFFSETFROM:-0500
TZOFFSETTO:-0400
TZNAME:EDT
DTSTART:20210314T070000
END:DAYLIGHT
BEGIN:STANDARD
TZOFFSETFROM:-0400
TZOFFSETTO:-0500
TZNAME:EST
DTSTART:20211107T060000
END:STANDARD
BEGIN:DAYLIGHT
TZOFFSETFROM:-0500
TZOFFSETTO:-0400
TZNAME:EDT
DTSTART:20220313T070000
END:DAYLIGHT
BEGIN:STANDARD
TZOFFSETFROM:-0400
TZOFFSETTO:-0500
TZNAME:EST
DTSTART:20221106T060000
END:STANDARD
BEGIN:DAYLIGHT
TZOFFSETFROM:-0500
TZOFFSETTO:-0400
TZNAME:EDT
DTSTART:20230312T070000
END:DAYLIGHT
BEGIN:STANDARD
TZOFFSETFROM:-0400
TZOFFSETTO:-0500
TZNAME:EST
DTSTART:20231105T060000
END:STANDARD
END:VTIMEZONE
BEGIN:VEVENT
DTSTART;TZID=America/New_York:20220723T080000
DTEND;TZID=America/New_York:20220723T123000
DTSTAMP:20260419T143859
CREATED:20220722T183015Z
LAST-MODIFIED:20220722T183727Z
UID:10003446-1658563200-1658579400@ctgrown.org
SUMMARY:Manchester Farmers Market - Main Street
DESCRIPTION:Accepts SFNMP
URL:https://ctgrown.org/event/manchester-farmers-market/2022-07-23/
LOCATION:Forest Ave. Parking Lot\, 1088 Main Street\, Manchester\, Connecticut\, 06040\, United States
END:VEVENT
BEGIN:VEVENT
DTSTART;TZID=America/New_York:20220723T083000
DTEND;TZID=America/New_York:20220723T120000
DTSTAMP:20260419T143859
CREATED:20220722T192150Z
LAST-MODIFIED:20220722T192152Z
UID:10003512-1658565000-1658577600@ctgrown.org
SUMMARY:Meriden Farmers Market
DESCRIPTION:Accepts SFNMP\, SNAP/EBT\, benefit doubling
URL:https://ctgrown.org/event/meriden-farmers-market/2022-07-23/
LOCATION:Meriden Green Park\, State Street and Mill Street\, Meriden\, Connecticut\, 06450\, United States
END:VEVENT
BEGIN:VEVENT
DTSTART;TZID=America/New_York:20220723T083000
DTEND;TZID=America/New_York:20220723T123000
DTSTAMP:20260419T143859
CREATED:20220722T195512Z
LAST-MODIFIED:20220722T195641Z
UID:10003574-1658565000-1658579400@ctgrown.org
SUMMARY:Downtown Milford Farmers Market
DESCRIPTION:Accepts SFNMP\, SNAP/EBT
URL:https://ctgrown.org/event/downtown-milford-farmers-market/2022-07-23/
LOCATION:Wasson Field\, 102 Main Street\, Milford\, Connecticut\, 06460\, United States
END:VEVENT
BEGIN:VEVENT
DTSTART;TZID=America/New_York:20220723T090000
DTEND;TZID=America/New_York:20220723T090000
DTSTAMP:20260419T143859
CREATED:20220721T152948Z
LAST-MODIFIED:20220722T133256Z
UID:10003214-1658566800-1658566800@ctgrown.org
SUMMARY:Tractor Pull at Terryville Fairgrounds
DESCRIPTION:
URL:https://ctgrown.org/event/tractor-pull-at-terryville-fairgrounds/
LOCATION:Terryville Fairgrounds\, 171 Town Hill Road\, Terryville\, Connecticut\, 06786\, United States
END:VEVENT
BEGIN:VEVENT
DTSTART;TZID=America/New_York:20220723T090000
DTEND;TZID=America/New_York:20220723T120000
DTSTAMP:20260419T143859
CREATED:20220721T133224Z
LAST-MODIFIED:20220722T133233Z
UID:10003199-1658566800-1658577600@ctgrown.org
SUMMARY:Ellington Farmers Market
DESCRIPTION:Accepts SFNMP\, SNAP/EBT; doubled SNAP up to $20 per week\, SFNMP vouchers matched one-to-one
URL:https://ctgrown.org/event/ellington-farmers-market/2022-07-23/
LOCATION:Arbor Park\, Main Street and Arbor Way\, Ellington\, Connecticut\, 06029\, United States
END:VEVENT
BEGIN:VEVENT
DTSTART;TZID=America/New_York:20220723T090000
DTEND;TZID=America/New_York:20220723T120000
DTSTAMP:20260419T143859
CREATED:20220722T145804Z
LAST-MODIFIED:20220722T145806Z
UID:10003335-1658566800-1658577600@ctgrown.org
SUMMARY:Killingly Farmers Market
DESCRIPTION:Accepts SFNMP
URL:https://ctgrown.org/event/killingly-farmers-market/2022-07-23/
LOCATION:Killingly Public Library\, 25 Westcott Road\, Danielson\, Connecticut\, 06239\, United States
END:VEVENT
BEGIN:VEVENT
DTSTART;TZID=America/New_York:20220723T090000
DTEND;TZID=America/New_York:20220723T120000
DTSTAMP:20260419T143859
CREATED:20220722T153032Z
LAST-MODIFIED:20220722T153128Z
UID:10003353-1658566800-1658577600@ctgrown.org
SUMMARY:Lebanon Farmers Market
DESCRIPTION:Accepts SFNMP
URL:https://ctgrown.org/event/lebanon-farmers-market/2022-07-23/
LOCATION:Lebanon Town Hall\, 579 Exeter Road\, Lebanon\, Connecticut\, 06249\, United States
END:VEVENT
BEGIN:VEVENT
DTSTART;TZID=America/New_York:20220723T090000
DTEND;TZID=America/New_York:20220723T123000
DTSTAMP:20260419T143859
CREATED:20220722T180155Z
LAST-MODIFIED:20220722T180226Z
UID:10003409-1658566800-1658579400@ctgrown.org
SUMMARY:From the Farm LLC - Lyme
DESCRIPTION:
URL:https://ctgrown.org/event/from-the-farm-llc-lyme/2022-07-23/
LOCATION:Tiffany Farms\, 156 Sterling Road\, Lyme\, Connecticut\, 06371\, United States
END:VEVENT
BEGIN:VEVENT
DTSTART;TZID=America/New_York:20220723T090000
DTEND;TZID=America/New_York:20220723T130000
DTSTAMP:20260419T143859
CREATED:20220720T155010Z
LAST-MODIFIED:20220720T184002Z
UID:10003008-1658566800-1658581200@ctgrown.org
SUMMARY:Bridgeport - Farmers' Market of Black Rock
DESCRIPTION:Accepts SNAP/EBT
URL:https://ctgrown.org/event/bridgeport-farmers-market-of-black-rock/2022-07-23/
LOCATION:St. Ann’s Field\, 481 Brewster Street\, Bridgeport\, Connecticut\, 06605\, United States
END:VEVENT
BEGIN:VEVENT
DTSTART;TZID=America/New_York:20220723T093000
DTEND;TZID=America/New_York:20220723T133000
DTSTAMP:20260419T143859
CREATED:20220720T013653Z
LAST-MODIFIED:20220722T133332Z
UID:10002939-1658568600-1658583000@ctgrown.org
SUMMARY:Bridgeport - Stratfield Saturday Market
DESCRIPTION:Accepts SFNMP
URL:https://ctgrown.org/event/bridgeport-stratfield-saturday-market/2022-07-23/
LOCATION:Clinton Park\, Brooklawn Ave. and North Ave.\, Bridgeport\, Connecticut\, 06604\, United States
END:VEVENT
BEGIN:VEVENT
DTSTART;TZID=America/New_York:20220723T100000
DTEND;TZID=America/New_York:20220723T130000
DTSTAMP:20260419T143859
CREATED:20220720T155354Z
LAST-MODIFIED:20220722T133443Z
UID:10003021-1658570400-1658581200@ctgrown.org
SUMMARY:Bristol Farmers Market
DESCRIPTION:Accepts SFNMP\, SNAP/EBT
URL:https://ctgrown.org/event/bristol-farmers-market-2/2022-07-23/
LOCATION:Bristol Health Medical Care Center\, 15 Riverside Ave.\, Bristol\, Connecticut\, 06010\, United States
END:VEVENT
BEGIN:VEVENT
DTSTART;TZID=America/New_York:20220723T100000
DTEND;TZID=America/New_York:20220723T130000
DTSTAMP:20260419T143859
CREATED:20220722T174820Z
LAST-MODIFIED:20220722T175044Z
UID:10003393-1658570400-1658581200@ctgrown.org
SUMMARY:Litchfield Farmers Market
DESCRIPTION:Accepts SFNMP
URL:https://ctgrown.org/event/litchfield-farmers-market/2022-07-23/
LOCATION:Litchfield Center School\, 125 West Street\, Litchfield\, Connecticut\, 06759\, United States
END:VEVENT
BEGIN:VEVENT
DTSTART;TZID=America/New_York:20220723T100000
DTEND;TZID=America/New_York:20220723T140000
DTSTAMP:20260419T143859
CREATED:20220720T015629Z
LAST-MODIFIED:20220722T133406Z
UID:10002965-1658570400-1658584800@ctgrown.org
SUMMARY:Bridgeport - Reservoir Community Farm
DESCRIPTION:Accepts SFNMP\, SNAP/EBT\, benefit doubling
URL:https://ctgrown.org/event/bridgeport-reservoir-community-farm/2022-07-23/
LOCATION:Reservoir Community Farm\, 1469 Reservoir Ave.\, Bridgeport\, Connecticut\, 06608\, United States
END:VEVENT
BEGIN:VEVENT
DTSTART;TZID=America/New_York:20220723T100000
DTEND;TZID=America/New_York:20220723T140000
DTSTAMP:20260419T143859
CREATED:20220721T004758Z
LAST-MODIFIED:20220722T133504Z
UID:10003119-1658570400-1658584800@ctgrown.org
SUMMARY:Danbury Farmers Market
DESCRIPTION:Accepts SFMNP\, EBT/SNAP\, benefit doubling\, veteran and senior discounts
URL:https://ctgrown.org/event/danbury-farmers-market/2022-07-23/
LOCATION:Danbury City Center Green\, Ives Street and Railroad Place\, Danbury\, Connecticut\, 06810\, United States
END:VEVENT
BEGIN:VEVENT
DTSTART;TZID=America/New_York:20220723T100000
DTEND;TZID=America/New_York:20220723T140000
DTSTAMP:20260419T143859
CREATED:20220722T203603Z
LAST-MODIFIED:20220722T203605Z
UID:10003606-1658570400-1658584800@ctgrown.org
SUMMARY:New Canaan Farmers Market
DESCRIPTION:Accepts SFNMP
URL:https://ctgrown.org/event/new-canaan-farmers-market/2022-07-23/
LOCATION:Lumber Yard Lot\, 244 Elm Street\, New Canaan\, Connecticut\, 06840\, United States
END:VEVENT
BEGIN:VEVENT
DTSTART;TZID=America/New_York:20220723T150000
DTEND;TZID=America/New_York:20220723T170000
DTSTAMP:20260419T143859
CREATED:20220722T191154Z
LAST-MODIFIED:20220722T191437Z
UID:10003493-1658588400-1658595600@ctgrown.org
SUMMARY:Storrs Farmers Market
DESCRIPTION:Accepts SFNMP
URL:https://ctgrown.org/event/storrs-farmers-market/2022-07-23/
LOCATION:Mansfield Town Hall\, 4 South Eagleville Road\, Mansfield\, Connecticut\, 06268\, United States
END:VEVENT
BEGIN:VEVENT
DTSTART;TZID=America/New_York:20220723T150000
DTEND;TZID=America/New_York:20220723T180000
DTSTAMP:20260419T143859
CREATED:20220721T010723Z
LAST-MODIFIED:20220722T133530Z
UID:10003167-1658588400-1658599200@ctgrown.org
SUMMARY:East Haddam Farmers Market
DESCRIPTION:Accepts SFMNP\, EBT/SNAP
URL:https://ctgrown.org/event/east-haddam-farmers-market/2022-07-23/
LOCATION:Ballek’s Garden Center\, 90 Maple Ave. East\, East Haddam\, Connecticut\, 06423\, United States
END:VEVENT
END:VCALENDAR