BEGIN:VCALENDAR
VERSION:2.0
PRODID:-//CT Grown - ECPv6.15.18//NONSGML v1.0//EN
CALSCALE:GREGORIAN
METHOD:PUBLISH
X-ORIGINAL-URL:https://ctgrown.org
X-WR-CALDESC:Events for CT Grown
REFRESH-INTERVAL;VALUE=DURATION:PT1H
X-Robots-Tag:noindex
X-PUBLISHED-TTL:PT1H
BEGIN:VTIMEZONE
TZID:America/New_York
BEGIN:DAYLIGHT
TZOFFSETFROM:-0500
TZOFFSETTO:-0400
TZNAME:EDT
DTSTART:20220313T070000
END:DAYLIGHT
BEGIN:STANDARD
TZOFFSETFROM:-0400
TZOFFSETTO:-0500
TZNAME:EST
DTSTART:20221106T060000
END:STANDARD
BEGIN:DAYLIGHT
TZOFFSETFROM:-0500
TZOFFSETTO:-0400
TZNAME:EDT
DTSTART:20230312T070000
END:DAYLIGHT
BEGIN:STANDARD
TZOFFSETFROM:-0400
TZOFFSETTO:-0500
TZNAME:EST
DTSTART:20231105T060000
END:STANDARD
BEGIN:DAYLIGHT
TZOFFSETFROM:-0500
TZOFFSETTO:-0400
TZNAME:EDT
DTSTART:20240310T070000
END:DAYLIGHT
BEGIN:STANDARD
TZOFFSETFROM:-0400
TZOFFSETTO:-0500
TZNAME:EST
DTSTART:20241103T060000
END:STANDARD
END:VTIMEZONE
BEGIN:VEVENT
DTSTART;TZID=America/New_York:20230725T090000
DTEND;TZID=America/New_York:20230725T130000
DTSTAMP:20260424T184112
CREATED:20230630T145314Z
LAST-MODIFIED:20230630T145315Z
UID:10007493-1690275600-1690290000@ctgrown.org
SUMMARY:East Hartford Farmer's Market
DESCRIPTION:
URL:https://ctgrown.org/event/east-hartford-farmers-market-2/2023-07-25/
LOCATION:Raymond Library\, 840 Main Street\, East Hartford\, Connecticut\, 06108\, United States
END:VEVENT
BEGIN:VEVENT
DTSTART;TZID=America/New_York:20230725T100000
DTEND;TZID=America/New_York:20230725T123000
DTSTAMP:20260424T184112
CREATED:20230707T190741Z
LAST-MODIFIED:20230707T190745Z
UID:10007876-1690279200-1690288200@ctgrown.org
SUMMARY:Brass City Harvest
DESCRIPTION:
URL:https://ctgrown.org/event/brass-city-harvest/2023-07-25/
LOCATION:Waterbury Senior Center\, 1985 East Main Street\, Waterbury\, Connecticut\, 06705\, United States
END:VEVENT
BEGIN:VEVENT
DTSTART;TZID=America/New_York:20230725T113000
DTEND;TZID=America/New_York:20230725T163000
DTSTAMP:20260424T184112
CREATED:20230608T142051Z
LAST-MODIFIED:20230608T142054Z
UID:10006629-1690284600-1690302600@ctgrown.org
SUMMARY:St. Vincent's Farm Stand - Bridgeport
DESCRIPTION:
URL:https://ctgrown.org/event/st-vincents-farm-stand-bridgeport/2023-07-25/
LOCATION:St. Vincent’s Medical Center\, 2800 Main Street\, Bridgeport\, Connecticut\, 06606\, United States
END:VEVENT
BEGIN:VEVENT
DTSTART;TZID=America/New_York:20230725T120000
DTEND;TZID=America/New_York:20230725T180000
DTSTAMP:20260424T184112
CREATED:20230707T185409Z
LAST-MODIFIED:20230707T185412Z
UID:10007842-1690286400-1690308000@ctgrown.org
SUMMARY:Seymour Farmers Market
DESCRIPTION:
URL:https://ctgrown.org/event/seymour-farmers-market-2/2023-07-25/
LOCATION:Seymour Community Center\, 20 Pine Street\, Seymour\, Connecticut\, 06483\, United States
END:VEVENT
BEGIN:VEVENT
DTSTART;TZID=America/New_York:20230725T140000
DTEND;TZID=America/New_York:20230725T183000
DTSTAMP:20260424T184112
CREATED:20230615T010808Z
LAST-MODIFIED:20230615T010812Z
UID:10006908-1690293600-1690309800@ctgrown.org
SUMMARY:Newtown Farmers Market
DESCRIPTION:
URL:https://ctgrown.org/event/newtown-farmers-market-2/2023-07-25/
LOCATION:Fairfield Hills Campus\, 3 Primrose Street\, Newtown\, Connecticut\, 06470\, United States
END:VEVENT
BEGIN:VEVENT
DTSTART;TZID=America/New_York:20230725T150000
DTEND;TZID=America/New_York:20230725T180000
DTSTAMP:20260424T184112
CREATED:20230607T203658Z
LAST-MODIFIED:20230607T203700Z
UID:10006185-1690297200-1690308000@ctgrown.org
SUMMARY:City of Groton Farmers' Market
DESCRIPTION:
URL:https://ctgrown.org/event/city-of-groton-farmers-market/2023-07-25/
LOCATION:Washington Park\, Mitchell Street and Meridian Street\, Groton\, Connecticut\, 06340\, United States
END:VEVENT
BEGIN:VEVENT
DTSTART;TZID=America/New_York:20230725T150000
DTEND;TZID=America/New_York:20230725T180000
DTSTAMP:20260424T184112
CREATED:20230630T144327Z
LAST-MODIFIED:20230630T144328Z
UID:10007476-1690297200-1690308000@ctgrown.org
SUMMARY:Torrington Farmers Market - Tuesday
DESCRIPTION:
URL:https://ctgrown.org/event/torrington-farmers-market-tuesday/2023-07-25/
LOCATION:St. Paul’s Lutheran Church\, 837 Charles Street\, Torrington\, Connecticut\, 06790\, United States
END:VEVENT
BEGIN:VEVENT
DTSTART;TZID=America/New_York:20230725T150000
DTEND;TZID=America/New_York:20230725T180000
DTSTAMP:20260424T184112
CREATED:20230630T175851Z
LAST-MODIFIED:20230630T175852Z
UID:10007625-1690297200-1690308000@ctgrown.org
SUMMARY:West End Farmers Market
DESCRIPTION:
URL:https://ctgrown.org/event/west-end-farmers-market/2023-07-25/
LOCATION:Mark Twain House\, 385 Farmington Ave.\, Hartford\, Connecticut\, 06105\, United States
END:VEVENT
BEGIN:VEVENT
DTSTART;TZID=America/New_York:20230725T160000
DTEND;TZID=America/New_York:20230725T180000
DTSTAMP:20260424T184112
CREATED:20230505T190450Z
LAST-MODIFIED:20230505T190752Z
UID:10005475-1690300800-1690308000@ctgrown.org
SUMMARY:Northeast CT Farmers Market - Plainfield
DESCRIPTION:
URL:https://ctgrown.org/event/northeast-ct-farmers-market-plainfield/2023-07-25/
LOCATION:Plainfield Early Childhood Center\, 651 Norwich Road\, Plainfield\, Connecticut\, 06374\, United States
END:VEVENT
BEGIN:VEVENT
DTSTART;TZID=America/New_York:20230725T160000
DTEND;TZID=America/New_York:20230725T180000
DTSTAMP:20260424T184112
CREATED:20230608T140351Z
LAST-MODIFIED:20230608T140354Z
UID:10006530-1690300800-1690308000@ctgrown.org
SUMMARY:Northeast CT Farmers Markets - Plainfield
DESCRIPTION:
URL:https://ctgrown.org/event/northeast-ct-farmers-markets-plainfield/2023-07-25/
LOCATION:Plainfield Early Childhood Center\, 651 Norwich Road\, Plainfield\, Connecticut\, 06374\, United States
END:VEVENT
BEGIN:VEVENT
DTSTART;TZID=America/New_York:20230725T160000
DTEND;TZID=America/New_York:20230725T190000
DTSTAMP:20260424T184112
CREATED:20230609T151158Z
LAST-MODIFIED:20230609T151201Z
UID:10006825-1690300800-1690311600@ctgrown.org
SUMMARY:Montville Farmers Market
DESCRIPTION:
URL:https://ctgrown.org/event/montville-farmers-market-2/2023-07-25/
LOCATION:Camp Oakdale\, 75 Oxoboxo Dam Road\, Oakdale\, Connecticut\, 06370\, United States
END:VEVENT
BEGIN:VEVENT
DTSTART;TZID=America/New_York:20230725T180000
DTEND;TZID=America/New_York:20230725T190000
DTSTAMP:20260424T184112
CREATED:20230630T152100Z
LAST-MODIFIED:20230630T152103Z
UID:10007549-1690308000-1690311600@ctgrown.org
SUMMARY:Agribusiness Virtual Series
DESCRIPTION:Auerfarm and Samad Gardens Initiative present this series to help you monetize your passion for farming into a successful career! Designed to serve both new farmers and seasoned farmers who wish to improve their business. \n\n\n\n\n\n\n\nJuly 18: Farm Planning with Stephen Veazey of SCORE Maine \n\n\n\n\n\n\n\nJuly 25: Recordkeeping for Farms with Stephen Veazey of SCORE Maine
URL:https://ctgrown.org/event/agribusiness-virtual-series/2023-07-25/
END:VEVENT
END:VCALENDAR