BEGIN:VCALENDAR
VERSION:2.0
PRODID:-//CT Grown - ECPv6.15.18//NONSGML v1.0//EN
CALSCALE:GREGORIAN
METHOD:PUBLISH
X-WR-CALNAME:CT Grown
X-ORIGINAL-URL:https://ctgrown.org
X-WR-CALDESC:Events for CT Grown
REFRESH-INTERVAL;VALUE=DURATION:PT1H
X-Robots-Tag:noindex
X-PUBLISHED-TTL:PT1H
BEGIN:VTIMEZONE
TZID:America/New_York
BEGIN:DAYLIGHT
TZOFFSETFROM:-0500
TZOFFSETTO:-0400
TZNAME:EDT
DTSTART:20220313T070000
END:DAYLIGHT
BEGIN:STANDARD
TZOFFSETFROM:-0400
TZOFFSETTO:-0500
TZNAME:EST
DTSTART:20221106T060000
END:STANDARD
BEGIN:DAYLIGHT
TZOFFSETFROM:-0500
TZOFFSETTO:-0400
TZNAME:EDT
DTSTART:20230312T070000
END:DAYLIGHT
BEGIN:STANDARD
TZOFFSETFROM:-0400
TZOFFSETTO:-0500
TZNAME:EST
DTSTART:20231105T060000
END:STANDARD
BEGIN:DAYLIGHT
TZOFFSETFROM:-0500
TZOFFSETTO:-0400
TZNAME:EDT
DTSTART:20240310T070000
END:DAYLIGHT
BEGIN:STANDARD
TZOFFSETFROM:-0400
TZOFFSETTO:-0500
TZNAME:EST
DTSTART:20241103T060000
END:STANDARD
END:VTIMEZONE
BEGIN:VEVENT
DTSTART;TZID=America/New_York:20231022T060000
DTEND;TZID=America/New_York:20231022T090000
DTSTAMP:20260421T122305
CREATED:20230405T195907Z
LAST-MODIFIED:20230405T195908Z
UID:10005138-1697954400-1697965200@ctgrown.org
SUMMARY:Hartford Regional Market
DESCRIPTION:This seasonal farmers’ market on the pavilion at the Connecticut Regional Market offers products like fresh fruits and vegetables\, plants\, eggs\, and honey.
URL:https://ctgrown.org/event/hartford-regional-market-4/2023-10-22/
LOCATION:Connecticut Regional Market\, 101 Reserve Road\, Hartford\, Connecticut\, 06114\, United States
END:VEVENT
BEGIN:VEVENT
DTSTART;TZID=America/New_York:20231022T090000
DTEND;TZID=America/New_York:20231022T130000
DTSTAMP:20260421T122305
CREATED:20230612T202826Z
LAST-MODIFIED:20230612T202831Z
UID:10006853-1697965200-1697979600@ctgrown.org
SUMMARY:Naugatuck Farmers Market
DESCRIPTION:
URL:https://ctgrown.org/event/naugatuck-farmers-market/2023-10-22/
LOCATION:Naugatuck Green\, 21 Maple Street\, Naugatuck\, Connecticut\, 06770\, United States
END:VEVENT
BEGIN:VEVENT
DTSTART;TZID=America/New_York:20231022T090000
DTEND;TZID=America/New_York:20231022T140000
DTSTAMP:20260421T122305
CREATED:20230629T203513Z
LAST-MODIFIED:20230629T203515Z
UID:10007210-1697965200-1697983200@ctgrown.org
SUMMARY:Norwalk Farmers Market - First Congregational Church on the Green
DESCRIPTION:
URL:https://ctgrown.org/event/norwalk-farmers-market-first-congregational-church-on-the-green/2023-10-22/
LOCATION:First Congregational Church on the Green\, 3 Lewis Street\, Norwalk\, Connecticut\, 06851\, United States
END:VEVENT
BEGIN:VEVENT
DTSTART;TZID=America/New_York:20231022T090000
DTEND;TZID=America/New_York:20231022T150000
DTSTAMP:20260421T122305
CREATED:20230608T140942Z
LAST-MODIFIED:20230608T140945Z
UID:10006580-1697965200-1697986800@ctgrown.org
SUMMARY:East End NRZ Market and Cafe - Bridgeport
DESCRIPTION:
URL:https://ctgrown.org/event/east-end-nrz-market-and-cafe-bridgeport/2023-10-22/
LOCATION:East End NRZ Market & Cafe\, 1851 Stratford Ave.\, Bridgeport\, Connecticut\, 06607\, United States
END:VEVENT
BEGIN:VEVENT
DTSTART;TZID=America/New_York:20231022T100000
DTEND;TZID=America/New_York:20231022T130000
DTSTAMP:20260421T122305
CREATED:20230502T010824Z
LAST-MODIFIED:20230502T010827Z
UID:10005261-1697968800-1697979600@ctgrown.org
SUMMARY:Ashford Farmers Market
DESCRIPTION:
URL:https://ctgrown.org/event/ashford-farmers-market-4/2023-10-22/
LOCATION:Pompey Hollow Park\, 25 Tremko Lane\, Ashford\, Connecticut\, 06278\, United States
END:VEVENT
BEGIN:VEVENT
DTSTART;TZID=America/New_York:20231022T100000
DTEND;TZID=America/New_York:20231022T130000
DTSTAMP:20260421T122305
CREATED:20230601T202907Z
LAST-MODIFIED:20230601T202910Z
UID:10005746-1697968800-1697979600@ctgrown.org
SUMMARY:Coventry Farmers Market
DESCRIPTION:
URL:https://ctgrown.org/event/coventry-farmers-market-2/2023-10-22/
LOCATION:Nathan Hale Homestead\, 2299 South Street\, Coventry\, Connecticut\, 06238\, United States
END:VEVENT
BEGIN:VEVENT
DTSTART;TZID=America/New_York:20231022T100000
DTEND;TZID=America/New_York:20231022T130000
DTSTAMP:20260421T122305
CREATED:20230607T201917Z
LAST-MODIFIED:20230607T201918Z
UID:10006142-1697968800-1697979600@ctgrown.org
SUMMARY:Enfield Craft/Vendor Market
DESCRIPTION:
URL:https://ctgrown.org/event/enfield-craft-vendor-market/2023-10-22/
LOCATION:Enfield Town Green\, 81-199 Main Street\, Enfield\, Connecticut\, 06082\, United States
END:VEVENT
BEGIN:VEVENT
DTSTART;TZID=America/New_York:20231022T100000
DTEND;TZID=America/New_York:20231022T130000
DTSTAMP:20260421T122305
CREATED:20230608T135342Z
LAST-MODIFIED:20230608T135345Z
UID:10006458-1697968800-1697979600@ctgrown.org
SUMMARY:Edgewood Park Farmers Market - New Haven
DESCRIPTION:
URL:https://ctgrown.org/event/edgewood-park-farmers-market-new-haven/2023-10-22/
LOCATION:Edgewood Park\, 378 West Rock Ave.\, New Haven\, Connecticut\, 06515\, United States
END:VEVENT
BEGIN:VEVENT
DTSTART;TZID=America/New_York:20231022T100000
DTEND;TZID=America/New_York:20231022T130000
DTSTAMP:20260421T122306
CREATED:20230629T204953Z
LAST-MODIFIED:20230629T204956Z
UID:10007271-1697968800-1697979600@ctgrown.org
SUMMARY:Blue Back Farmers' Market
DESCRIPTION:
URL:https://ctgrown.org/event/blue-back-farmers-market/2023-10-22/
LOCATION:West Hartford Town Hall\, 50 South Main Street\, West Hartford\, Connecticut\, 06107\, United States
END:VEVENT
BEGIN:VEVENT
DTSTART;TZID=America/New_York:20231022T100000
DTEND;TZID=America/New_York:20231022T150000
DTSTAMP:20260421T122306
CREATED:20231020T181140Z
LAST-MODIFIED:20231020T181143Z
UID:10008135-1697968800-1697986800@ctgrown.org
SUMMARY:Beef Cattle Auction
DESCRIPTION:This year’s event will offer both in-person attendance and the opportunity for virtual and live bidding through Wolf Auction Group. An animal preview will be held at 10 a.m.\, and the auction will start at noon.
URL:https://ctgrown.org/event/beef-cattle-auction/
LOCATION:University of Connecticut Cattle Resource Unit\, Horsebarn Hill Road\, Storrs\, Connecticut\, 06269\, United States
END:VEVENT
BEGIN:VEVENT
DTSTART;TZID=America/New_York:20231022T110000
DTEND;TZID=America/New_York:20231022T180000
DTSTAMP:20260421T122306
CREATED:20231006T193206Z
LAST-MODIFIED:20231006T193212Z
UID:10008128-1697972400-1697997600@ctgrown.org
SUMMARY:Mystic Apple Festival
DESCRIPTION:
URL:https://ctgrown.org/event/mystic-apple-festival/2023-10-22/
LOCATION:Olde Mistick Village\, 27 Coogan Blvd\, Mystic\, Connecticut\, 06355\, United States
END:VEVENT
BEGIN:VEVENT
DTSTART;TZID=America/New_York:20231022T120000
DTEND;TZID=America/New_York:20231022T150000
DTSTAMP:20260421T122306
CREATED:20230608T141519Z
LAST-MODIFIED:20230608T141522Z
UID:10006613-1697976000-1697986800@ctgrown.org
SUMMARY:Stratfield Farmers Market - Bridgeport
DESCRIPTION:
URL:https://ctgrown.org/event/stratfield-farmers-market-bridgeport/2023-10-22/
LOCATION:nOURish Center\, 2200 North Ave.\, Bridgeport\, Connecticut\, 06604\, United States
END:VEVENT
END:VCALENDAR