BEGIN:VCALENDAR
VERSION:2.0
PRODID:-//CT Grown - ECPv6.15.18//NONSGML v1.0//EN
CALSCALE:GREGORIAN
METHOD:PUBLISH
X-WR-CALNAME:CT Grown
X-ORIGINAL-URL:https://ctgrown.org
X-WR-CALDESC:Events for CT Grown
REFRESH-INTERVAL;VALUE=DURATION:PT1H
X-Robots-Tag:noindex
X-PUBLISHED-TTL:PT1H
BEGIN:VTIMEZONE
TZID:America/New_York
BEGIN:DAYLIGHT
TZOFFSETFROM:-0500
TZOFFSETTO:-0400
TZNAME:EDT
DTSTART:20220313T070000
END:DAYLIGHT
BEGIN:STANDARD
TZOFFSETFROM:-0400
TZOFFSETTO:-0500
TZNAME:EST
DTSTART:20221106T060000
END:STANDARD
BEGIN:DAYLIGHT
TZOFFSETFROM:-0500
TZOFFSETTO:-0400
TZNAME:EDT
DTSTART:20230312T070000
END:DAYLIGHT
BEGIN:STANDARD
TZOFFSETFROM:-0400
TZOFFSETTO:-0500
TZNAME:EST
DTSTART:20231105T060000
END:STANDARD
BEGIN:DAYLIGHT
TZOFFSETFROM:-0500
TZOFFSETTO:-0400
TZNAME:EDT
DTSTART:20240310T070000
END:DAYLIGHT
BEGIN:STANDARD
TZOFFSETFROM:-0400
TZOFFSETTO:-0500
TZNAME:EST
DTSTART:20241103T060000
END:STANDARD
END:VTIMEZONE
BEGIN:VEVENT
DTSTART;TZID=America/New_York:20231025T160000
DTEND;TZID=America/New_York:20231025T180000
DTSTAMP:20260423T155414
CREATED:20230608T140217Z
LAST-MODIFIED:20230608T140220Z
UID:10006523-1698249600-1698256800@ctgrown.org
SUMMARY:NECT Farmers Markets - Brooklyn
DESCRIPTION:
URL:https://ctgrown.org/event/nect-farmers-markets-brooklyn/2023-10-25/
LOCATION:Brooklyn Commons\, 17 Common Way Drive\, Brooklyn\, Connecticut\, 06334\, United States
END:VEVENT
BEGIN:VEVENT
DTSTART;TZID=America/New_York:20231025T160000
DTEND;TZID=America/New_York:20231025T190000
DTSTAMP:20260423T155414
CREATED:20210526T150846Z
LAST-MODIFIED:20210526T150846Z
UID:10002505-1698249600-1698260400@ctgrown.org
SUMMARY:Andover Farmers' Market
DESCRIPTION:Andover Farmers’ Market \n\n\n\nWed\, 4 PM-7 PM359 Route 6 May 5 to Nov 6andoverct.org \n\n\n\nhttps://www.andoverconnecticut.org/home/events/10136S/FMNP \n\n\n\nhttps://www.facebook.com/andoverfarmersmarketct
URL:https://ctgrown.org/event/andover-farmers-market/2023-10-25/
CATEGORIES:Farmers Market
END:VEVENT
BEGIN:VEVENT
DTSTART;TZID=America/New_York:20231025T160000
DTEND;TZID=America/New_York:20231025T190000
DTSTAMP:20260423T155414
CREATED:20230608T141725Z
LAST-MODIFIED:20230608T141727Z
UID:10006622-1698249600-1698260400@ctgrown.org
SUMMARY:Northwest Park Farmers Market - Manchester
DESCRIPTION:
URL:https://ctgrown.org/event/northwest-park-farmers-market-manchester/2023-10-25/
LOCATION:Northwest Park\, 448 Tolland Turnpike\, Manchester\, Connecticut\, 06042\, United States
END:VEVENT
BEGIN:VEVENT
DTSTART;TZID=America/New_York:20231026T090000
DTEND;TZID=America/New_York:20231026T120000
DTSTAMP:20260423T155414
CREATED:20230505T191701Z
LAST-MODIFIED:20230505T191706Z
UID:10005533-1698310800-1698321600@ctgrown.org
SUMMARY:Northeast CT Farmers Market - Putnam
DESCRIPTION:
URL:https://ctgrown.org/event/northeast-ct-farmers-market-putnam/2023-10-26/
LOCATION:Riverview Marketplace\, 18 Kennedy Drive\, Putnam\, Connecticut\, 06260\, United States
END:VEVENT
BEGIN:VEVENT
DTSTART;TZID=America/New_York:20231026T090000
DTEND;TZID=America/New_York:20231026T130000
DTSTAMP:20260423T155414
CREATED:20230707T190959Z
LAST-MODIFIED:20230707T191001Z
UID:10007910-1698310800-1698325200@ctgrown.org
SUMMARY:Brass City Harvest Farmers Market
DESCRIPTION:
URL:https://ctgrown.org/event/brass-city-harvest-farmers-market/2023-10-26/
LOCATION:Waterbury Green\, West Main Street and North Main Street\, Waterbury\, Connecticut\, 06702\, United States
END:VEVENT
BEGIN:VEVENT
DTSTART;TZID=America/New_York:20231026T100000
DTEND;TZID=America/New_York:20231026T140000
DTSTAMP:20260423T155414
CREATED:20230608T134542Z
LAST-MODIFIED:20230608T134546Z
UID:10006392-1698314400-1698328800@ctgrown.org
SUMMARY:Westport Farmers Market
DESCRIPTION:
URL:https://ctgrown.org/event/westport-farmers-market-2/2023-10-26/
LOCATION:Westport Farmers Market\, 50 Imperial Ave.\, Westport\, Connecticut\, 06880\, United States
END:VEVENT
BEGIN:VEVENT
DTSTART;TZID=America/New_York:20231026T103000
DTEND;TZID=America/New_York:20231026T140000
DTSTAMP:20260423T155414
CREATED:20230608T144451Z
LAST-MODIFIED:20230608T144453Z
UID:10006704-1698316200-1698328800@ctgrown.org
SUMMARY:The Bridgeport Farmers' Market Collaborative - Downtown at McLevy
DESCRIPTION:
URL:https://ctgrown.org/event/the-bridgeport-farmers-market-collaborative-downtown-at-mclevy/2023-10-26/
LOCATION:McLevy Green\, 102 Bank Street\, Bridgeport\, Connecticut\, 06604\, United States
END:VEVENT
BEGIN:VEVENT
DTSTART;TZID=America/New_York:20231026T103000
DTEND;TZID=America/New_York:20231026T170000
DTSTAMP:20260423T155414
CREATED:20230707T184406Z
LAST-MODIFIED:20230707T184408Z
UID:10007773-1698316200-1698339600@ctgrown.org
SUMMARY:Common Ground Mobile Market - New Haven
DESCRIPTION:Locations vary; visit the website for the full schedule.
URL:https://ctgrown.org/event/common-ground-mobile-market-new-haven/2023-10-26/
END:VEVENT
BEGIN:VEVENT
DTSTART;TZID=America/New_York:20231026T140000
DTEND;TZID=America/New_York:20231026T153000
DTSTAMP:20260423T155414
CREATED:20231020T184229Z
LAST-MODIFIED:20231020T184232Z
UID:10008139-1698328800-1698334200@ctgrown.org
SUMMARY:CT Grown for CT Kids Grant Q&A
DESCRIPTION:This webinar will discuss the CT Grown for CT Kids (CTG4CTK) Grant program for projects which develop or enhance Farm to School programs in Connecticut. More information on the grant is available here; applications must be submitted by 4 p.m. on December 14th\, 2023. \n\n\n\n\n\n\n\nA recording of this webinar will be posted on www.CTGrown.gov/grants under the CT Grown for CT Kids Grant tab after it is completed.
URL:https://ctgrown.org/event/ct-grown-for-ct-kids-grant-qa/
END:VEVENT
BEGIN:VEVENT
DTSTART;TZID=America/New_York:20231026T150000
DTEND;TZID=America/New_York:20231026T180000
DTSTAMP:20260423T155414
CREATED:20230607T203909Z
LAST-MODIFIED:20230607T203931Z
UID:10006220-1698332400-1698343200@ctgrown.org
SUMMARY:Farmers' Market at Guilford Fairgrounds
DESCRIPTION:
URL:https://ctgrown.org/event/farmers-market-at-guilford-fairgrounds/2023-10-26/
LOCATION:Guilford Fairgrounds\, 111 Lovers Lane\, Guilford\, Connecticut\, 06437\, United States
END:VEVENT
BEGIN:VEVENT
DTSTART;TZID=America/New_York:20231026T153000
DTEND;TZID=America/New_York:20231026T173000
DTSTAMP:20260423T155414
CREATED:20230608T145618Z
LAST-MODIFIED:20230608T145623Z
UID:10006739-1698334200-1698341400@ctgrown.org
SUMMARY:Farm Stand at Bridgeport Hospital
DESCRIPTION:
URL:https://ctgrown.org/event/farm-stand-at-bridgeport-hospital/2023-10-26/
LOCATION:Bridgeport Hospital\, Mill Hill and Grant Street\, Bridgeport\, Connecticut\, 06610\, United States
END:VEVENT
BEGIN:VEVENT
DTSTART;TZID=America/New_York:20231026T153000
DTEND;TZID=America/New_York:20231026T180000
DTSTAMP:20260423T155414
CREATED:20230608T140545Z
LAST-MODIFIED:20230608T140547Z
UID:10006565-1698334200-1698343200@ctgrown.org
SUMMARY:Putnam Riverview Marketplace
DESCRIPTION:
URL:https://ctgrown.org/event/putnam-riverview-marketplace/2023-10-26/
LOCATION:Riverview Marketplace\, 18 Kennedy Drive\, Putnam\, Connecticut\, 06260\, United States
END:VEVENT
BEGIN:VEVENT
DTSTART;TZID=America/New_York:20231026T160000
DTEND;TZID=America/New_York:20231026T190000
DTSTAMP:20260423T155414
CREATED:20230630T141949Z
LAST-MODIFIED:20230630T141952Z
UID:10007422-1698336000-1698346800@ctgrown.org
SUMMARY:Nichols Farmers Market
DESCRIPTION:
URL:https://ctgrown.org/event/nichols-farmers-market/2023-10-26/
LOCATION:Moore Ballfields\, 239 Unity Road\, Trumbull\, Connecticut\, 06611\, United States
END:VEVENT
BEGIN:VEVENT
DTSTART;TZID=America/New_York:20231027T000000
DTEND;TZID=America/New_York:20231027T160000
DTSTAMP:20260423T155414
CREATED:20230608T145912Z
LAST-MODIFIED:20230608T145915Z
UID:10006760-1698364800-1698422400@ctgrown.org
SUMMARY:Alliance for Community Empowerment Farmers Market
DESCRIPTION:
URL:https://ctgrown.org/event/alliance-for-community-empowerment-farmers-market/2023-10-27/
LOCATION:Alliance for Community Empowerment\, 1070 Park Ave.\, Bridgeport\, Connecticut\, 06604\, United States
END:VEVENT
BEGIN:VEVENT
DTSTART;TZID=America/New_York:20231027T100000
DTEND;TZID=America/New_York:20231027T130000
DTSTAMP:20260423T155414
CREATED:20230516T013317Z
LAST-MODIFIED:20230516T013318Z
UID:10005553-1698400800-1698411600@ctgrown.org
SUMMARY:Ansonia Farmers Market
DESCRIPTION:
URL:https://ctgrown.org/event/ansonia-farmers-market-4/2023-10-27/
LOCATION:Main Street and Railroad Ave.\, 144 Main Street\, Ansonia\, Connecticut\, 06401\, United States
END:VEVENT
BEGIN:VEVENT
DTSTART;TZID=America/New_York:20231027T103000
DTEND;TZID=America/New_York:20231027T170000
DTSTAMP:20260423T155414
CREATED:20230707T184406Z
LAST-MODIFIED:20230707T184408Z
UID:10007774-1698402600-1698426000@ctgrown.org
SUMMARY:Common Ground Mobile Market - New Haven
DESCRIPTION:Locations vary; visit the website for the full schedule.
URL:https://ctgrown.org/event/common-ground-mobile-market-new-haven/2023-10-27/
END:VEVENT
BEGIN:VEVENT
DTSTART;TZID=America/New_York:20231027T140000
DTEND;TZID=America/New_York:20231027T170000
DTSTAMP:20260423T155414
CREATED:20230707T184543Z
LAST-MODIFIED:20230707T184545Z
UID:10007803-1698415200-1698426000@ctgrown.org
SUMMARY:New London Farm Stand
DESCRIPTION:
URL:https://ctgrown.org/event/new-london-farm-stand/2023-10-27/
LOCATION:Lawrence and Memorial Hospital\, 365 Montauk Ave.\, New London\, Connecticut\, 06320\, United States
END:VEVENT
BEGIN:VEVENT
DTSTART;TZID=America/New_York:20231027T150000
DTEND;TZID=America/New_York:20231027T180000
DTSTAMP:20260423T155414
CREATED:20230502T010435Z
LAST-MODIFIED:20230502T010438Z
UID:10005233-1698418800-1698429600@ctgrown.org
SUMMARY:Madison Farmers' Market
DESCRIPTION:
URL:https://ctgrown.org/event/madison-farmers-market-2/2023-10-27/
LOCATION:Madison Town Green\, 26 Meeting House Lane\, Madison\, Connecticut\, 06443\, United States
END:VEVENT
BEGIN:VEVENT
DTSTART;TZID=America/New_York:20231027T150000
DTEND;TZID=America/New_York:20231027T180000
DTSTAMP:20260423T155414
CREATED:20230607T205028Z
LAST-MODIFIED:20230607T205030Z
UID:10006273-1698418800-1698429600@ctgrown.org
SUMMARY:Kent Farmers Market
DESCRIPTION:
URL:https://ctgrown.org/event/kent-farmers-market-2/2023-10-27/
LOCATION:Kent Land Trust Field\, 37 South Main Street\, Kent\, Connecticut\, 06757\, United States
END:VEVENT
BEGIN:VEVENT
DTSTART;TZID=America/New_York:20231027T150000
DTEND;TZID=America/New_York:20231027T180000
DTSTAMP:20260423T155414
CREATED:20230608T014515Z
LAST-MODIFIED:20230608T014517Z
UID:10006367-1698418800-1698429600@ctgrown.org
SUMMARY:Madison Farmers' Market
DESCRIPTION:
URL:https://ctgrown.org/event/madison-farmers-market-3/2023-10-27/
LOCATION:Madison Town Green\, 26 Meeting House Lane\, Madison\, Connecticut\, 06443\, United States
END:VEVENT
BEGIN:VEVENT
DTSTART;TZID=America/New_York:20231028T060000
DTEND;TZID=America/New_York:20231028T090000
DTSTAMP:20260423T155414
CREATED:20230405T195907Z
LAST-MODIFIED:20230405T195908Z
UID:10005139-1698472800-1698483600@ctgrown.org
SUMMARY:Hartford Regional Market
DESCRIPTION:This seasonal farmers’ market on the pavilion at the Connecticut Regional Market offers products like fresh fruits and vegetables\, plants\, eggs\, and honey.
URL:https://ctgrown.org/event/hartford-regional-market-4/2023-10-28/
LOCATION:Connecticut Regional Market\, 101 Reserve Road\, Hartford\, Connecticut\, 06114\, United States
END:VEVENT
BEGIN:VEVENT
DTSTART;TZID=America/New_York:20231028T090000
DTEND;TZID=America/New_York:20231028T120000
DTSTAMP:20260423T155414
CREATED:20230502T005632Z
LAST-MODIFIED:20230502T005738Z
UID:10005205-1698483600-1698494400@ctgrown.org
SUMMARY:Shelton Farmers Market
DESCRIPTION:
URL:https://ctgrown.org/event/shelton-farmers-market-2/2023-10-28/
LOCATION:Shelton Farmers Market\, 100 Canal Street East\, Shelton\, Connecticut\, 06484\, United States
END:VEVENT
BEGIN:VEVENT
DTSTART;TZID=America/New_York:20231028T090000
DTEND;TZID=America/New_York:20231028T120000
DTSTAMP:20260423T155414
CREATED:20230502T010007Z
LAST-MODIFIED:20230628T012841Z
UID:10007126-1698483600-1698494400@ctgrown.org
SUMMARY:Ellington Farmers Market
DESCRIPTION:
URL:https://ctgrown.org/event/ellington-farmers-market-2/2023-10-28/
LOCATION:Arbor Park\, Main Street and Arbor Way\, Ellington\, Connecticut\, 06029\, United States
END:VEVENT
BEGIN:VEVENT
DTSTART;TZID=America/New_York:20231028T090000
DTEND;TZID=America/New_York:20231028T120000
DTSTAMP:20260423T155414
CREATED:20230505T190207Z
LAST-MODIFIED:20230505T190210Z
UID:10005468-1698483600-1698494400@ctgrown.org
SUMMARY:Northeast CT Farmers Market - Killingly
DESCRIPTION:
URL:https://ctgrown.org/event/northeast-ct-farmers-market-killingly/2023-10-28/
LOCATION:Killingly Public Library\, 25 Westcott Road\, Danielson\, Connecticut\, 06239\, United States
END:VEVENT
BEGIN:VEVENT
DTSTART;TZID=America/New_York:20231028T090000
DTEND;TZID=America/New_York:20231028T120000
DTSTAMP:20260423T155414
CREATED:20230608T135837Z
LAST-MODIFIED:20230608T135839Z
UID:10006503-1698483600-1698494400@ctgrown.org
SUMMARY:NECT Farmers Markets - Killingly
DESCRIPTION:
URL:https://ctgrown.org/event/nect-farmers-markets-killingly/2023-10-28/
LOCATION:Killingly Public Library\, 25 Westcott Road\, Danielson\, Connecticut\, 06239\, United States
END:VEVENT
BEGIN:VEVENT
DTSTART;TZID=America/New_York:20231028T090000
DTEND;TZID=America/New_York:20231028T120000
DTSTAMP:20260423T155414
CREATED:20230616T015959Z
LAST-MODIFIED:20230616T020006Z
UID:10007023-1698483600-1698494400@ctgrown.org
SUMMARY:New Milford Farmers Market
DESCRIPTION:
URL:https://ctgrown.org/event/new-milford-farmers-market-2/2023-10-28/
LOCATION:New Milford Town Green\, 25 Main Street\, New Milford\, Connecticut\, 06776\, United States
END:VEVENT
BEGIN:VEVENT
DTSTART;TZID=America/New_York:20231028T090000
DTEND;TZID=America/New_York:20231028T120000
DTSTAMP:20260423T155414
CREATED:20230630T140715Z
LAST-MODIFIED:20230630T140718Z
UID:10007376-1698483600-1698494400@ctgrown.org
SUMMARY:Shelton Farmers Market
DESCRIPTION:
URL:https://ctgrown.org/event/shelton-farmers-market-3/2023-10-28/
LOCATION:Shelton Farmers Market\, 100 Canal Street East\, Shelton\, Connecticut\, 06484\, United States
END:VEVENT
BEGIN:VEVENT
DTSTART;TZID=America/New_York:20231028T090000
DTEND;TZID=America/New_York:20231028T123000
DTSTAMP:20260423T155414
CREATED:20230531T015009Z
LAST-MODIFIED:20230531T015012Z
UID:10005725-1698483600-1698496200@ctgrown.org
SUMMARY:Cornwall Co-op Farm Market
DESCRIPTION:
URL:https://ctgrown.org/event/cornwall-co-op-farm-market-2/2023-10-28/
LOCATION:Cornwall Town Hall\, 16 Pine Street\, Cornwall\, Connecticut\, 06796\, United States
END:VEVENT
BEGIN:VEVENT
DTSTART;TZID=America/New_York:20231028T090000
DTEND;TZID=America/New_York:20231028T123000
DTSTAMP:20260423T155414
CREATED:20230623T013129Z
LAST-MODIFIED:20230623T013130Z
UID:10007113-1698483600-1698496200@ctgrown.org
SUMMARY:Old Saybrook Farmers Market
DESCRIPTION:
URL:https://ctgrown.org/event/old-saybrook-farmers-market-2/2023-10-28/
LOCATION:Old Saybrook Farmers Market\, 210 Main Street\, Old Saybrook\, Connecticut\, 06475\, United States
END:VEVENT
BEGIN:VEVENT
DTSTART;TZID=America/New_York:20231028T090000
DTEND;TZID=America/New_York:20231028T130000
DTSTAMP:20260423T155414
CREATED:20230502T012423Z
LAST-MODIFIED:20230502T012426Z
UID:10005329-1698483600-1698498000@ctgrown.org
SUMMARY:CitySeed Farmers Market - Wooster Square
DESCRIPTION:
URL:https://ctgrown.org/event/cityseed-farmers-market-wooster-square/2023-10-28/
LOCATION:Wooster Square\, 511 Chapel Street\, New Haven\, Connecticut\, 06511\, United States
END:VEVENT
END:VCALENDAR