BEGIN:VCALENDAR
VERSION:2.0
PRODID:-//CT Grown - ECPv6.15.18//NONSGML v1.0//EN
CALSCALE:GREGORIAN
METHOD:PUBLISH
X-WR-CALNAME:CT Grown
X-ORIGINAL-URL:https://ctgrown.org
X-WR-CALDESC:Events for CT Grown
REFRESH-INTERVAL;VALUE=DURATION:PT1H
X-Robots-Tag:noindex
X-PUBLISHED-TTL:PT1H
BEGIN:VTIMEZONE
TZID:America/New_York
BEGIN:DAYLIGHT
TZOFFSETFROM:-0500
TZOFFSETTO:-0400
TZNAME:EDT
DTSTART:20220313T070000
END:DAYLIGHT
BEGIN:STANDARD
TZOFFSETFROM:-0400
TZOFFSETTO:-0500
TZNAME:EST
DTSTART:20221106T060000
END:STANDARD
BEGIN:DAYLIGHT
TZOFFSETFROM:-0500
TZOFFSETTO:-0400
TZNAME:EDT
DTSTART:20230312T070000
END:DAYLIGHT
BEGIN:STANDARD
TZOFFSETFROM:-0400
TZOFFSETTO:-0500
TZNAME:EST
DTSTART:20231105T060000
END:STANDARD
BEGIN:DAYLIGHT
TZOFFSETFROM:-0500
TZOFFSETTO:-0400
TZNAME:EDT
DTSTART:20240310T070000
END:DAYLIGHT
BEGIN:STANDARD
TZOFFSETFROM:-0400
TZOFFSETTO:-0500
TZNAME:EST
DTSTART:20241103T060000
END:STANDARD
END:VTIMEZONE
BEGIN:VEVENT
DTSTART;TZID=America/New_York:20231021T093000
DTEND;TZID=America/New_York:20231021T123000
DTSTAMP:20260421T160922
CREATED:20230615T011947Z
LAST-MODIFIED:20230615T011950Z
UID:10006964-1697880600-1697891400@ctgrown.org
SUMMARY:New Fairfield Farmers Market
DESCRIPTION:
URL:https://ctgrown.org/event/new-fairfield-farmers-market-2/2023-10-21/
LOCATION:Veterans Park – New Fairfield\, 23 Route 37\, New Fairfield\, Connecticut\, 06812\, United States
END:VEVENT
BEGIN:VEVENT
DTSTART;TZID=America/New_York:20231021T093000
DTEND;TZID=America/New_York:20231021T123000
DTSTAMP:20260421T160922
CREATED:20230630T135851Z
LAST-MODIFIED:20230630T135854Z
UID:10007336-1697880600-1697891400@ctgrown.org
SUMMARY:Farmers Market @ The Park - Judy Black Memorial Park and Gardens
DESCRIPTION:
URL:https://ctgrown.org/event/farmers-market-the-park-judy-black-memorial-park-and-gardens/2023-10-21/
LOCATION:Judy Black Memorial Park and Gardens\, 1 Green Hill Road\, Washington Depot\, Connecticut\, 06793\, United States
END:VEVENT
BEGIN:VEVENT
DTSTART;TZID=America/New_York:20231021T093000
DTEND;TZID=America/New_York:20231021T130000
DTSTAMP:20260421T160922
CREATED:20230614T013253Z
LAST-MODIFIED:20230614T013256Z
UID:10006873-1697880600-1697893200@ctgrown.org
SUMMARY:Greenwich Farmers Market
DESCRIPTION:
URL:https://ctgrown.org/event/greenwich-farmers-market-2/2023-10-21/
LOCATION:Arch Neck/Horseneck Lane Commuter Lot\, Arch Street and Horseneck Lane\, Greenwich\, Connecticut\, 06830\, United States
END:VEVENT
BEGIN:VEVENT
DTSTART;TZID=America/New_York:20231021T100000
DTEND;TZID=America/New_York:20231021T120000
DTSTAMP:20260421T160922
CREATED:20230502T012007Z
LAST-MODIFIED:20230502T012009Z
UID:10005298-1697882400-1697889600@ctgrown.org
SUMMARY:Tolland Farmers Market
DESCRIPTION:
URL:https://ctgrown.org/event/tolland-farmers-market-2/2023-10-21/
LOCATION:The Country Butcher\, 1032 Tolland Stage Road\, Tolland\, Connecticut\, 06084\, United States
END:VEVENT
BEGIN:VEVENT
DTSTART;TZID=America/New_York:20231021T100000
DTEND;TZID=America/New_York:20231021T130000
DTSTAMP:20260421T160922
CREATED:20230502T005437Z
LAST-MODIFIED:20230502T005441Z
UID:10005180-1697882400-1697893200@ctgrown.org
SUMMARY:Wallingford Garden Market
DESCRIPTION:
URL:https://ctgrown.org/event/wallingford-garden-market-2/2023-10-21/
LOCATION:Doolittle Park\, 78 South Elm Street\, Wallingford\, Connecticut\, 06492\, United States
END:VEVENT
BEGIN:VEVENT
DTSTART;TZID=America/New_York:20231021T100000
DTEND;TZID=America/New_York:20231021T130000
DTSTAMP:20260421T160922
CREATED:20230608T013949Z
LAST-MODIFIED:20230608T013951Z
UID:10006327-1697882400-1697893200@ctgrown.org
SUMMARY:Litchfield Hills Farm-Fresh Market
DESCRIPTION:
URL:https://ctgrown.org/event/litchfield-hills-farm-fresh-market/2023-10-21/
LOCATION:Litchfield Center School\, 125 West Street\, Litchfield\, Connecticut\, 06759\, United States
END:VEVENT
BEGIN:VEVENT
DTSTART;TZID=America/New_York:20231021T100000
DTEND;TZID=America/New_York:20231021T130000
DTSTAMP:20260421T160922
CREATED:20230630T140221Z
LAST-MODIFIED:20230630T140224Z
UID:10007357-1697882400-1697893200@ctgrown.org
SUMMARY:Wallingford Garden Market
DESCRIPTION:
URL:https://ctgrown.org/event/wallingford-garden-market-3/2023-10-21/
LOCATION:Doolittle Park\, 78 South Elm Street\, Wallingford\, Connecticut\, 06492\, United States
END:VEVENT
BEGIN:VEVENT
DTSTART;TZID=America/New_York:20231021T100000
DTEND;TZID=America/New_York:20231021T130000
DTSTAMP:20260421T160922
CREATED:20230630T144210Z
LAST-MODIFIED:20230630T144211Z
UID:10007471-1697882400-1697893200@ctgrown.org
SUMMARY:Torrington Farmers Market - Saturday
DESCRIPTION:
URL:https://ctgrown.org/event/torrington-farmers-market-saturday/2023-10-21/
LOCATION:St. Paul’s Lutheran Church\, 837 Charles Street\, Torrington\, Connecticut\, 06790\, United States
END:VEVENT
BEGIN:VEVENT
DTSTART;TZID=America/New_York:20231021T100000
DTEND;TZID=America/New_York:20231021T130000
DTSTAMP:20260421T160922
CREATED:20230711T181836Z
LAST-MODIFIED:20230711T181838Z
UID:10007955-1697882400-1697893200@ctgrown.org
SUMMARY:Putnam Saturday Farmers' Market
DESCRIPTION:
URL:https://ctgrown.org/event/putnam-saturday-farmers-market-2/2023-10-21/
LOCATION:Riverview Marketplace\, 18 Kennedy Drive\, Putnam\, Connecticut\, 06260\, United States
END:VEVENT
BEGIN:VEVENT
DTSTART;TZID=America/New_York:20231021T100000
DTEND;TZID=America/New_York:20231021T140000
DTSTAMP:20260421T160922
CREATED:20230502T013736Z
LAST-MODIFIED:20230502T013739Z
UID:10005385-1697882400-1697896800@ctgrown.org
SUMMARY:New Canaan Farmers Market
DESCRIPTION:
URL:https://ctgrown.org/event/new-canaan-farmers-market-2/2023-10-21/
LOCATION:Lumber Yard Lot\, 244 Elm Street\, New Canaan\, Connecticut\, 06840\, United States
END:VEVENT
BEGIN:VEVENT
DTSTART;TZID=America/New_York:20231021T100000
DTEND;TZID=America/New_York:20231021T140000
DTSTAMP:20260421T160922
CREATED:20230603T002208Z
LAST-MODIFIED:20230603T002211Z
UID:10005778-1697882400-1697896800@ctgrown.org
SUMMARY:Danbury Farmers' Market
DESCRIPTION:
URL:https://ctgrown.org/event/danbury-farmers-market-2/2023-10-21/
LOCATION:Danbury City Center Green\, Ives Street and Railroad Place\, Danbury\, Connecticut\, 06810\, United States
END:VEVENT
BEGIN:VEVENT
DTSTART;TZID=America/New_York:20231021T100000
DTEND;TZID=America/New_York:20231021T140000
DTSTAMP:20260421T160922
CREATED:20230608T150047Z
LAST-MODIFIED:20230608T150050Z
UID:10006779-1697882400-1697896800@ctgrown.org
SUMMARY:Green Village Initiative Reservoir Farmers Market - Bridgeport
DESCRIPTION:
URL:https://ctgrown.org/event/green-village-initiative-reservoir-farmers-market-bridgeport/2023-10-21/
LOCATION:Reservoir Community Farm\, 1469 Reservoir Ave.\, Bridgeport\, Connecticut\, 06608\, United States
END:VEVENT
BEGIN:VEVENT
DTSTART;TZID=America/New_York:20231021T100000
DTEND;TZID=America/New_York:20231021T140000
DTSTAMP:20260421T160922
CREATED:20230615T011113Z
LAST-MODIFIED:20230615T011116Z
UID:10006941-1697882400-1697896800@ctgrown.org
SUMMARY:New Canaan Farmers Market
DESCRIPTION:
URL:https://ctgrown.org/event/new-canaan-farmers-market-3/2023-10-21/
LOCATION:Lumber Yard Lot\, 244 Elm Street\, New Canaan\, Connecticut\, 06840\, United States
END:VEVENT
BEGIN:VEVENT
DTSTART;TZID=America/New_York:20231021T100000
DTEND;TZID=America/New_York:20231021T150000
DTSTAMP:20260421T160922
CREATED:20231018T002448Z
LAST-MODIFIED:20231018T002451Z
UID:10008133-1697882400-1697900400@ctgrown.org
SUMMARY:NECT Great Pumpkin Festival
DESCRIPTION:Giant pumpkin displays\, scarecrows\, family activities\, and more.
URL:https://ctgrown.org/event/nect-great-pumpkin-festival/
LOCATION:Rotary Park\, 196 Kennedy Drive\, Putnam\, Connecticut\, 06260\, United States
END:VEVENT
BEGIN:VEVENT
DTSTART;TZID=America/New_York:20231021T110000
DTEND;TZID=America/New_York:20231021T160000
DTSTAMP:20260421T160922
CREATED:20230629T203231Z
LAST-MODIFIED:20230629T203234Z
UID:10007188-1697886000-1697904000@ctgrown.org
SUMMARY:Norwalk Farmers Market - Rowayton at Pinkney Park
DESCRIPTION:
URL:https://ctgrown.org/event/norwalk-farmers-market-rowayton-at-pinkney-park/2023-10-21/
LOCATION:Pinkney Park\, 177 Rowayton Avenue\, Norwalk\, Connecticut\, 06854\, United States
END:VEVENT
BEGIN:VEVENT
DTSTART;TZID=America/New_York:20231021T110000
DTEND;TZID=America/New_York:20231021T180000
DTSTAMP:20260421T160922
CREATED:20231006T193206Z
LAST-MODIFIED:20231006T193212Z
UID:10008127-1697886000-1697911200@ctgrown.org
SUMMARY:Mystic Apple Festival
DESCRIPTION:
URL:https://ctgrown.org/event/mystic-apple-festival/2023-10-21/
LOCATION:Olde Mistick Village\, 27 Coogan Blvd\, Mystic\, Connecticut\, 06355\, United States
END:VEVENT
BEGIN:VEVENT
DTSTART;TZID=America/New_York:20231021T150000
DTEND;TZID=America/New_York:20231021T170000
DTSTAMP:20260421T160922
CREATED:20230502T014329Z
LAST-MODIFIED:20230502T014331Z
UID:10005414-1697900400-1697907600@ctgrown.org
SUMMARY:Storrs Farmers Market
DESCRIPTION:
URL:https://ctgrown.org/event/storrs-farmers-market-2/2023-10-21/
LOCATION:Mansfield Town Hall\, 4 South Eagleville Road\, Mansfield\, Connecticut\, 06268\, United States
END:VEVENT
BEGIN:VEVENT
DTSTART;TZID=America/New_York:20231021T150000
DTEND;TZID=America/New_York:20231021T180000
DTSTAMP:20260421T160922
CREATED:20230524T012317Z
LAST-MODIFIED:20230524T012321Z
UID:10005626-1697900400-1697911200@ctgrown.org
SUMMARY:Brookfield Farmers Market
DESCRIPTION:
URL:https://ctgrown.org/event/brookfield-farmers-market-3/2023-10-21/
LOCATION:Brookfield Town Hall\, 100 Pocono Road\, Brookfield\, Connecticut\, 06804\, United States
END:VEVENT
BEGIN:VEVENT
DTSTART;TZID=America/New_York:20231021T160000
DTEND;TZID=America/New_York:20231021T200000
DTSTAMP:20260421T160922
CREATED:20231020T180401Z
LAST-MODIFIED:20231020T180405Z
UID:10008134-1697904000-1697918400@ctgrown.org
SUMMARY:Plainville PumpkinFest
DESCRIPTION:Now in its ninth year\, Plainville Pumpkinfest is a downtown outdoor festival featuring live music\, a kid’s costume parade\, kid’s games\, bounce houses\, a large variety of food trucks\, spooky haunted house\, local vendors\, downtown restaurants and businesses. Proceeds benefit the Plainville Community Fund.
URL:https://ctgrown.org/event/plainville-pumpkinfest/
LOCATION:Plainville Parks & Rec\, 50 Whiting Street\, Plainville\, Connecticut\, 06062\, United States
END:VEVENT
BEGIN:VEVENT
DTSTART;TZID=America/New_York:20231022T060000
DTEND;TZID=America/New_York:20231022T090000
DTSTAMP:20260421T160922
CREATED:20230405T195907Z
LAST-MODIFIED:20230405T195908Z
UID:10005138-1697954400-1697965200@ctgrown.org
SUMMARY:Hartford Regional Market
DESCRIPTION:This seasonal farmers’ market on the pavilion at the Connecticut Regional Market offers products like fresh fruits and vegetables\, plants\, eggs\, and honey.
URL:https://ctgrown.org/event/hartford-regional-market-4/2023-10-22/
LOCATION:Connecticut Regional Market\, 101 Reserve Road\, Hartford\, Connecticut\, 06114\, United States
END:VEVENT
BEGIN:VEVENT
DTSTART;TZID=America/New_York:20231022T090000
DTEND;TZID=America/New_York:20231022T130000
DTSTAMP:20260421T160922
CREATED:20230612T202826Z
LAST-MODIFIED:20230612T202831Z
UID:10006853-1697965200-1697979600@ctgrown.org
SUMMARY:Naugatuck Farmers Market
DESCRIPTION:
URL:https://ctgrown.org/event/naugatuck-farmers-market/2023-10-22/
LOCATION:Naugatuck Green\, 21 Maple Street\, Naugatuck\, Connecticut\, 06770\, United States
END:VEVENT
BEGIN:VEVENT
DTSTART;TZID=America/New_York:20231022T090000
DTEND;TZID=America/New_York:20231022T140000
DTSTAMP:20260421T160922
CREATED:20230629T203513Z
LAST-MODIFIED:20230629T203515Z
UID:10007210-1697965200-1697983200@ctgrown.org
SUMMARY:Norwalk Farmers Market - First Congregational Church on the Green
DESCRIPTION:
URL:https://ctgrown.org/event/norwalk-farmers-market-first-congregational-church-on-the-green/2023-10-22/
LOCATION:First Congregational Church on the Green\, 3 Lewis Street\, Norwalk\, Connecticut\, 06851\, United States
END:VEVENT
BEGIN:VEVENT
DTSTART;TZID=America/New_York:20231022T090000
DTEND;TZID=America/New_York:20231022T150000
DTSTAMP:20260421T160922
CREATED:20230608T140942Z
LAST-MODIFIED:20230608T140945Z
UID:10006580-1697965200-1697986800@ctgrown.org
SUMMARY:East End NRZ Market and Cafe - Bridgeport
DESCRIPTION:
URL:https://ctgrown.org/event/east-end-nrz-market-and-cafe-bridgeport/2023-10-22/
LOCATION:East End NRZ Market & Cafe\, 1851 Stratford Ave.\, Bridgeport\, Connecticut\, 06607\, United States
END:VEVENT
BEGIN:VEVENT
DTSTART;TZID=America/New_York:20231022T100000
DTEND;TZID=America/New_York:20231022T130000
DTSTAMP:20260421T160922
CREATED:20230502T010824Z
LAST-MODIFIED:20230502T010827Z
UID:10005261-1697968800-1697979600@ctgrown.org
SUMMARY:Ashford Farmers Market
DESCRIPTION:
URL:https://ctgrown.org/event/ashford-farmers-market-4/2023-10-22/
LOCATION:Pompey Hollow Park\, 25 Tremko Lane\, Ashford\, Connecticut\, 06278\, United States
END:VEVENT
BEGIN:VEVENT
DTSTART;TZID=America/New_York:20231022T100000
DTEND;TZID=America/New_York:20231022T130000
DTSTAMP:20260421T160922
CREATED:20230601T202907Z
LAST-MODIFIED:20230601T202910Z
UID:10005746-1697968800-1697979600@ctgrown.org
SUMMARY:Coventry Farmers Market
DESCRIPTION:
URL:https://ctgrown.org/event/coventry-farmers-market-2/2023-10-22/
LOCATION:Nathan Hale Homestead\, 2299 South Street\, Coventry\, Connecticut\, 06238\, United States
END:VEVENT
BEGIN:VEVENT
DTSTART;TZID=America/New_York:20231022T100000
DTEND;TZID=America/New_York:20231022T130000
DTSTAMP:20260421T160922
CREATED:20230607T201917Z
LAST-MODIFIED:20230607T201918Z
UID:10006142-1697968800-1697979600@ctgrown.org
SUMMARY:Enfield Craft/Vendor Market
DESCRIPTION:
URL:https://ctgrown.org/event/enfield-craft-vendor-market/2023-10-22/
LOCATION:Enfield Town Green\, 81-199 Main Street\, Enfield\, Connecticut\, 06082\, United States
END:VEVENT
BEGIN:VEVENT
DTSTART;TZID=America/New_York:20231022T100000
DTEND;TZID=America/New_York:20231022T130000
DTSTAMP:20260421T160922
CREATED:20230608T135342Z
LAST-MODIFIED:20230608T135345Z
UID:10006458-1697968800-1697979600@ctgrown.org
SUMMARY:Edgewood Park Farmers Market - New Haven
DESCRIPTION:
URL:https://ctgrown.org/event/edgewood-park-farmers-market-new-haven/2023-10-22/
LOCATION:Edgewood Park\, 378 West Rock Ave.\, New Haven\, Connecticut\, 06515\, United States
END:VEVENT
BEGIN:VEVENT
DTSTART;TZID=America/New_York:20231022T100000
DTEND;TZID=America/New_York:20231022T130000
DTSTAMP:20260421T160922
CREATED:20230629T204953Z
LAST-MODIFIED:20230629T204956Z
UID:10007271-1697968800-1697979600@ctgrown.org
SUMMARY:Blue Back Farmers' Market
DESCRIPTION:
URL:https://ctgrown.org/event/blue-back-farmers-market/2023-10-22/
LOCATION:West Hartford Town Hall\, 50 South Main Street\, West Hartford\, Connecticut\, 06107\, United States
END:VEVENT
BEGIN:VEVENT
DTSTART;TZID=America/New_York:20231022T100000
DTEND;TZID=America/New_York:20231022T150000
DTSTAMP:20260421T160922
CREATED:20231020T181140Z
LAST-MODIFIED:20231020T181143Z
UID:10008135-1697968800-1697986800@ctgrown.org
SUMMARY:Beef Cattle Auction
DESCRIPTION:This year’s event will offer both in-person attendance and the opportunity for virtual and live bidding through Wolf Auction Group. An animal preview will be held at 10 a.m.\, and the auction will start at noon.
URL:https://ctgrown.org/event/beef-cattle-auction/
LOCATION:University of Connecticut Cattle Resource Unit\, Horsebarn Hill Road\, Storrs\, Connecticut\, 06269\, United States
END:VEVENT
BEGIN:VEVENT
DTSTART;TZID=America/New_York:20231022T110000
DTEND;TZID=America/New_York:20231022T180000
DTSTAMP:20260421T160922
CREATED:20231006T193206Z
LAST-MODIFIED:20231006T193212Z
UID:10008128-1697972400-1697997600@ctgrown.org
SUMMARY:Mystic Apple Festival
DESCRIPTION:
URL:https://ctgrown.org/event/mystic-apple-festival/2023-10-22/
LOCATION:Olde Mistick Village\, 27 Coogan Blvd\, Mystic\, Connecticut\, 06355\, United States
END:VEVENT
END:VCALENDAR