BEGIN:VCALENDAR
VERSION:2.0
PRODID:-//CT Grown - ECPv6.15.18//NONSGML v1.0//EN
CALSCALE:GREGORIAN
METHOD:PUBLISH
X-ORIGINAL-URL:https://ctgrown.org
X-WR-CALDESC:Events for CT Grown
REFRESH-INTERVAL;VALUE=DURATION:PT1H
X-Robots-Tag:noindex
X-PUBLISHED-TTL:PT1H
BEGIN:VTIMEZONE
TZID:America/New_York
BEGIN:DAYLIGHT
TZOFFSETFROM:-0500
TZOFFSETTO:-0400
TZNAME:EDT
DTSTART:20220313T070000
END:DAYLIGHT
BEGIN:STANDARD
TZOFFSETFROM:-0400
TZOFFSETTO:-0500
TZNAME:EST
DTSTART:20221106T060000
END:STANDARD
BEGIN:DAYLIGHT
TZOFFSETFROM:-0500
TZOFFSETTO:-0400
TZNAME:EDT
DTSTART:20230312T070000
END:DAYLIGHT
BEGIN:STANDARD
TZOFFSETFROM:-0400
TZOFFSETTO:-0500
TZNAME:EST
DTSTART:20231105T060000
END:STANDARD
BEGIN:DAYLIGHT
TZOFFSETFROM:-0500
TZOFFSETTO:-0400
TZNAME:EDT
DTSTART:20240310T070000
END:DAYLIGHT
BEGIN:STANDARD
TZOFFSETFROM:-0400
TZOFFSETTO:-0500
TZNAME:EST
DTSTART:20241103T060000
END:STANDARD
END:VTIMEZONE
BEGIN:VEVENT
DTSTART;TZID=America/New_York:20231014T093000
DTEND;TZID=America/New_York:20231014T123000
DTSTAMP:20260419T122132
CREATED:20230615T011947Z
LAST-MODIFIED:20230615T011950Z
UID:10006963-1697275800-1697286600@ctgrown.org
SUMMARY:New Fairfield Farmers Market
DESCRIPTION:
URL:https://ctgrown.org/event/new-fairfield-farmers-market-2/2023-10-14/
LOCATION:Veterans Park – New Fairfield\, 23 Route 37\, New Fairfield\, Connecticut\, 06812\, United States
END:VEVENT
BEGIN:VEVENT
DTSTART;TZID=America/New_York:20231014T093000
DTEND;TZID=America/New_York:20231014T123000
DTSTAMP:20260419T122132
CREATED:20230630T135851Z
LAST-MODIFIED:20230630T135854Z
UID:10007335-1697275800-1697286600@ctgrown.org
SUMMARY:Farmers Market @ The Park - Judy Black Memorial Park and Gardens
DESCRIPTION:
URL:https://ctgrown.org/event/farmers-market-the-park-judy-black-memorial-park-and-gardens/2023-10-14/
LOCATION:Judy Black Memorial Park and Gardens\, 1 Green Hill Road\, Washington Depot\, Connecticut\, 06793\, United States
END:VEVENT
BEGIN:VEVENT
DTSTART;TZID=America/New_York:20231014T093000
DTEND;TZID=America/New_York:20231014T130000
DTSTAMP:20260419T122132
CREATED:20230614T013253Z
LAST-MODIFIED:20230614T013256Z
UID:10006872-1697275800-1697288400@ctgrown.org
SUMMARY:Greenwich Farmers Market
DESCRIPTION:
URL:https://ctgrown.org/event/greenwich-farmers-market-2/2023-10-14/
LOCATION:Arch Neck/Horseneck Lane Commuter Lot\, Arch Street and Horseneck Lane\, Greenwich\, Connecticut\, 06830\, United States
END:VEVENT
BEGIN:VEVENT
DTSTART;TZID=America/New_York:20231014T100000
DTEND;TZID=America/New_York:20231014T120000
DTSTAMP:20260419T122132
CREATED:20230502T012007Z
LAST-MODIFIED:20230502T012009Z
UID:10005297-1697277600-1697284800@ctgrown.org
SUMMARY:Tolland Farmers Market
DESCRIPTION:
URL:https://ctgrown.org/event/tolland-farmers-market-2/2023-10-14/
LOCATION:The Country Butcher\, 1032 Tolland Stage Road\, Tolland\, Connecticut\, 06084\, United States
END:VEVENT
BEGIN:VEVENT
DTSTART;TZID=America/New_York:20231014T100000
DTEND;TZID=America/New_York:20231014T130000
DTSTAMP:20260419T122132
CREATED:20230502T005437Z
LAST-MODIFIED:20230502T005441Z
UID:10005179-1697277600-1697288400@ctgrown.org
SUMMARY:Wallingford Garden Market
DESCRIPTION:
URL:https://ctgrown.org/event/wallingford-garden-market-2/2023-10-14/
LOCATION:Doolittle Park\, 78 South Elm Street\, Wallingford\, Connecticut\, 06492\, United States
END:VEVENT
BEGIN:VEVENT
DTSTART;TZID=America/New_York:20231014T100000
DTEND;TZID=America/New_York:20231014T130000
DTSTAMP:20260419T122132
CREATED:20230517T135813Z
LAST-MODIFIED:20230517T135817Z
UID:10005607-1697277600-1697288400@ctgrown.org
SUMMARY:Bristol Farmers Market
DESCRIPTION:
URL:https://ctgrown.org/event/bristol-farmers-market-3/2023-10-14/
LOCATION:Bristol Health Medical Care Center\, 15 Riverside Ave.\, Bristol\, Connecticut\, 06010\, United States
END:VEVENT
BEGIN:VEVENT
DTSTART;TZID=America/New_York:20231014T100000
DTEND;TZID=America/New_York:20231014T130000
DTSTAMP:20260419T122132
CREATED:20230531T014739Z
LAST-MODIFIED:20230531T014741Z
UID:10005703-1697277600-1697288400@ctgrown.org
SUMMARY:West Cornwall Farm Market
DESCRIPTION:
URL:https://ctgrown.org/event/west-cornwall-farm-market/2023-10-14/
LOCATION:West Cornwall Farm Market\, 413 Sharon-Goshen Turnpike\, Cornwall\, Connecticut\, 06796\, United States
END:VEVENT
BEGIN:VEVENT
DTSTART;TZID=America/New_York:20231014T100000
DTEND;TZID=America/New_York:20231014T130000
DTSTAMP:20260419T122132
CREATED:20230608T013949Z
LAST-MODIFIED:20230608T013951Z
UID:10006326-1697277600-1697288400@ctgrown.org
SUMMARY:Litchfield Hills Farm-Fresh Market
DESCRIPTION:
URL:https://ctgrown.org/event/litchfield-hills-farm-fresh-market/2023-10-14/
LOCATION:Litchfield Center School\, 125 West Street\, Litchfield\, Connecticut\, 06759\, United States
END:VEVENT
BEGIN:VEVENT
DTSTART;TZID=America/New_York:20231014T100000
DTEND;TZID=America/New_York:20231014T130000
DTSTAMP:20260419T122132
CREATED:20230629T205913Z
LAST-MODIFIED:20230629T205916Z
UID:10007303-1697277600-1697288400@ctgrown.org
SUMMARY:Waterford Farmers Market
DESCRIPTION:
URL:https://ctgrown.org/event/waterford-farmers-market-2/2023-10-14/
LOCATION:Waterford Community Center\, 24 Rope Ferry Road\, Waterford\, Connecticut\, 06385\, United States
END:VEVENT
BEGIN:VEVENT
DTSTART;TZID=America/New_York:20231014T100000
DTEND;TZID=America/New_York:20231014T130000
DTSTAMP:20260419T122132
CREATED:20230630T140221Z
LAST-MODIFIED:20230630T140224Z
UID:10007356-1697277600-1697288400@ctgrown.org
SUMMARY:Wallingford Garden Market
DESCRIPTION:
URL:https://ctgrown.org/event/wallingford-garden-market-3/2023-10-14/
LOCATION:Doolittle Park\, 78 South Elm Street\, Wallingford\, Connecticut\, 06492\, United States
END:VEVENT
BEGIN:VEVENT
DTSTART;TZID=America/New_York:20231014T100000
DTEND;TZID=America/New_York:20231014T130000
DTSTAMP:20260419T122132
CREATED:20230630T144210Z
LAST-MODIFIED:20230630T144211Z
UID:10007470-1697277600-1697288400@ctgrown.org
SUMMARY:Torrington Farmers Market - Saturday
DESCRIPTION:
URL:https://ctgrown.org/event/torrington-farmers-market-saturday/2023-10-14/
LOCATION:St. Paul’s Lutheran Church\, 837 Charles Street\, Torrington\, Connecticut\, 06790\, United States
END:VEVENT
BEGIN:VEVENT
DTSTART;TZID=America/New_York:20231014T100000
DTEND;TZID=America/New_York:20231014T130000
DTSTAMP:20260419T122132
CREATED:20230711T181836Z
LAST-MODIFIED:20230711T181838Z
UID:10007954-1697277600-1697288400@ctgrown.org
SUMMARY:Putnam Saturday Farmers' Market
DESCRIPTION:
URL:https://ctgrown.org/event/putnam-saturday-farmers-market-2/2023-10-14/
LOCATION:Riverview Marketplace\, 18 Kennedy Drive\, Putnam\, Connecticut\, 06260\, United States
END:VEVENT
BEGIN:VEVENT
DTSTART;TZID=America/New_York:20231014T100000
DTEND;TZID=America/New_York:20231014T140000
DTSTAMP:20260419T122132
CREATED:20230502T013736Z
LAST-MODIFIED:20230502T013739Z
UID:10005384-1697277600-1697292000@ctgrown.org
SUMMARY:New Canaan Farmers Market
DESCRIPTION:
URL:https://ctgrown.org/event/new-canaan-farmers-market-2/2023-10-14/
LOCATION:Lumber Yard Lot\, 244 Elm Street\, New Canaan\, Connecticut\, 06840\, United States
END:VEVENT
BEGIN:VEVENT
DTSTART;TZID=America/New_York:20231014T100000
DTEND;TZID=America/New_York:20231014T140000
DTSTAMP:20260419T122132
CREATED:20230603T002208Z
LAST-MODIFIED:20230603T002211Z
UID:10005777-1697277600-1697292000@ctgrown.org
SUMMARY:Danbury Farmers' Market
DESCRIPTION:
URL:https://ctgrown.org/event/danbury-farmers-market-2/2023-10-14/
LOCATION:Danbury City Center Green\, Ives Street and Railroad Place\, Danbury\, Connecticut\, 06810\, United States
END:VEVENT
BEGIN:VEVENT
DTSTART;TZID=America/New_York:20231014T100000
DTEND;TZID=America/New_York:20231014T140000
DTSTAMP:20260419T122132
CREATED:20230608T150047Z
LAST-MODIFIED:20230608T150050Z
UID:10006778-1697277600-1697292000@ctgrown.org
SUMMARY:Green Village Initiative Reservoir Farmers Market - Bridgeport
DESCRIPTION:
URL:https://ctgrown.org/event/green-village-initiative-reservoir-farmers-market-bridgeport/2023-10-14/
LOCATION:Reservoir Community Farm\, 1469 Reservoir Ave.\, Bridgeport\, Connecticut\, 06608\, United States
END:VEVENT
BEGIN:VEVENT
DTSTART;TZID=America/New_York:20231014T100000
DTEND;TZID=America/New_York:20231014T140000
DTSTAMP:20260419T122132
CREATED:20230615T011113Z
LAST-MODIFIED:20230615T011116Z
UID:10006940-1697277600-1697292000@ctgrown.org
SUMMARY:New Canaan Farmers Market
DESCRIPTION:
URL:https://ctgrown.org/event/new-canaan-farmers-market-3/2023-10-14/
LOCATION:Lumber Yard Lot\, 244 Elm Street\, New Canaan\, Connecticut\, 06840\, United States
END:VEVENT
BEGIN:VEVENT
DTSTART;TZID=America/New_York:20231014T100000
DTEND;TZID=America/New_York:20231014T140000
DTSTAMP:20260419T122132
CREATED:20230629T204418Z
LAST-MODIFIED:20230629T204421Z
UID:10007254-1697277600-1697292000@ctgrown.org
SUMMARY:Tony Inzero Farmers Market
DESCRIPTION:
URL:https://ctgrown.org/event/tony-inzero-farmers-market/2023-10-14/
LOCATION:Oak Street Beach Parking Lot\, Savin Rock Trail\, West Haven\, Connecticut\, 06516\, United States
END:VEVENT
BEGIN:VEVENT
DTSTART;TZID=America/New_York:20231014T100000
DTEND;TZID=America/New_York:20231014T220000
DTSTAMP:20260419T122132
CREATED:20231013T191738Z
LAST-MODIFIED:20231013T191741Z
UID:10008131-1697277600-1697320800@ctgrown.org
SUMMARY:Glastonbury Apple Harvest & Music Festival
DESCRIPTION:
URL:https://ctgrown.org/event/glastonbury-apple-harvest-music-festival/2023-10-14/
LOCATION:Riverfront Park\, 300 Welles Street\, Glastonbury\, Connecticut\, 06033\, United States
END:VEVENT
BEGIN:VEVENT
DTSTART;TZID=America/New_York:20231014T110000
DTEND;TZID=America/New_York:20231014T160000
DTSTAMP:20260419T122132
CREATED:20230629T203231Z
LAST-MODIFIED:20230629T203234Z
UID:10007187-1697281200-1697299200@ctgrown.org
SUMMARY:Norwalk Farmers Market - Rowayton at Pinkney Park
DESCRIPTION:
URL:https://ctgrown.org/event/norwalk-farmers-market-rowayton-at-pinkney-park/2023-10-14/
LOCATION:Pinkney Park\, 177 Rowayton Avenue\, Norwalk\, Connecticut\, 06854\, United States
END:VEVENT
BEGIN:VEVENT
DTSTART;TZID=America/New_York:20231014T150000
DTEND;TZID=America/New_York:20231014T170000
DTSTAMP:20260419T122132
CREATED:20230502T014329Z
LAST-MODIFIED:20230502T014331Z
UID:10005413-1697295600-1697302800@ctgrown.org
SUMMARY:Storrs Farmers Market
DESCRIPTION:
URL:https://ctgrown.org/event/storrs-farmers-market-2/2023-10-14/
LOCATION:Mansfield Town Hall\, 4 South Eagleville Road\, Mansfield\, Connecticut\, 06268\, United States
END:VEVENT
BEGIN:VEVENT
DTSTART;TZID=America/New_York:20231014T150000
DTEND;TZID=America/New_York:20231014T180000
DTSTAMP:20260419T122132
CREATED:20230524T012317Z
LAST-MODIFIED:20230524T012321Z
UID:10005625-1697295600-1697306400@ctgrown.org
SUMMARY:Brookfield Farmers Market
DESCRIPTION:
URL:https://ctgrown.org/event/brookfield-farmers-market-3/2023-10-14/
LOCATION:Brookfield Town Hall\, 100 Pocono Road\, Brookfield\, Connecticut\, 06804\, United States
END:VEVENT
BEGIN:VEVENT
DTSTART;TZID=America/New_York:20231014T160000
DTEND;TZID=America/New_York:20231014T190000
DTSTAMP:20260419T122132
CREATED:20230630T143830Z
LAST-MODIFIED:20230630T143832Z
UID:10007454-1697299200-1697310000@ctgrown.org
SUMMARY:Bozrah Farmers Market
DESCRIPTION:
URL:https://ctgrown.org/event/bozrah-farmers-market-2/2023-10-14/
LOCATION:Maples Farm Park\, 45 Bozrah Street\, Bozrah\, Connecticut\, 06334\, United States
END:VEVENT
BEGIN:VEVENT
DTSTART;TZID=America/New_York:20231015T060000
DTEND;TZID=America/New_York:20231015T090000
DTSTAMP:20260419T122132
CREATED:20230405T195907Z
LAST-MODIFIED:20230405T195908Z
UID:10005136-1697349600-1697360400@ctgrown.org
SUMMARY:Hartford Regional Market
DESCRIPTION:This seasonal farmers’ market on the pavilion at the Connecticut Regional Market offers products like fresh fruits and vegetables\, plants\, eggs\, and honey.
URL:https://ctgrown.org/event/hartford-regional-market-4/2023-10-15/
LOCATION:Connecticut Regional Market\, 101 Reserve Road\, Hartford\, Connecticut\, 06114\, United States
END:VEVENT
BEGIN:VEVENT
DTSTART;TZID=America/New_York:20231015T080000
DTEND;TZID=America/New_York:20231015T170000
DTSTAMP:20260419T122132
CREATED:20230927T001105Z
LAST-MODIFIED:20230927T001108Z
UID:10008119-1697356800-1697389200@ctgrown.org
SUMMARY:Riverton Fair
DESCRIPTION:
URL:https://ctgrown.org/event/riverton-fair/2023-10-15/
LOCATION:Riverton Fairgrounds\, 12 Riverton Road\, Riverton\, Connecticut\, 06065\, United States
END:VEVENT
BEGIN:VEVENT
DTSTART;TZID=America/New_York:20231015T090000
DTEND;TZID=America/New_York:20231015T130000
DTSTAMP:20260419T122132
CREATED:20230531T014006Z
LAST-MODIFIED:20230531T014009Z
UID:10005683-1697360400-1697374800@ctgrown.org
SUMMARY:Colchester Farmers Market
DESCRIPTION:
URL:https://ctgrown.org/event/colchester-farmers-market-2/2023-10-15/
LOCATION:Colchester Town Green\, 98 Hayward Ave.\, Colchester\, Connecticut\, 06415\, United States
END:VEVENT
BEGIN:VEVENT
DTSTART;TZID=America/New_York:20231015T090000
DTEND;TZID=America/New_York:20231015T130000
DTSTAMP:20260419T122132
CREATED:20230612T202826Z
LAST-MODIFIED:20230612T202831Z
UID:10006852-1697360400-1697374800@ctgrown.org
SUMMARY:Naugatuck Farmers Market
DESCRIPTION:
URL:https://ctgrown.org/event/naugatuck-farmers-market/2023-10-15/
LOCATION:Naugatuck Green\, 21 Maple Street\, Naugatuck\, Connecticut\, 06770\, United States
END:VEVENT
BEGIN:VEVENT
DTSTART;TZID=America/New_York:20231015T090000
DTEND;TZID=America/New_York:20231015T140000
DTSTAMP:20260419T122132
CREATED:20230629T203513Z
LAST-MODIFIED:20230629T203515Z
UID:10007209-1697360400-1697378400@ctgrown.org
SUMMARY:Norwalk Farmers Market - First Congregational Church on the Green
DESCRIPTION:
URL:https://ctgrown.org/event/norwalk-farmers-market-first-congregational-church-on-the-green/2023-10-15/
LOCATION:First Congregational Church on the Green\, 3 Lewis Street\, Norwalk\, Connecticut\, 06851\, United States
END:VEVENT
BEGIN:VEVENT
DTSTART;TZID=America/New_York:20231015T090000
DTEND;TZID=America/New_York:20231015T150000
DTSTAMP:20260419T122132
CREATED:20230608T140942Z
LAST-MODIFIED:20230608T140945Z
UID:10006579-1697360400-1697382000@ctgrown.org
SUMMARY:East End NRZ Market and Cafe - Bridgeport
DESCRIPTION:
URL:https://ctgrown.org/event/east-end-nrz-market-and-cafe-bridgeport/2023-10-15/
LOCATION:East End NRZ Market & Cafe\, 1851 Stratford Ave.\, Bridgeport\, Connecticut\, 06607\, United States
END:VEVENT
BEGIN:VEVENT
DTSTART;TZID=America/New_York:20231015T100000
DTEND;TZID=America/New_York:20231015T130000
DTSTAMP:20260419T122132
CREATED:20230502T010824Z
LAST-MODIFIED:20230502T010827Z
UID:10005260-1697364000-1697374800@ctgrown.org
SUMMARY:Ashford Farmers Market
DESCRIPTION:
URL:https://ctgrown.org/event/ashford-farmers-market-4/2023-10-15/
LOCATION:Pompey Hollow Park\, 25 Tremko Lane\, Ashford\, Connecticut\, 06278\, United States
END:VEVENT
BEGIN:VEVENT
DTSTART;TZID=America/New_York:20231015T100000
DTEND;TZID=America/New_York:20231015T130000
DTSTAMP:20260419T122132
CREATED:20230502T013124Z
LAST-MODIFIED:20230502T013126Z
UID:10005342-1697364000-1697374800@ctgrown.org
SUMMARY:North Stonington Farmers Market
DESCRIPTION:
URL:https://ctgrown.org/event/north-stonington-farmers-market-2/2023-10-15/
LOCATION:Hewitt Farm\, Route 2 and Hewitt Road\, North Stonington\, Connecticut\, 06359\, United States
END:VEVENT
END:VCALENDAR