BEGIN:VCALENDAR
VERSION:2.0
PRODID:-//CT Grown - ECPv6.15.18//NONSGML v1.0//EN
CALSCALE:GREGORIAN
METHOD:PUBLISH
X-ORIGINAL-URL:https://ctgrown.org
X-WR-CALDESC:Events for CT Grown
REFRESH-INTERVAL;VALUE=DURATION:PT1H
X-Robots-Tag:noindex
X-PUBLISHED-TTL:PT1H
BEGIN:VTIMEZONE
TZID:America/New_York
BEGIN:DAYLIGHT
TZOFFSETFROM:-0500
TZOFFSETTO:-0400
TZNAME:EDT
DTSTART:20220313T070000
END:DAYLIGHT
BEGIN:STANDARD
TZOFFSETFROM:-0400
TZOFFSETTO:-0500
TZNAME:EST
DTSTART:20221106T060000
END:STANDARD
BEGIN:DAYLIGHT
TZOFFSETFROM:-0500
TZOFFSETTO:-0400
TZNAME:EDT
DTSTART:20230312T070000
END:DAYLIGHT
BEGIN:STANDARD
TZOFFSETFROM:-0400
TZOFFSETTO:-0500
TZNAME:EST
DTSTART:20231105T060000
END:STANDARD
BEGIN:DAYLIGHT
TZOFFSETFROM:-0500
TZOFFSETTO:-0400
TZNAME:EDT
DTSTART:20240310T070000
END:DAYLIGHT
BEGIN:STANDARD
TZOFFSETFROM:-0400
TZOFFSETTO:-0500
TZNAME:EST
DTSTART:20241103T060000
END:STANDARD
END:VTIMEZONE
BEGIN:VEVENT
DTSTART;TZID=America/New_York:20230806T100000
DTEND;TZID=America/New_York:20230806T130000
DTSTAMP:20260420T182916
CREATED:20230502T010824Z
LAST-MODIFIED:20230502T010827Z
UID:10005250-1691316000-1691326800@ctgrown.org
SUMMARY:Ashford Farmers Market
DESCRIPTION:
URL:https://ctgrown.org/event/ashford-farmers-market-4/2023-08-06/
LOCATION:Pompey Hollow Park\, 25 Tremko Lane\, Ashford\, Connecticut\, 06278\, United States
END:VEVENT
BEGIN:VEVENT
DTSTART;TZID=America/New_York:20230730T100000
DTEND;TZID=America/New_York:20230730T130000
DTSTAMP:20260420T182916
CREATED:20230502T010824Z
LAST-MODIFIED:20230502T010827Z
UID:10005249-1690711200-1690722000@ctgrown.org
SUMMARY:Ashford Farmers Market
DESCRIPTION:
URL:https://ctgrown.org/event/ashford-farmers-market-4/2023-07-30/
LOCATION:Pompey Hollow Park\, 25 Tremko Lane\, Ashford\, Connecticut\, 06278\, United States
END:VEVENT
BEGIN:VEVENT
DTSTART;TZID=America/New_York:20230723T100000
DTEND;TZID=America/New_York:20230723T130000
DTSTAMP:20260420T182916
CREATED:20230502T010824Z
LAST-MODIFIED:20230502T010827Z
UID:10005248-1690106400-1690117200@ctgrown.org
SUMMARY:Ashford Farmers Market
DESCRIPTION:
URL:https://ctgrown.org/event/ashford-farmers-market-4/2023-07-23/
LOCATION:Pompey Hollow Park\, 25 Tremko Lane\, Ashford\, Connecticut\, 06278\, United States
END:VEVENT
BEGIN:VEVENT
DTSTART;TZID=America/New_York:20230716T100000
DTEND;TZID=America/New_York:20230716T130000
DTSTAMP:20260420T182916
CREATED:20230502T010824Z
LAST-MODIFIED:20230502T010827Z
UID:10005247-1689501600-1689512400@ctgrown.org
SUMMARY:Ashford Farmers Market
DESCRIPTION:
URL:https://ctgrown.org/event/ashford-farmers-market-4/2023-07-16/
LOCATION:Pompey Hollow Park\, 25 Tremko Lane\, Ashford\, Connecticut\, 06278\, United States
END:VEVENT
BEGIN:VEVENT
DTSTART;TZID=America/New_York:20230709T100000
DTEND;TZID=America/New_York:20230709T130000
DTSTAMP:20260420T182916
CREATED:20230502T010824Z
LAST-MODIFIED:20230502T010827Z
UID:10005246-1688896800-1688907600@ctgrown.org
SUMMARY:Ashford Farmers Market
DESCRIPTION:
URL:https://ctgrown.org/event/ashford-farmers-market-4/2023-07-09/
LOCATION:Pompey Hollow Park\, 25 Tremko Lane\, Ashford\, Connecticut\, 06278\, United States
END:VEVENT
BEGIN:VEVENT
DTSTART;TZID=America/New_York:20230702T100000
DTEND;TZID=America/New_York:20230702T130000
DTSTAMP:20260420T182916
CREATED:20230502T010824Z
LAST-MODIFIED:20230502T010827Z
UID:10005245-1688292000-1688302800@ctgrown.org
SUMMARY:Ashford Farmers Market
DESCRIPTION:
URL:https://ctgrown.org/event/ashford-farmers-market-4/2023-07-02/
LOCATION:Pompey Hollow Park\, 25 Tremko Lane\, Ashford\, Connecticut\, 06278\, United States
END:VEVENT
BEGIN:VEVENT
DTSTART;TZID=America/New_York:20230625T100000
DTEND;TZID=America/New_York:20230625T130000
DTSTAMP:20260420T182916
CREATED:20230502T010824Z
LAST-MODIFIED:20230502T010827Z
UID:10005244-1687687200-1687698000@ctgrown.org
SUMMARY:Ashford Farmers Market
DESCRIPTION:
URL:https://ctgrown.org/event/ashford-farmers-market-4/2023-06-25/
LOCATION:Pompey Hollow Park\, 25 Tremko Lane\, Ashford\, Connecticut\, 06278\, United States
END:VEVENT
BEGIN:VEVENT
DTSTART;TZID=America/New_York:20230618T100000
DTEND;TZID=America/New_York:20230618T130000
DTSTAMP:20260420T182916
CREATED:20230502T010824Z
LAST-MODIFIED:20230502T010827Z
UID:10005243-1687082400-1687093200@ctgrown.org
SUMMARY:Ashford Farmers Market
DESCRIPTION:
URL:https://ctgrown.org/event/ashford-farmers-market-4/2023-06-18/
LOCATION:Pompey Hollow Park\, 25 Tremko Lane\, Ashford\, Connecticut\, 06278\, United States
END:VEVENT
BEGIN:VEVENT
DTSTART;TZID=America/New_York:20230611T100000
DTEND;TZID=America/New_York:20230611T130000
DTSTAMP:20260420T182916
CREATED:20230502T010824Z
LAST-MODIFIED:20230502T010827Z
UID:10005242-1686477600-1686488400@ctgrown.org
SUMMARY:Ashford Farmers Market
DESCRIPTION:
URL:https://ctgrown.org/event/ashford-farmers-market-4/2023-06-11/
LOCATION:Pompey Hollow Park\, 25 Tremko Lane\, Ashford\, Connecticut\, 06278\, United States
END:VEVENT
BEGIN:VEVENT
DTSTART;TZID=America/New_York:20230604T100000
DTEND;TZID=America/New_York:20230604T130000
DTSTAMP:20260420T182916
CREATED:20230502T010824Z
LAST-MODIFIED:20230502T010827Z
UID:10005241-1685872800-1685883600@ctgrown.org
SUMMARY:Ashford Farmers Market
DESCRIPTION:
URL:https://ctgrown.org/event/ashford-farmers-market-4/2023-06-04/
LOCATION:Pompey Hollow Park\, 25 Tremko Lane\, Ashford\, Connecticut\, 06278\, United States
END:VEVENT
BEGIN:VEVENT
DTSTART;TZID=America/New_York:20230528T100000
DTEND;TZID=America/New_York:20230528T130000
DTSTAMP:20260420T182916
CREATED:20230502T010824Z
LAST-MODIFIED:20230502T010827Z
UID:10005240-1685268000-1685278800@ctgrown.org
SUMMARY:Ashford Farmers Market
DESCRIPTION:
URL:https://ctgrown.org/event/ashford-farmers-market-4/2023-05-28/
LOCATION:Pompey Hollow Park\, 25 Tremko Lane\, Ashford\, Connecticut\, 06278\, United States
END:VEVENT
BEGIN:VEVENT
DTSTART;TZID=America/New_York:20230521T100000
DTEND;TZID=America/New_York:20230521T130000
DTSTAMP:20260420T182916
CREATED:20230502T010824Z
LAST-MODIFIED:20230502T010827Z
UID:10005239-1684663200-1684674000@ctgrown.org
SUMMARY:Ashford Farmers Market
DESCRIPTION:
URL:https://ctgrown.org/event/ashford-farmers-market-4/2023-05-21/
LOCATION:Pompey Hollow Park\, 25 Tremko Lane\, Ashford\, Connecticut\, 06278\, United States
END:VEVENT
BEGIN:VEVENT
DTSTART;TZID=America/New_York:20230514T100000
DTEND;TZID=America/New_York:20230514T130000
DTSTAMP:20260420T182916
CREATED:20230502T010824Z
LAST-MODIFIED:20230502T010827Z
UID:10005238-1684058400-1684069200@ctgrown.org
SUMMARY:Ashford Farmers Market
DESCRIPTION:
URL:https://ctgrown.org/event/ashford-farmers-market-4/2023-05-14/
LOCATION:Pompey Hollow Park\, 25 Tremko Lane\, Ashford\, Connecticut\, 06278\, United States
END:VEVENT
END:VCALENDAR