BEGIN:VCALENDAR
VERSION:2.0
PRODID:-//CT Grown - ECPv6.15.18//NONSGML v1.0//EN
CALSCALE:GREGORIAN
METHOD:PUBLISH
X-WR-CALNAME:CT Grown
X-ORIGINAL-URL:https://ctgrown.org
X-WR-CALDESC:Events for CT Grown
REFRESH-INTERVAL;VALUE=DURATION:PT1H
X-Robots-Tag:noindex
X-PUBLISHED-TTL:PT1H
BEGIN:VTIMEZONE
TZID:America/New_York
BEGIN:DAYLIGHT
TZOFFSETFROM:-0500
TZOFFSETTO:-0400
TZNAME:EDT
DTSTART:20220313T070000
END:DAYLIGHT
BEGIN:STANDARD
TZOFFSETFROM:-0400
TZOFFSETTO:-0500
TZNAME:EST
DTSTART:20221106T060000
END:STANDARD
BEGIN:DAYLIGHT
TZOFFSETFROM:-0500
TZOFFSETTO:-0400
TZNAME:EDT
DTSTART:20230312T070000
END:DAYLIGHT
BEGIN:STANDARD
TZOFFSETFROM:-0400
TZOFFSETTO:-0500
TZNAME:EST
DTSTART:20231105T060000
END:STANDARD
BEGIN:DAYLIGHT
TZOFFSETFROM:-0500
TZOFFSETTO:-0400
TZNAME:EDT
DTSTART:20240310T070000
END:DAYLIGHT
BEGIN:STANDARD
TZOFFSETFROM:-0400
TZOFFSETTO:-0500
TZNAME:EST
DTSTART:20241103T060000
END:STANDARD
BEGIN:DAYLIGHT
TZOFFSETFROM:-0500
TZOFFSETTO:-0400
TZNAME:EDT
DTSTART:20250309T070000
END:DAYLIGHT
BEGIN:STANDARD
TZOFFSETFROM:-0400
TZOFFSETTO:-0500
TZNAME:EST
DTSTART:20251102T060000
END:STANDARD
END:VTIMEZONE
BEGIN:VEVENT
DTSTART;TZID=America/New_York:20240915T090000
DTEND;TZID=America/New_York:20240915T190000
DTSTAMP:20260423T151236
CREATED:20240809T143733Z
LAST-MODIFIED:20240809T143736Z
UID:10008382-1726390800-1726426800@ctgrown.org
SUMMARY:Berlin Fair
DESCRIPTION:Celebrating its 75th anniversary in 2024\, this fair includes animal shows\, motor sports\, entertainment\, and more.
URL:https://ctgrown.org/event/berlin-fair-2/2024-09-15/
LOCATION:Berlin Fairgrounds\, 430 Beckley Road\, Berlin\, Connecticut\, 06037\, United States
END:VEVENT
BEGIN:VEVENT
DTSTART;TZID=America/New_York:20240914T090000
DTEND;TZID=America/New_York:20240914T220000
DTSTAMP:20260423T151236
CREATED:20240809T143733Z
LAST-MODIFIED:20240809T143736Z
UID:10008381-1726304400-1726351200@ctgrown.org
SUMMARY:Berlin Fair
DESCRIPTION:Celebrating its 75th anniversary in 2024\, this fair includes animal shows\, motor sports\, entertainment\, and more.
URL:https://ctgrown.org/event/berlin-fair-2/2024-09-14/
LOCATION:Berlin Fairgrounds\, 430 Beckley Road\, Berlin\, Connecticut\, 06037\, United States
END:VEVENT
BEGIN:VEVENT
DTSTART;TZID=America/New_York:20240913T110000
DTEND;TZID=America/New_York:20240913T220000
DTSTAMP:20260423T151236
CREATED:20240809T143733Z
LAST-MODIFIED:20240809T143736Z
UID:10008380-1726225200-1726264800@ctgrown.org
SUMMARY:Berlin Fair
DESCRIPTION:Celebrating its 75th anniversary in 2024\, this fair includes animal shows\, motor sports\, entertainment\, and more.
URL:https://ctgrown.org/event/berlin-fair-2/2024-09-13/
LOCATION:Berlin Fairgrounds\, 430 Beckley Road\, Berlin\, Connecticut\, 06037\, United States
END:VEVENT
BEGIN:VEVENT
DTSTART;TZID=America/New_York:20240912T160000
DTEND;TZID=America/New_York:20240912T200000
DTSTAMP:20260423T151236
CREATED:20240809T143733Z
LAST-MODIFIED:20240809T143736Z
UID:10008379-1726156800-1726171200@ctgrown.org
SUMMARY:Berlin Fair
DESCRIPTION:Celebrating its 75th anniversary in 2024\, this fair includes animal shows\, motor sports\, entertainment\, and more.
URL:https://ctgrown.org/event/berlin-fair-2/2024-09-12/
LOCATION:Berlin Fairgrounds\, 430 Beckley Road\, Berlin\, Connecticut\, 06037\, United States
END:VEVENT
BEGIN:VEVENT
DTSTART;TZID=America/New_York:20230917T090000
DTEND;TZID=America/New_York:20230917T190000
DTSTAMP:20260423T151236
CREATED:20230912T001950Z
LAST-MODIFIED:20230912T001955Z
UID:10008093-1694941200-1694977200@ctgrown.org
SUMMARY:Berlin Lions Agricultural Fair
DESCRIPTION:
URL:https://ctgrown.org/event/berlin-lions-agricultural-fair/2023-09-17/
LOCATION:Berlin Fairgrounds\, 430 Beckley Road\, Berlin\, Connecticut\, 06037\, United States
END:VEVENT
BEGIN:VEVENT
DTSTART;TZID=America/New_York:20230916T090000
DTEND;TZID=America/New_York:20230916T220000
DTSTAMP:20260423T151236
CREATED:20230912T001950Z
LAST-MODIFIED:20230912T001955Z
UID:10008092-1694854800-1694901600@ctgrown.org
SUMMARY:Berlin Lions Agricultural Fair
DESCRIPTION:
URL:https://ctgrown.org/event/berlin-lions-agricultural-fair/2023-09-16/
LOCATION:Berlin Fairgrounds\, 430 Beckley Road\, Berlin\, Connecticut\, 06037\, United States
END:VEVENT
BEGIN:VEVENT
DTSTART;TZID=America/New_York:20230915T110000
DTEND;TZID=America/New_York:20230915T220000
DTSTAMP:20260423T151236
CREATED:20230912T001950Z
LAST-MODIFIED:20230912T001955Z
UID:10008091-1694775600-1694815200@ctgrown.org
SUMMARY:Berlin Lions Agricultural Fair
DESCRIPTION:
URL:https://ctgrown.org/event/berlin-lions-agricultural-fair/2023-09-15/
LOCATION:Berlin Fairgrounds\, 430 Beckley Road\, Berlin\, Connecticut\, 06037\, United States
END:VEVENT
BEGIN:VEVENT
DTSTART;TZID=America/New_York:20230914T160000
DTEND;TZID=America/New_York:20230914T220000
DTSTAMP:20260423T151236
CREATED:20230912T001950Z
LAST-MODIFIED:20230912T001955Z
UID:10008090-1694707200-1694728800@ctgrown.org
SUMMARY:Berlin Lions Agricultural Fair
DESCRIPTION:
URL:https://ctgrown.org/event/berlin-lions-agricultural-fair/2023-09-14/
LOCATION:Berlin Fairgrounds\, 430 Beckley Road\, Berlin\, Connecticut\, 06037\, United States
END:VEVENT
END:VCALENDAR