BEGIN:VCALENDAR
VERSION:2.0
PRODID:-//CT Grown - ECPv6.15.18//NONSGML v1.0//EN
CALSCALE:GREGORIAN
METHOD:PUBLISH
X-WR-CALNAME:CT Grown
X-ORIGINAL-URL:https://ctgrown.org
X-WR-CALDESC:Events for CT Grown
REFRESH-INTERVAL;VALUE=DURATION:PT1H
X-Robots-Tag:noindex
X-PUBLISHED-TTL:PT1H
BEGIN:VTIMEZONE
TZID:America/New_York
BEGIN:DAYLIGHT
TZOFFSETFROM:-0500
TZOFFSETTO:-0400
TZNAME:EDT
DTSTART:20210314T070000
END:DAYLIGHT
BEGIN:STANDARD
TZOFFSETFROM:-0400
TZOFFSETTO:-0500
TZNAME:EST
DTSTART:20211107T060000
END:STANDARD
BEGIN:DAYLIGHT
TZOFFSETFROM:-0500
TZOFFSETTO:-0400
TZNAME:EDT
DTSTART:20220313T070000
END:DAYLIGHT
BEGIN:STANDARD
TZOFFSETFROM:-0400
TZOFFSETTO:-0500
TZNAME:EST
DTSTART:20221106T060000
END:STANDARD
BEGIN:DAYLIGHT
TZOFFSETFROM:-0500
TZOFFSETTO:-0400
TZNAME:EDT
DTSTART:20230312T070000
END:DAYLIGHT
BEGIN:STANDARD
TZOFFSETFROM:-0400
TZOFFSETTO:-0500
TZNAME:EST
DTSTART:20231105T060000
END:STANDARD
END:VTIMEZONE
BEGIN:VEVENT
DTSTART;TZID=America/New_York:20221115T183000
DTEND;TZID=America/New_York:20221115T200000
DTSTAMP:20260420T075616
CREATED:20221028T192744Z
LAST-MODIFIED:20221028T192745Z
UID:10004725-1668537000-1668542400@ctgrown.org
SUMMARY:New Opportunities to Sell to Wholesale Buyers
DESCRIPTION:Learn about new and existing wholesale opportunities available to farms in Northeastern CT and beyond!
URL:https://ctgrown.org/event/new-opportunities-to-sell-to-wholesale-buyers/
END:VEVENT
BEGIN:VEVENT
DTSTART;TZID=America/New_York:20221109T180000
DTEND;TZID=America/New_York:20221109T193000
DTSTAMP:20260420T075616
CREATED:20221028T192151Z
LAST-MODIFIED:20221028T192153Z
UID:10004724-1668016800-1668022200@ctgrown.org
SUMMARY:Accepting SNAP/EBT at Your Farm
DESCRIPTION:Learn more about accepting SNAP/EBT and how easy it is to apply using the MarketLink service which provides free assistance and resources.
URL:https://ctgrown.org/event/accepting-snap-ebt-at-your-farm/
END:VEVENT
BEGIN:VEVENT
DTSTART;TZID=America/New_York:20221101T183000
DTEND;TZID=America/New_York:20221101T193000
DTSTAMP:20260420T075616
CREATED:20221028T191659Z
LAST-MODIFIED:20221028T191701Z
UID:10004723-1667327400-1667331000@ctgrown.org
SUMMARY:Content Creation\, Social Media & What It Means for Your Farm
DESCRIPTION:Find out the best way to use social media and their ads to help people learn about\, and buy from\, your farm business.
URL:https://ctgrown.org/event/content-creation-social-media-what-it-means-for-your-farm/
END:VEVENT
END:VCALENDAR