BEGIN:VCALENDAR
VERSION:2.0
PRODID:-//CT Grown - ECPv6.15.18//NONSGML v1.0//EN
CALSCALE:GREGORIAN
METHOD:PUBLISH
X-WR-CALNAME:CT Grown
X-ORIGINAL-URL:https://ctgrown.org
X-WR-CALDESC:Events for CT Grown
REFRESH-INTERVAL;VALUE=DURATION:PT1H
X-Robots-Tag:noindex
X-PUBLISHED-TTL:PT1H
BEGIN:VTIMEZONE
TZID:America/New_York
BEGIN:DAYLIGHT
TZOFFSETFROM:-0500
TZOFFSETTO:-0400
TZNAME:EDT
DTSTART:20220313T070000
END:DAYLIGHT
BEGIN:STANDARD
TZOFFSETFROM:-0400
TZOFFSETTO:-0500
TZNAME:EST
DTSTART:20221106T060000
END:STANDARD
BEGIN:DAYLIGHT
TZOFFSETFROM:-0500
TZOFFSETTO:-0400
TZNAME:EDT
DTSTART:20230312T070000
END:DAYLIGHT
BEGIN:STANDARD
TZOFFSETFROM:-0400
TZOFFSETTO:-0500
TZNAME:EST
DTSTART:20231105T060000
END:STANDARD
BEGIN:DAYLIGHT
TZOFFSETFROM:-0500
TZOFFSETTO:-0400
TZNAME:EDT
DTSTART:20240310T070000
END:DAYLIGHT
BEGIN:STANDARD
TZOFFSETFROM:-0400
TZOFFSETTO:-0500
TZNAME:EST
DTSTART:20241103T060000
END:STANDARD
END:VTIMEZONE
BEGIN:VEVENT
DTSTART;TZID=America/New_York:20230301T120000
DTEND;TZID=America/New_York:20230301T131500
DTSTAMP:20260420T084252
CREATED:20230223T194311Z
LAST-MODIFIED:20230223T194315Z
UID:10005050-1677672000-1677676500@ctgrown.org
SUMMARY:Selling Value-Added Products on the Farm
DESCRIPTION:If you are a farmer interested in opening a farmstand on your property\, please join us to learn about key federal\, state and local regulations that impact small food producers who seek to make and sell value-added products from home. We will cover what’s allowed when selling meat\, eggs\, dairy\, cottage foods such as pickles and baked goods\, and more\, and explore the legal solutions that can help these businesses grow and thrive.
URL:https://ctgrown.org/event/selling-value-added-products-on-the-farm/
END:VEVENT
END:VCALENDAR