BEGIN:VCALENDAR
VERSION:2.0
PRODID:-//CT Grown - ECPv6.15.18//NONSGML v1.0//EN
CALSCALE:GREGORIAN
METHOD:PUBLISH
X-ORIGINAL-URL:https://ctgrown.org
X-WR-CALDESC:Events for CT Grown
REFRESH-INTERVAL;VALUE=DURATION:PT1H
X-Robots-Tag:noindex
X-PUBLISHED-TTL:PT1H
BEGIN:VTIMEZONE
TZID:America/New_York
BEGIN:DAYLIGHT
TZOFFSETFROM:-0500
TZOFFSETTO:-0400
TZNAME:EDT
DTSTART:20220313T070000
END:DAYLIGHT
BEGIN:STANDARD
TZOFFSETFROM:-0400
TZOFFSETTO:-0500
TZNAME:EST
DTSTART:20221106T060000
END:STANDARD
BEGIN:DAYLIGHT
TZOFFSETFROM:-0500
TZOFFSETTO:-0400
TZNAME:EDT
DTSTART:20230312T070000
END:DAYLIGHT
BEGIN:STANDARD
TZOFFSETFROM:-0400
TZOFFSETTO:-0500
TZNAME:EST
DTSTART:20231105T060000
END:STANDARD
BEGIN:DAYLIGHT
TZOFFSETFROM:-0500
TZOFFSETTO:-0400
TZNAME:EDT
DTSTART:20240310T070000
END:DAYLIGHT
BEGIN:STANDARD
TZOFFSETFROM:-0400
TZOFFSETTO:-0500
TZNAME:EST
DTSTART:20241103T060000
END:STANDARD
END:VTIMEZONE
BEGIN:VEVENT
DTSTART;TZID=America/New_York:20230723T100000
DTEND;TZID=America/New_York:20230723T130000
DTSTAMP:20260423T222028
CREATED:20230620T192417Z
LAST-MODIFIED:20230620T192423Z
UID:10007039-1690106400-1690117200@ctgrown.org
SUMMARY:North Stonington Farmers Market
DESCRIPTION:
URL:https://ctgrown.org/event/north-stonington-farmers-market-3/2023-07-23/
LOCATION:Hewitt Farm\, Route 2 and Hewitt Road\, North Stonington\, Connecticut\, 06359\, United States
END:VEVENT
BEGIN:VEVENT
DTSTART;TZID=America/New_York:20230723T100000
DTEND;TZID=America/New_York:20230723T130000
DTSTAMP:20260423T222028
CREATED:20230502T013124Z
LAST-MODIFIED:20230502T013126Z
UID:10005339-1690106400-1690117200@ctgrown.org
SUMMARY:North Stonington Farmers Market
DESCRIPTION:
URL:https://ctgrown.org/event/north-stonington-farmers-market-2/2023-07-23/
LOCATION:Hewitt Farm\, Route 2 and Hewitt Road\, North Stonington\, Connecticut\, 06359\, United States
END:VEVENT
BEGIN:VEVENT
DTSTART;TZID=America/New_York:20230618T100000
DTEND;TZID=America/New_York:20230618T130000
DTSTAMP:20260423T222028
CREATED:20230502T013124Z
LAST-MODIFIED:20230502T013126Z
UID:10005338-1687082400-1687093200@ctgrown.org
SUMMARY:North Stonington Farmers Market
DESCRIPTION:
URL:https://ctgrown.org/event/north-stonington-farmers-market-2/2023-06-18/
LOCATION:Hewitt Farm\, Route 2 and Hewitt Road\, North Stonington\, Connecticut\, 06359\, United States
END:VEVENT
BEGIN:VEVENT
DTSTART;TZID=America/New_York:20230521T100000
DTEND;TZID=America/New_York:20230521T130000
DTSTAMP:20260423T222028
CREATED:20230502T013124Z
LAST-MODIFIED:20230502T013126Z
UID:10005337-1684663200-1684674000@ctgrown.org
SUMMARY:North Stonington Farmers Market
DESCRIPTION:
URL:https://ctgrown.org/event/north-stonington-farmers-market-2/2023-05-21/
LOCATION:Hewitt Farm\, Route 2 and Hewitt Road\, North Stonington\, Connecticut\, 06359\, United States
END:VEVENT
END:VCALENDAR