BEGIN:VCALENDAR
VERSION:2.0
PRODID:-//CT Grown - ECPv6.15.18//NONSGML v1.0//EN
CALSCALE:GREGORIAN
METHOD:PUBLISH
X-WR-CALNAME:CT Grown
X-ORIGINAL-URL:https://ctgrown.org
X-WR-CALDESC:Events for CT Grown
REFRESH-INTERVAL;VALUE=DURATION:PT1H
X-Robots-Tag:noindex
X-PUBLISHED-TTL:PT1H
BEGIN:VTIMEZONE
TZID:America/New_York
BEGIN:DAYLIGHT
TZOFFSETFROM:-0500
TZOFFSETTO:-0400
TZNAME:EDT
DTSTART:20220313T070000
END:DAYLIGHT
BEGIN:STANDARD
TZOFFSETFROM:-0400
TZOFFSETTO:-0500
TZNAME:EST
DTSTART:20221106T060000
END:STANDARD
BEGIN:DAYLIGHT
TZOFFSETFROM:-0500
TZOFFSETTO:-0400
TZNAME:EDT
DTSTART:20230312T070000
END:DAYLIGHT
BEGIN:STANDARD
TZOFFSETFROM:-0400
TZOFFSETTO:-0500
TZNAME:EST
DTSTART:20231105T060000
END:STANDARD
BEGIN:DAYLIGHT
TZOFFSETFROM:-0500
TZOFFSETTO:-0400
TZNAME:EDT
DTSTART:20240310T070000
END:DAYLIGHT
BEGIN:STANDARD
TZOFFSETFROM:-0400
TZOFFSETTO:-0500
TZNAME:EST
DTSTART:20241103T060000
END:STANDARD
END:VTIMEZONE
BEGIN:VEVENT
DTSTART;TZID=America/New_York:20231031T160000
DTEND;TZID=America/New_York:20231031T180000
DTSTAMP:20260421T161944
CREATED:20230608T140351Z
LAST-MODIFIED:20230608T140354Z
UID:10006544-1698768000-1698775200@ctgrown.org
SUMMARY:Northeast CT Farmers Markets - Plainfield
DESCRIPTION:
URL:https://ctgrown.org/event/northeast-ct-farmers-markets-plainfield/2023-10-31/
LOCATION:Plainfield Early Childhood Center\, 651 Norwich Road\, Plainfield\, Connecticut\, 06374\, United States
END:VEVENT
BEGIN:VEVENT
DTSTART;TZID=America/New_York:20231028T090000
DTEND;TZID=America/New_York:20231028T120000
DTSTAMP:20260421T161944
CREATED:20230608T135837Z
LAST-MODIFIED:20230608T135839Z
UID:10006503-1698483600-1698494400@ctgrown.org
SUMMARY:NECT Farmers Markets - Killingly
DESCRIPTION:
URL:https://ctgrown.org/event/nect-farmers-markets-killingly/2023-10-28/
LOCATION:Killingly Public Library\, 25 Westcott Road\, Danielson\, Connecticut\, 06239\, United States
END:VEVENT
BEGIN:VEVENT
DTSTART;TZID=America/New_York:20231028T090000
DTEND;TZID=America/New_York:20231028T120000
DTSTAMP:20260421T161944
CREATED:20230505T190207Z
LAST-MODIFIED:20230505T190210Z
UID:10005468-1698483600-1698494400@ctgrown.org
SUMMARY:Northeast CT Farmers Market - Killingly
DESCRIPTION:
URL:https://ctgrown.org/event/northeast-ct-farmers-market-killingly/2023-10-28/
LOCATION:Killingly Public Library\, 25 Westcott Road\, Danielson\, Connecticut\, 06239\, United States
END:VEVENT
BEGIN:VEVENT
DTSTART;TZID=America/New_York:20231026T153000
DTEND;TZID=America/New_York:20231026T180000
DTSTAMP:20260421T161944
CREATED:20230608T140545Z
LAST-MODIFIED:20230608T140547Z
UID:10006565-1698334200-1698343200@ctgrown.org
SUMMARY:Putnam Riverview Marketplace
DESCRIPTION:
URL:https://ctgrown.org/event/putnam-riverview-marketplace/2023-10-26/
LOCATION:Riverview Marketplace\, 18 Kennedy Drive\, Putnam\, Connecticut\, 06260\, United States
END:VEVENT
BEGIN:VEVENT
DTSTART;TZID=America/New_York:20231026T090000
DTEND;TZID=America/New_York:20231026T120000
DTSTAMP:20260421T161944
CREATED:20230505T191701Z
LAST-MODIFIED:20230505T191706Z
UID:10005533-1698310800-1698321600@ctgrown.org
SUMMARY:Northeast CT Farmers Market - Putnam
DESCRIPTION:
URL:https://ctgrown.org/event/northeast-ct-farmers-market-putnam/2023-10-26/
LOCATION:Riverview Marketplace\, 18 Kennedy Drive\, Putnam\, Connecticut\, 06260\, United States
END:VEVENT
BEGIN:VEVENT
DTSTART;TZID=America/New_York:20231025T160000
DTEND;TZID=America/New_York:20231025T180000
DTSTAMP:20260421T161944
CREATED:20230608T140217Z
LAST-MODIFIED:20230608T140220Z
UID:10006523-1698249600-1698256800@ctgrown.org
SUMMARY:NECT Farmers Markets - Brooklyn
DESCRIPTION:
URL:https://ctgrown.org/event/nect-farmers-markets-brooklyn/2023-10-25/
LOCATION:Brooklyn Commons\, 17 Common Way Drive\, Brooklyn\, Connecticut\, 06334\, United States
END:VEVENT
BEGIN:VEVENT
DTSTART;TZID=America/New_York:20231025T160000
DTEND;TZID=America/New_York:20231025T180000
DTSTAMP:20260421T161944
CREATED:20230505T191015Z
LAST-MODIFIED:20230505T191017Z
UID:10005508-1698249600-1698256800@ctgrown.org
SUMMARY:Northeast CT Farmers Market - Brooklyn
DESCRIPTION:
URL:https://ctgrown.org/event/northeast-ct-farmers-market-brooklyn/2023-10-25/
LOCATION:Brooklyn Commons\, 17 Common Way Drive\, Brooklyn\, Connecticut\, 06334\, United States
END:VEVENT
BEGIN:VEVENT
DTSTART;TZID=America/New_York:20231024T160000
DTEND;TZID=America/New_York:20231024T180000
DTSTAMP:20260421T161944
CREATED:20230608T140351Z
LAST-MODIFIED:20230608T140354Z
UID:10006543-1698163200-1698170400@ctgrown.org
SUMMARY:Northeast CT Farmers Markets - Plainfield
DESCRIPTION:
URL:https://ctgrown.org/event/northeast-ct-farmers-markets-plainfield/2023-10-24/
LOCATION:Plainfield Early Childhood Center\, 651 Norwich Road\, Plainfield\, Connecticut\, 06374\, United States
END:VEVENT
BEGIN:VEVENT
DTSTART;TZID=America/New_York:20231024T160000
DTEND;TZID=America/New_York:20231024T180000
DTSTAMP:20260421T161944
CREATED:20230505T190450Z
LAST-MODIFIED:20230505T190752Z
UID:10005488-1698163200-1698170400@ctgrown.org
SUMMARY:Northeast CT Farmers Market - Plainfield
DESCRIPTION:
URL:https://ctgrown.org/event/northeast-ct-farmers-market-plainfield/2023-10-24/
LOCATION:Plainfield Early Childhood Center\, 651 Norwich Road\, Plainfield\, Connecticut\, 06374\, United States
END:VEVENT
BEGIN:VEVENT
DTSTART;TZID=America/New_York:20231021T090000
DTEND;TZID=America/New_York:20231021T120000
DTSTAMP:20260421T161944
CREATED:20230608T135837Z
LAST-MODIFIED:20230608T135839Z
UID:10006502-1697878800-1697889600@ctgrown.org
SUMMARY:NECT Farmers Markets - Killingly
DESCRIPTION:
URL:https://ctgrown.org/event/nect-farmers-markets-killingly/2023-10-21/
LOCATION:Killingly Public Library\, 25 Westcott Road\, Danielson\, Connecticut\, 06239\, United States
END:VEVENT
BEGIN:VEVENT
DTSTART;TZID=America/New_York:20231021T090000
DTEND;TZID=America/New_York:20231021T120000
DTSTAMP:20260421T161944
CREATED:20230505T190207Z
LAST-MODIFIED:20230505T190210Z
UID:10005467-1697878800-1697889600@ctgrown.org
SUMMARY:Northeast CT Farmers Market - Killingly
DESCRIPTION:
URL:https://ctgrown.org/event/northeast-ct-farmers-market-killingly/2023-10-21/
LOCATION:Killingly Public Library\, 25 Westcott Road\, Danielson\, Connecticut\, 06239\, United States
END:VEVENT
BEGIN:VEVENT
DTSTART;TZID=America/New_York:20231019T153000
DTEND;TZID=America/New_York:20231019T180000
DTSTAMP:20260421T161944
CREATED:20230608T140545Z
LAST-MODIFIED:20230608T140547Z
UID:10006564-1697729400-1697738400@ctgrown.org
SUMMARY:Putnam Riverview Marketplace
DESCRIPTION:
URL:https://ctgrown.org/event/putnam-riverview-marketplace/2023-10-19/
LOCATION:Riverview Marketplace\, 18 Kennedy Drive\, Putnam\, Connecticut\, 06260\, United States
END:VEVENT
BEGIN:VEVENT
DTSTART;TZID=America/New_York:20231019T090000
DTEND;TZID=America/New_York:20231019T120000
DTSTAMP:20260421T161944
CREATED:20230505T191701Z
LAST-MODIFIED:20230505T191706Z
UID:10005532-1697706000-1697716800@ctgrown.org
SUMMARY:Northeast CT Farmers Market - Putnam
DESCRIPTION:
URL:https://ctgrown.org/event/northeast-ct-farmers-market-putnam/2023-10-19/
LOCATION:Riverview Marketplace\, 18 Kennedy Drive\, Putnam\, Connecticut\, 06260\, United States
END:VEVENT
BEGIN:VEVENT
DTSTART;TZID=America/New_York:20231018T160000
DTEND;TZID=America/New_York:20231018T180000
DTSTAMP:20260421T161944
CREATED:20230608T140217Z
LAST-MODIFIED:20230608T140220Z
UID:10006522-1697644800-1697652000@ctgrown.org
SUMMARY:NECT Farmers Markets - Brooklyn
DESCRIPTION:
URL:https://ctgrown.org/event/nect-farmers-markets-brooklyn/2023-10-18/
LOCATION:Brooklyn Commons\, 17 Common Way Drive\, Brooklyn\, Connecticut\, 06334\, United States
END:VEVENT
BEGIN:VEVENT
DTSTART;TZID=America/New_York:20231018T160000
DTEND;TZID=America/New_York:20231018T180000
DTSTAMP:20260421T161944
CREATED:20230505T191015Z
LAST-MODIFIED:20230505T191017Z
UID:10005507-1697644800-1697652000@ctgrown.org
SUMMARY:Northeast CT Farmers Market - Brooklyn
DESCRIPTION:
URL:https://ctgrown.org/event/northeast-ct-farmers-market-brooklyn/2023-10-18/
LOCATION:Brooklyn Commons\, 17 Common Way Drive\, Brooklyn\, Connecticut\, 06334\, United States
END:VEVENT
BEGIN:VEVENT
DTSTART;TZID=America/New_York:20231017T160000
DTEND;TZID=America/New_York:20231017T180000
DTSTAMP:20260421T161944
CREATED:20230608T140351Z
LAST-MODIFIED:20230608T140354Z
UID:10006542-1697558400-1697565600@ctgrown.org
SUMMARY:Northeast CT Farmers Markets - Plainfield
DESCRIPTION:
URL:https://ctgrown.org/event/northeast-ct-farmers-markets-plainfield/2023-10-17/
LOCATION:Plainfield Early Childhood Center\, 651 Norwich Road\, Plainfield\, Connecticut\, 06374\, United States
END:VEVENT
BEGIN:VEVENT
DTSTART;TZID=America/New_York:20231017T160000
DTEND;TZID=America/New_York:20231017T180000
DTSTAMP:20260421T161944
CREATED:20230505T190450Z
LAST-MODIFIED:20230505T190752Z
UID:10005487-1697558400-1697565600@ctgrown.org
SUMMARY:Northeast CT Farmers Market - Plainfield
DESCRIPTION:
URL:https://ctgrown.org/event/northeast-ct-farmers-market-plainfield/2023-10-17/
LOCATION:Plainfield Early Childhood Center\, 651 Norwich Road\, Plainfield\, Connecticut\, 06374\, United States
END:VEVENT
BEGIN:VEVENT
DTSTART;TZID=America/New_York:20231014T090000
DTEND;TZID=America/New_York:20231014T120000
DTSTAMP:20260421T161944
CREATED:20230608T135837Z
LAST-MODIFIED:20230608T135839Z
UID:10006501-1697274000-1697284800@ctgrown.org
SUMMARY:NECT Farmers Markets - Killingly
DESCRIPTION:
URL:https://ctgrown.org/event/nect-farmers-markets-killingly/2023-10-14/
LOCATION:Killingly Public Library\, 25 Westcott Road\, Danielson\, Connecticut\, 06239\, United States
END:VEVENT
BEGIN:VEVENT
DTSTART;TZID=America/New_York:20231014T090000
DTEND;TZID=America/New_York:20231014T120000
DTSTAMP:20260421T161944
CREATED:20230505T190207Z
LAST-MODIFIED:20230505T190210Z
UID:10005466-1697274000-1697284800@ctgrown.org
SUMMARY:Northeast CT Farmers Market - Killingly
DESCRIPTION:
URL:https://ctgrown.org/event/northeast-ct-farmers-market-killingly/2023-10-14/
LOCATION:Killingly Public Library\, 25 Westcott Road\, Danielson\, Connecticut\, 06239\, United States
END:VEVENT
BEGIN:VEVENT
DTSTART;TZID=America/New_York:20231012T153000
DTEND;TZID=America/New_York:20231012T180000
DTSTAMP:20260421T161944
CREATED:20230608T140545Z
LAST-MODIFIED:20230608T140547Z
UID:10006563-1697124600-1697133600@ctgrown.org
SUMMARY:Putnam Riverview Marketplace
DESCRIPTION:
URL:https://ctgrown.org/event/putnam-riverview-marketplace/2023-10-12/
LOCATION:Riverview Marketplace\, 18 Kennedy Drive\, Putnam\, Connecticut\, 06260\, United States
END:VEVENT
BEGIN:VEVENT
DTSTART;TZID=America/New_York:20231012T090000
DTEND;TZID=America/New_York:20231012T120000
DTSTAMP:20260421T161944
CREATED:20230505T191701Z
LAST-MODIFIED:20230505T191706Z
UID:10005531-1697101200-1697112000@ctgrown.org
SUMMARY:Northeast CT Farmers Market - Putnam
DESCRIPTION:
URL:https://ctgrown.org/event/northeast-ct-farmers-market-putnam/2023-10-12/
LOCATION:Riverview Marketplace\, 18 Kennedy Drive\, Putnam\, Connecticut\, 06260\, United States
END:VEVENT
BEGIN:VEVENT
DTSTART;TZID=America/New_York:20231011T160000
DTEND;TZID=America/New_York:20231011T180000
DTSTAMP:20260421T161944
CREATED:20230608T140217Z
LAST-MODIFIED:20230608T140220Z
UID:10006521-1697040000-1697047200@ctgrown.org
SUMMARY:NECT Farmers Markets - Brooklyn
DESCRIPTION:
URL:https://ctgrown.org/event/nect-farmers-markets-brooklyn/2023-10-11/
LOCATION:Brooklyn Commons\, 17 Common Way Drive\, Brooklyn\, Connecticut\, 06334\, United States
END:VEVENT
BEGIN:VEVENT
DTSTART;TZID=America/New_York:20231011T160000
DTEND;TZID=America/New_York:20231011T180000
DTSTAMP:20260421T161944
CREATED:20230505T191015Z
LAST-MODIFIED:20230505T191017Z
UID:10005506-1697040000-1697047200@ctgrown.org
SUMMARY:Northeast CT Farmers Market - Brooklyn
DESCRIPTION:
URL:https://ctgrown.org/event/northeast-ct-farmers-market-brooklyn/2023-10-11/
LOCATION:Brooklyn Commons\, 17 Common Way Drive\, Brooklyn\, Connecticut\, 06334\, United States
END:VEVENT
BEGIN:VEVENT
DTSTART;TZID=America/New_York:20231010T160000
DTEND;TZID=America/New_York:20231010T180000
DTSTAMP:20260421T161944
CREATED:20230608T140351Z
LAST-MODIFIED:20230608T140354Z
UID:10006541-1696953600-1696960800@ctgrown.org
SUMMARY:Northeast CT Farmers Markets - Plainfield
DESCRIPTION:
URL:https://ctgrown.org/event/northeast-ct-farmers-markets-plainfield/2023-10-10/
LOCATION:Plainfield Early Childhood Center\, 651 Norwich Road\, Plainfield\, Connecticut\, 06374\, United States
END:VEVENT
BEGIN:VEVENT
DTSTART;TZID=America/New_York:20231010T160000
DTEND;TZID=America/New_York:20231010T180000
DTSTAMP:20260421T161944
CREATED:20230505T190450Z
LAST-MODIFIED:20230505T190752Z
UID:10005486-1696953600-1696960800@ctgrown.org
SUMMARY:Northeast CT Farmers Market - Plainfield
DESCRIPTION:
URL:https://ctgrown.org/event/northeast-ct-farmers-market-plainfield/2023-10-10/
LOCATION:Plainfield Early Childhood Center\, 651 Norwich Road\, Plainfield\, Connecticut\, 06374\, United States
END:VEVENT
BEGIN:VEVENT
DTSTART;TZID=America/New_York:20231007T090000
DTEND;TZID=America/New_York:20231007T120000
DTSTAMP:20260421T161944
CREATED:20230608T135837Z
LAST-MODIFIED:20230608T135839Z
UID:10006500-1696669200-1696680000@ctgrown.org
SUMMARY:NECT Farmers Markets - Killingly
DESCRIPTION:
URL:https://ctgrown.org/event/nect-farmers-markets-killingly/2023-10-07/
LOCATION:Killingly Public Library\, 25 Westcott Road\, Danielson\, Connecticut\, 06239\, United States
END:VEVENT
BEGIN:VEVENT
DTSTART;TZID=America/New_York:20231007T090000
DTEND;TZID=America/New_York:20231007T120000
DTSTAMP:20260421T161944
CREATED:20230505T190207Z
LAST-MODIFIED:20230505T190210Z
UID:10005465-1696669200-1696680000@ctgrown.org
SUMMARY:Northeast CT Farmers Market - Killingly
DESCRIPTION:
URL:https://ctgrown.org/event/northeast-ct-farmers-market-killingly/2023-10-07/
LOCATION:Killingly Public Library\, 25 Westcott Road\, Danielson\, Connecticut\, 06239\, United States
END:VEVENT
BEGIN:VEVENT
DTSTART;TZID=America/New_York:20231005T153000
DTEND;TZID=America/New_York:20231005T180000
DTSTAMP:20260421T161944
CREATED:20230608T140545Z
LAST-MODIFIED:20230608T140547Z
UID:10006562-1696519800-1696528800@ctgrown.org
SUMMARY:Putnam Riverview Marketplace
DESCRIPTION:
URL:https://ctgrown.org/event/putnam-riverview-marketplace/2023-10-05/
LOCATION:Riverview Marketplace\, 18 Kennedy Drive\, Putnam\, Connecticut\, 06260\, United States
END:VEVENT
BEGIN:VEVENT
DTSTART;TZID=America/New_York:20231005T090000
DTEND;TZID=America/New_York:20231005T120000
DTSTAMP:20260421T161944
CREATED:20230505T191701Z
LAST-MODIFIED:20230505T191706Z
UID:10005530-1696496400-1696507200@ctgrown.org
SUMMARY:Northeast CT Farmers Market - Putnam
DESCRIPTION:
URL:https://ctgrown.org/event/northeast-ct-farmers-market-putnam/2023-10-05/
LOCATION:Riverview Marketplace\, 18 Kennedy Drive\, Putnam\, Connecticut\, 06260\, United States
END:VEVENT
BEGIN:VEVENT
DTSTART;TZID=America/New_York:20231004T160000
DTEND;TZID=America/New_York:20231004T180000
DTSTAMP:20260421T161944
CREATED:20230608T140217Z
LAST-MODIFIED:20230608T140220Z
UID:10006520-1696435200-1696442400@ctgrown.org
SUMMARY:NECT Farmers Markets - Brooklyn
DESCRIPTION:
URL:https://ctgrown.org/event/nect-farmers-markets-brooklyn/2023-10-04/
LOCATION:Brooklyn Commons\, 17 Common Way Drive\, Brooklyn\, Connecticut\, 06334\, United States
END:VEVENT
END:VCALENDAR