BEGIN:VCALENDAR
VERSION:2.0
PRODID:-//CT Grown - ECPv6.15.18//NONSGML v1.0//EN
CALSCALE:GREGORIAN
METHOD:PUBLISH
X-WR-CALNAME:CT Grown
X-ORIGINAL-URL:https://ctgrown.org
X-WR-CALDESC:Events for CT Grown
REFRESH-INTERVAL;VALUE=DURATION:PT1H
X-Robots-Tag:noindex
X-PUBLISHED-TTL:PT1H
BEGIN:VTIMEZONE
TZID:America/New_York
BEGIN:DAYLIGHT
TZOFFSETFROM:-0500
TZOFFSETTO:-0400
TZNAME:EDT
DTSTART:20220313T070000
END:DAYLIGHT
BEGIN:STANDARD
TZOFFSETFROM:-0400
TZOFFSETTO:-0500
TZNAME:EST
DTSTART:20221106T060000
END:STANDARD
BEGIN:DAYLIGHT
TZOFFSETFROM:-0500
TZOFFSETTO:-0400
TZNAME:EDT
DTSTART:20230312T070000
END:DAYLIGHT
BEGIN:STANDARD
TZOFFSETFROM:-0400
TZOFFSETTO:-0500
TZNAME:EST
DTSTART:20231105T060000
END:STANDARD
BEGIN:DAYLIGHT
TZOFFSETFROM:-0500
TZOFFSETTO:-0400
TZNAME:EDT
DTSTART:20240310T070000
END:DAYLIGHT
BEGIN:STANDARD
TZOFFSETFROM:-0400
TZOFFSETTO:-0500
TZNAME:EST
DTSTART:20241103T060000
END:STANDARD
END:VTIMEZONE
BEGIN:VEVENT
DTSTART;TZID=America/New_York:20230805T100000
DTEND;TZID=America/New_York:20230805T130000
DTSTAMP:20260421T125429
CREATED:20230630T140221Z
LAST-MODIFIED:20230630T140224Z
UID:10007346-1691229600-1691240400@ctgrown.org
SUMMARY:Wallingford Garden Market
DESCRIPTION:
URL:https://ctgrown.org/event/wallingford-garden-market-3/2023-08-05/
LOCATION:Doolittle Park\, 78 South Elm Street\, Wallingford\, Connecticut\, 06492\, United States
END:VEVENT
BEGIN:VEVENT
DTSTART;TZID=America/New_York:20230805T100000
DTEND;TZID=America/New_York:20230805T130000
DTSTAMP:20260421T125429
CREATED:20230502T005437Z
LAST-MODIFIED:20230502T005441Z
UID:10005169-1691229600-1691240400@ctgrown.org
SUMMARY:Wallingford Garden Market
DESCRIPTION:
URL:https://ctgrown.org/event/wallingford-garden-market-2/2023-08-05/
LOCATION:Doolittle Park\, 78 South Elm Street\, Wallingford\, Connecticut\, 06492\, United States
END:VEVENT
BEGIN:VEVENT
DTSTART;TZID=America/New_York:20230729T100000
DTEND;TZID=America/New_York:20230729T130000
DTSTAMP:20260421T125429
CREATED:20230630T140221Z
LAST-MODIFIED:20230630T140224Z
UID:10007345-1690624800-1690635600@ctgrown.org
SUMMARY:Wallingford Garden Market
DESCRIPTION:
URL:https://ctgrown.org/event/wallingford-garden-market-3/2023-07-29/
LOCATION:Doolittle Park\, 78 South Elm Street\, Wallingford\, Connecticut\, 06492\, United States
END:VEVENT
BEGIN:VEVENT
DTSTART;TZID=America/New_York:20230729T100000
DTEND;TZID=America/New_York:20230729T130000
DTSTAMP:20260421T125429
CREATED:20230502T005437Z
LAST-MODIFIED:20230502T005441Z
UID:10005168-1690624800-1690635600@ctgrown.org
SUMMARY:Wallingford Garden Market
DESCRIPTION:
URL:https://ctgrown.org/event/wallingford-garden-market-2/2023-07-29/
LOCATION:Doolittle Park\, 78 South Elm Street\, Wallingford\, Connecticut\, 06492\, United States
END:VEVENT
BEGIN:VEVENT
DTSTART;TZID=America/New_York:20230722T100000
DTEND;TZID=America/New_York:20230722T130000
DTSTAMP:20260421T125429
CREATED:20230630T140221Z
LAST-MODIFIED:20230630T140224Z
UID:10007344-1690020000-1690030800@ctgrown.org
SUMMARY:Wallingford Garden Market
DESCRIPTION:
URL:https://ctgrown.org/event/wallingford-garden-market-3/2023-07-22/
LOCATION:Doolittle Park\, 78 South Elm Street\, Wallingford\, Connecticut\, 06492\, United States
END:VEVENT
BEGIN:VEVENT
DTSTART;TZID=America/New_York:20230722T100000
DTEND;TZID=America/New_York:20230722T130000
DTSTAMP:20260421T125429
CREATED:20230502T005437Z
LAST-MODIFIED:20230502T005441Z
UID:10005167-1690020000-1690030800@ctgrown.org
SUMMARY:Wallingford Garden Market
DESCRIPTION:
URL:https://ctgrown.org/event/wallingford-garden-market-2/2023-07-22/
LOCATION:Doolittle Park\, 78 South Elm Street\, Wallingford\, Connecticut\, 06492\, United States
END:VEVENT
BEGIN:VEVENT
DTSTART;TZID=America/New_York:20230715T100000
DTEND;TZID=America/New_York:20230715T130000
DTSTAMP:20260421T125429
CREATED:20230630T140221Z
LAST-MODIFIED:20230630T140224Z
UID:10007343-1689415200-1689426000@ctgrown.org
SUMMARY:Wallingford Garden Market
DESCRIPTION:
URL:https://ctgrown.org/event/wallingford-garden-market-3/2023-07-15/
LOCATION:Doolittle Park\, 78 South Elm Street\, Wallingford\, Connecticut\, 06492\, United States
END:VEVENT
BEGIN:VEVENT
DTSTART;TZID=America/New_York:20230715T100000
DTEND;TZID=America/New_York:20230715T130000
DTSTAMP:20260421T125429
CREATED:20230502T005437Z
LAST-MODIFIED:20230502T005441Z
UID:10005166-1689415200-1689426000@ctgrown.org
SUMMARY:Wallingford Garden Market
DESCRIPTION:
URL:https://ctgrown.org/event/wallingford-garden-market-2/2023-07-15/
LOCATION:Doolittle Park\, 78 South Elm Street\, Wallingford\, Connecticut\, 06492\, United States
END:VEVENT
BEGIN:VEVENT
DTSTART;TZID=America/New_York:20230708T100000
DTEND;TZID=America/New_York:20230708T130000
DTSTAMP:20260421T125429
CREATED:20230630T140221Z
LAST-MODIFIED:20230630T140224Z
UID:10007342-1688810400-1688821200@ctgrown.org
SUMMARY:Wallingford Garden Market
DESCRIPTION:
URL:https://ctgrown.org/event/wallingford-garden-market-3/2023-07-08/
LOCATION:Doolittle Park\, 78 South Elm Street\, Wallingford\, Connecticut\, 06492\, United States
END:VEVENT
BEGIN:VEVENT
DTSTART;TZID=America/New_York:20230708T100000
DTEND;TZID=America/New_York:20230708T130000
DTSTAMP:20260421T125429
CREATED:20230502T005437Z
LAST-MODIFIED:20230502T005441Z
UID:10005165-1688810400-1688821200@ctgrown.org
SUMMARY:Wallingford Garden Market
DESCRIPTION:
URL:https://ctgrown.org/event/wallingford-garden-market-2/2023-07-08/
LOCATION:Doolittle Park\, 78 South Elm Street\, Wallingford\, Connecticut\, 06492\, United States
END:VEVENT
BEGIN:VEVENT
DTSTART;TZID=America/New_York:20230701T100000
DTEND;TZID=America/New_York:20230701T130000
DTSTAMP:20260421T125429
CREATED:20230630T140221Z
LAST-MODIFIED:20230630T140224Z
UID:10007341-1688205600-1688216400@ctgrown.org
SUMMARY:Wallingford Garden Market
DESCRIPTION:
URL:https://ctgrown.org/event/wallingford-garden-market-3/2023-07-01/
LOCATION:Doolittle Park\, 78 South Elm Street\, Wallingford\, Connecticut\, 06492\, United States
END:VEVENT
BEGIN:VEVENT
DTSTART;TZID=America/New_York:20230701T100000
DTEND;TZID=America/New_York:20230701T130000
DTSTAMP:20260421T125429
CREATED:20230502T005437Z
LAST-MODIFIED:20230502T005441Z
UID:10005164-1688205600-1688216400@ctgrown.org
SUMMARY:Wallingford Garden Market
DESCRIPTION:
URL:https://ctgrown.org/event/wallingford-garden-market-2/2023-07-01/
LOCATION:Doolittle Park\, 78 South Elm Street\, Wallingford\, Connecticut\, 06492\, United States
END:VEVENT
BEGIN:VEVENT
DTSTART;TZID=America/New_York:20230624T100000
DTEND;TZID=America/New_York:20230624T130000
DTSTAMP:20260421T125429
CREATED:20230502T005437Z
LAST-MODIFIED:20230502T005441Z
UID:10005163-1687600800-1687611600@ctgrown.org
SUMMARY:Wallingford Garden Market
DESCRIPTION:
URL:https://ctgrown.org/event/wallingford-garden-market-2/2023-06-24/
LOCATION:Doolittle Park\, 78 South Elm Street\, Wallingford\, Connecticut\, 06492\, United States
END:VEVENT
BEGIN:VEVENT
DTSTART;TZID=America/New_York:20230617T100000
DTEND;TZID=America/New_York:20230617T130000
DTSTAMP:20260421T125429
CREATED:20230502T005437Z
LAST-MODIFIED:20230502T005441Z
UID:10005162-1686996000-1687006800@ctgrown.org
SUMMARY:Wallingford Garden Market
DESCRIPTION:
URL:https://ctgrown.org/event/wallingford-garden-market-2/2023-06-17/
LOCATION:Doolittle Park\, 78 South Elm Street\, Wallingford\, Connecticut\, 06492\, United States
END:VEVENT
BEGIN:VEVENT
DTSTART;TZID=America/New_York:20230610T100000
DTEND;TZID=America/New_York:20230610T130000
DTSTAMP:20260421T125429
CREATED:20230502T005437Z
LAST-MODIFIED:20230502T005441Z
UID:10005161-1686391200-1686402000@ctgrown.org
SUMMARY:Wallingford Garden Market
DESCRIPTION:
URL:https://ctgrown.org/event/wallingford-garden-market-2/2023-06-10/
LOCATION:Doolittle Park\, 78 South Elm Street\, Wallingford\, Connecticut\, 06492\, United States
END:VEVENT
BEGIN:VEVENT
DTSTART;TZID=America/New_York:20230603T100000
DTEND;TZID=America/New_York:20230603T130000
DTSTAMP:20260421T125429
CREATED:20230502T005437Z
LAST-MODIFIED:20230502T005441Z
UID:10005160-1685786400-1685797200@ctgrown.org
SUMMARY:Wallingford Garden Market
DESCRIPTION:
URL:https://ctgrown.org/event/wallingford-garden-market-2/2023-06-03/
LOCATION:Doolittle Park\, 78 South Elm Street\, Wallingford\, Connecticut\, 06492\, United States
END:VEVENT
BEGIN:VEVENT
DTSTART;TZID=America/New_York:20230527T100000
DTEND;TZID=America/New_York:20230527T130000
DTSTAMP:20260421T125429
CREATED:20230502T005437Z
LAST-MODIFIED:20230502T005441Z
UID:10005159-1685181600-1685192400@ctgrown.org
SUMMARY:Wallingford Garden Market
DESCRIPTION:
URL:https://ctgrown.org/event/wallingford-garden-market-2/2023-05-27/
LOCATION:Doolittle Park\, 78 South Elm Street\, Wallingford\, Connecticut\, 06492\, United States
END:VEVENT
BEGIN:VEVENT
DTSTART;TZID=America/New_York:20230520T100000
DTEND;TZID=America/New_York:20230520T130000
DTSTAMP:20260421T125429
CREATED:20230502T005437Z
LAST-MODIFIED:20230502T005441Z
UID:10005158-1684576800-1684587600@ctgrown.org
SUMMARY:Wallingford Garden Market
DESCRIPTION:
URL:https://ctgrown.org/event/wallingford-garden-market-2/2023-05-20/
LOCATION:Doolittle Park\, 78 South Elm Street\, Wallingford\, Connecticut\, 06492\, United States
END:VEVENT
BEGIN:VEVENT
DTSTART;TZID=America/New_York:20230513T100000
DTEND;TZID=America/New_York:20230513T130000
DTSTAMP:20260421T125429
CREATED:20230502T005437Z
LAST-MODIFIED:20230502T005441Z
UID:10005157-1683972000-1683982800@ctgrown.org
SUMMARY:Wallingford Garden Market
DESCRIPTION:
URL:https://ctgrown.org/event/wallingford-garden-market-2/2023-05-13/
LOCATION:Doolittle Park\, 78 South Elm Street\, Wallingford\, Connecticut\, 06492\, United States
END:VEVENT
END:VCALENDAR