BEGIN:VCALENDAR
VERSION:2.0
PRODID:-//CT Grown - ECPv6.15.18//NONSGML v1.0//EN
CALSCALE:GREGORIAN
METHOD:PUBLISH
X-ORIGINAL-URL:https://ctgrown.org
X-WR-CALDESC:Events for CT Grown
REFRESH-INTERVAL;VALUE=DURATION:PT1H
X-Robots-Tag:noindex
X-PUBLISHED-TTL:PT1H
BEGIN:VTIMEZONE
TZID:America/New_York
BEGIN:DAYLIGHT
TZOFFSETFROM:-0500
TZOFFSETTO:-0400
TZNAME:EDT
DTSTART:20220313T070000
END:DAYLIGHT
BEGIN:STANDARD
TZOFFSETFROM:-0400
TZOFFSETTO:-0500
TZNAME:EST
DTSTART:20221106T060000
END:STANDARD
BEGIN:DAYLIGHT
TZOFFSETFROM:-0500
TZOFFSETTO:-0400
TZNAME:EDT
DTSTART:20230312T070000
END:DAYLIGHT
BEGIN:STANDARD
TZOFFSETFROM:-0400
TZOFFSETTO:-0500
TZNAME:EST
DTSTART:20231105T060000
END:STANDARD
BEGIN:DAYLIGHT
TZOFFSETFROM:-0500
TZOFFSETTO:-0400
TZNAME:EDT
DTSTART:20240310T070000
END:DAYLIGHT
BEGIN:STANDARD
TZOFFSETFROM:-0400
TZOFFSETTO:-0500
TZNAME:EST
DTSTART:20241103T060000
END:STANDARD
END:VTIMEZONE
BEGIN:VEVENT
DTSTART;TZID=America/New_York:20231230T090000
DTEND;TZID=America/New_York:20231230T130000
DTSTAMP:20260421T194230
CREATED:20230711T181451Z
LAST-MODIFIED:20230711T181456Z
UID:10007940-1703926800-1703941200@ctgrown.org
SUMMARY:West Hartford Farmers' Market
DESCRIPTION:
URL:https://ctgrown.org/event/west-hartford-farmers-market-2/2023-12-30/
LOCATION:West Hartford Farmers’ Market\, LaSalle Road and Arapahoe Road\, West Hartford\, Connecticut\, 06107\, United States
END:VEVENT
BEGIN:VEVENT
DTSTART;TZID=America/New_York:20231223T090000
DTEND;TZID=America/New_York:20231223T130000
DTSTAMP:20260421T194230
CREATED:20230711T181451Z
LAST-MODIFIED:20230711T181456Z
UID:10007939-1703322000-1703336400@ctgrown.org
SUMMARY:West Hartford Farmers' Market
DESCRIPTION:
URL:https://ctgrown.org/event/west-hartford-farmers-market-2/2023-12-23/
LOCATION:West Hartford Farmers’ Market\, LaSalle Road and Arapahoe Road\, West Hartford\, Connecticut\, 06107\, United States
END:VEVENT
BEGIN:VEVENT
DTSTART;TZID=America/New_York:20231216T090000
DTEND;TZID=America/New_York:20231216T130000
DTSTAMP:20260421T194230
CREATED:20230711T181451Z
LAST-MODIFIED:20230711T181456Z
UID:10007938-1702717200-1702731600@ctgrown.org
SUMMARY:West Hartford Farmers' Market
DESCRIPTION:
URL:https://ctgrown.org/event/west-hartford-farmers-market-2/2023-12-16/
LOCATION:West Hartford Farmers’ Market\, LaSalle Road and Arapahoe Road\, West Hartford\, Connecticut\, 06107\, United States
END:VEVENT
BEGIN:VEVENT
DTSTART;TZID=America/New_York:20231209T090000
DTEND;TZID=America/New_York:20231209T130000
DTSTAMP:20260421T194230
CREATED:20230711T181451Z
LAST-MODIFIED:20230711T181456Z
UID:10007937-1702112400-1702126800@ctgrown.org
SUMMARY:West Hartford Farmers' Market
DESCRIPTION:
URL:https://ctgrown.org/event/west-hartford-farmers-market-2/2023-12-09/
LOCATION:West Hartford Farmers’ Market\, LaSalle Road and Arapahoe Road\, West Hartford\, Connecticut\, 06107\, United States
END:VEVENT
BEGIN:VEVENT
DTSTART;TZID=America/New_York:20231202T090000
DTEND;TZID=America/New_York:20231202T130000
DTSTAMP:20260421T194230
CREATED:20230711T181451Z
LAST-MODIFIED:20230711T181456Z
UID:10007936-1701507600-1701522000@ctgrown.org
SUMMARY:West Hartford Farmers' Market
DESCRIPTION:
URL:https://ctgrown.org/event/west-hartford-farmers-market-2/2023-12-02/
LOCATION:West Hartford Farmers’ Market\, LaSalle Road and Arapahoe Road\, West Hartford\, Connecticut\, 06107\, United States
END:VEVENT
BEGIN:VEVENT
DTSTART;TZID=America/New_York:20231125T090000
DTEND;TZID=America/New_York:20231125T130000
DTSTAMP:20260421T194230
CREATED:20230711T181451Z
LAST-MODIFIED:20230711T181456Z
UID:10007935-1700902800-1700917200@ctgrown.org
SUMMARY:West Hartford Farmers' Market
DESCRIPTION:
URL:https://ctgrown.org/event/west-hartford-farmers-market-2/2023-11-25/
LOCATION:West Hartford Farmers’ Market\, LaSalle Road and Arapahoe Road\, West Hartford\, Connecticut\, 06107\, United States
END:VEVENT
BEGIN:VEVENT
DTSTART;TZID=America/New_York:20231118T090000
DTEND;TZID=America/New_York:20231118T130000
DTSTAMP:20260421T194230
CREATED:20230711T181451Z
LAST-MODIFIED:20230711T181456Z
UID:10007934-1700298000-1700312400@ctgrown.org
SUMMARY:West Hartford Farmers' Market
DESCRIPTION:
URL:https://ctgrown.org/event/west-hartford-farmers-market-2/2023-11-18/
LOCATION:West Hartford Farmers’ Market\, LaSalle Road and Arapahoe Road\, West Hartford\, Connecticut\, 06107\, United States
END:VEVENT
BEGIN:VEVENT
DTSTART;TZID=America/New_York:20231111T090000
DTEND;TZID=America/New_York:20231111T130000
DTSTAMP:20260421T194230
CREATED:20230711T181451Z
LAST-MODIFIED:20230711T181456Z
UID:10007933-1699693200-1699707600@ctgrown.org
SUMMARY:West Hartford Farmers' Market
DESCRIPTION:
URL:https://ctgrown.org/event/west-hartford-farmers-market-2/2023-11-11/
LOCATION:West Hartford Farmers’ Market\, LaSalle Road and Arapahoe Road\, West Hartford\, Connecticut\, 06107\, United States
END:VEVENT
BEGIN:VEVENT
DTSTART;TZID=America/New_York:20231104T090000
DTEND;TZID=America/New_York:20231104T130000
DTSTAMP:20260421T194230
CREATED:20230711T181451Z
LAST-MODIFIED:20230711T181456Z
UID:10007932-1699088400-1699102800@ctgrown.org
SUMMARY:West Hartford Farmers' Market
DESCRIPTION:
URL:https://ctgrown.org/event/west-hartford-farmers-market-2/2023-11-04/
LOCATION:West Hartford Farmers’ Market\, LaSalle Road and Arapahoe Road\, West Hartford\, Connecticut\, 06107\, United States
END:VEVENT
BEGIN:VEVENT
DTSTART;TZID=America/New_York:20231028T090000
DTEND;TZID=America/New_York:20231028T130000
DTSTAMP:20260421T194230
CREATED:20230711T181451Z
LAST-MODIFIED:20230711T181456Z
UID:10007931-1698483600-1698498000@ctgrown.org
SUMMARY:West Hartford Farmers' Market
DESCRIPTION:
URL:https://ctgrown.org/event/west-hartford-farmers-market-2/2023-10-28/
LOCATION:West Hartford Farmers’ Market\, LaSalle Road and Arapahoe Road\, West Hartford\, Connecticut\, 06107\, United States
END:VEVENT
BEGIN:VEVENT
DTSTART;TZID=America/New_York:20231021T090000
DTEND;TZID=America/New_York:20231021T130000
DTSTAMP:20260421T194230
CREATED:20230711T181451Z
LAST-MODIFIED:20230711T181456Z
UID:10007930-1697878800-1697893200@ctgrown.org
SUMMARY:West Hartford Farmers' Market
DESCRIPTION:
URL:https://ctgrown.org/event/west-hartford-farmers-market-2/2023-10-21/
LOCATION:West Hartford Farmers’ Market\, LaSalle Road and Arapahoe Road\, West Hartford\, Connecticut\, 06107\, United States
END:VEVENT
BEGIN:VEVENT
DTSTART;TZID=America/New_York:20231014T090000
DTEND;TZID=America/New_York:20231014T130000
DTSTAMP:20260421T194230
CREATED:20230711T181451Z
LAST-MODIFIED:20230711T181456Z
UID:10007929-1697274000-1697288400@ctgrown.org
SUMMARY:West Hartford Farmers' Market
DESCRIPTION:
URL:https://ctgrown.org/event/west-hartford-farmers-market-2/2023-10-14/
LOCATION:West Hartford Farmers’ Market\, LaSalle Road and Arapahoe Road\, West Hartford\, Connecticut\, 06107\, United States
END:VEVENT
BEGIN:VEVENT
DTSTART;TZID=America/New_York:20231007T090000
DTEND;TZID=America/New_York:20231007T130000
DTSTAMP:20260421T194230
CREATED:20230711T181451Z
LAST-MODIFIED:20230711T181456Z
UID:10007928-1696669200-1696683600@ctgrown.org
SUMMARY:West Hartford Farmers' Market
DESCRIPTION:
URL:https://ctgrown.org/event/west-hartford-farmers-market-2/2023-10-07/
LOCATION:West Hartford Farmers’ Market\, LaSalle Road and Arapahoe Road\, West Hartford\, Connecticut\, 06107\, United States
END:VEVENT
BEGIN:VEVENT
DTSTART;TZID=America/New_York:20230930T090000
DTEND;TZID=America/New_York:20230930T130000
DTSTAMP:20260421T194230
CREATED:20230711T181451Z
LAST-MODIFIED:20230711T181456Z
UID:10007927-1696064400-1696078800@ctgrown.org
SUMMARY:West Hartford Farmers' Market
DESCRIPTION:
URL:https://ctgrown.org/event/west-hartford-farmers-market-2/2023-09-30/
LOCATION:West Hartford Farmers’ Market\, LaSalle Road and Arapahoe Road\, West Hartford\, Connecticut\, 06107\, United States
END:VEVENT
BEGIN:VEVENT
DTSTART;TZID=America/New_York:20230923T090000
DTEND;TZID=America/New_York:20230923T130000
DTSTAMP:20260421T194230
CREATED:20230711T181451Z
LAST-MODIFIED:20230711T181456Z
UID:10007926-1695459600-1695474000@ctgrown.org
SUMMARY:West Hartford Farmers' Market
DESCRIPTION:
URL:https://ctgrown.org/event/west-hartford-farmers-market-2/2023-09-23/
LOCATION:West Hartford Farmers’ Market\, LaSalle Road and Arapahoe Road\, West Hartford\, Connecticut\, 06107\, United States
END:VEVENT
BEGIN:VEVENT
DTSTART;TZID=America/New_York:20230916T090000
DTEND;TZID=America/New_York:20230916T130000
DTSTAMP:20260421T194230
CREATED:20230711T181451Z
LAST-MODIFIED:20230711T181456Z
UID:10007925-1694854800-1694869200@ctgrown.org
SUMMARY:West Hartford Farmers' Market
DESCRIPTION:
URL:https://ctgrown.org/event/west-hartford-farmers-market-2/2023-09-16/
LOCATION:West Hartford Farmers’ Market\, LaSalle Road and Arapahoe Road\, West Hartford\, Connecticut\, 06107\, United States
END:VEVENT
BEGIN:VEVENT
DTSTART;TZID=America/New_York:20230909T090000
DTEND;TZID=America/New_York:20230909T130000
DTSTAMP:20260421T194230
CREATED:20230711T181451Z
LAST-MODIFIED:20230711T181456Z
UID:10007924-1694250000-1694264400@ctgrown.org
SUMMARY:West Hartford Farmers' Market
DESCRIPTION:
URL:https://ctgrown.org/event/west-hartford-farmers-market-2/2023-09-09/
LOCATION:West Hartford Farmers’ Market\, LaSalle Road and Arapahoe Road\, West Hartford\, Connecticut\, 06107\, United States
END:VEVENT
BEGIN:VEVENT
DTSTART;TZID=America/New_York:20230902T090000
DTEND;TZID=America/New_York:20230902T130000
DTSTAMP:20260421T194230
CREATED:20230711T181451Z
LAST-MODIFIED:20230711T181456Z
UID:10007923-1693645200-1693659600@ctgrown.org
SUMMARY:West Hartford Farmers' Market
DESCRIPTION:
URL:https://ctgrown.org/event/west-hartford-farmers-market-2/2023-09-02/
LOCATION:West Hartford Farmers’ Market\, LaSalle Road and Arapahoe Road\, West Hartford\, Connecticut\, 06107\, United States
END:VEVENT
BEGIN:VEVENT
DTSTART;TZID=America/New_York:20230826T090000
DTEND;TZID=America/New_York:20230826T130000
DTSTAMP:20260421T194230
CREATED:20230711T181451Z
LAST-MODIFIED:20230711T181456Z
UID:10007922-1693040400-1693054800@ctgrown.org
SUMMARY:West Hartford Farmers' Market
DESCRIPTION:
URL:https://ctgrown.org/event/west-hartford-farmers-market-2/2023-08-26/
LOCATION:West Hartford Farmers’ Market\, LaSalle Road and Arapahoe Road\, West Hartford\, Connecticut\, 06107\, United States
END:VEVENT
BEGIN:VEVENT
DTSTART;TZID=America/New_York:20230819T090000
DTEND;TZID=America/New_York:20230819T130000
DTSTAMP:20260421T194230
CREATED:20230711T181451Z
LAST-MODIFIED:20230711T181456Z
UID:10007921-1692435600-1692450000@ctgrown.org
SUMMARY:West Hartford Farmers' Market
DESCRIPTION:
URL:https://ctgrown.org/event/west-hartford-farmers-market-2/2023-08-19/
LOCATION:West Hartford Farmers’ Market\, LaSalle Road and Arapahoe Road\, West Hartford\, Connecticut\, 06107\, United States
END:VEVENT
BEGIN:VEVENT
DTSTART;TZID=America/New_York:20230812T090000
DTEND;TZID=America/New_York:20230812T130000
DTSTAMP:20260421T194230
CREATED:20230711T181451Z
LAST-MODIFIED:20230711T181456Z
UID:10007920-1691830800-1691845200@ctgrown.org
SUMMARY:West Hartford Farmers' Market
DESCRIPTION:
URL:https://ctgrown.org/event/west-hartford-farmers-market-2/2023-08-12/
LOCATION:West Hartford Farmers’ Market\, LaSalle Road and Arapahoe Road\, West Hartford\, Connecticut\, 06107\, United States
END:VEVENT
BEGIN:VEVENT
DTSTART;TZID=America/New_York:20230805T090000
DTEND;TZID=America/New_York:20230805T130000
DTSTAMP:20260421T194230
CREATED:20230711T181451Z
LAST-MODIFIED:20230711T181456Z
UID:10007919-1691226000-1691240400@ctgrown.org
SUMMARY:West Hartford Farmers' Market
DESCRIPTION:
URL:https://ctgrown.org/event/west-hartford-farmers-market-2/2023-08-05/
LOCATION:West Hartford Farmers’ Market\, LaSalle Road and Arapahoe Road\, West Hartford\, Connecticut\, 06107\, United States
END:VEVENT
BEGIN:VEVENT
DTSTART;TZID=America/New_York:20230729T090000
DTEND;TZID=America/New_York:20230729T130000
DTSTAMP:20260421T194230
CREATED:20230711T181451Z
LAST-MODIFIED:20230711T181456Z
UID:10007918-1690621200-1690635600@ctgrown.org
SUMMARY:West Hartford Farmers' Market
DESCRIPTION:
URL:https://ctgrown.org/event/west-hartford-farmers-market-2/2023-07-29/
LOCATION:West Hartford Farmers’ Market\, LaSalle Road and Arapahoe Road\, West Hartford\, Connecticut\, 06107\, United States
END:VEVENT
BEGIN:VEVENT
DTSTART;TZID=America/New_York:20230722T090000
DTEND;TZID=America/New_York:20230722T130000
DTSTAMP:20260421T194230
CREATED:20230711T181451Z
LAST-MODIFIED:20230711T181456Z
UID:10007917-1690016400-1690030800@ctgrown.org
SUMMARY:West Hartford Farmers' Market
DESCRIPTION:
URL:https://ctgrown.org/event/west-hartford-farmers-market-2/2023-07-22/
LOCATION:West Hartford Farmers’ Market\, LaSalle Road and Arapahoe Road\, West Hartford\, Connecticut\, 06107\, United States
END:VEVENT
BEGIN:VEVENT
DTSTART;TZID=America/New_York:20230715T090000
DTEND;TZID=America/New_York:20230715T130000
DTSTAMP:20260421T194230
CREATED:20230711T181451Z
LAST-MODIFIED:20230711T181456Z
UID:10007916-1689411600-1689426000@ctgrown.org
SUMMARY:West Hartford Farmers' Market
DESCRIPTION:
URL:https://ctgrown.org/event/west-hartford-farmers-market-2/2023-07-15/
LOCATION:West Hartford Farmers’ Market\, LaSalle Road and Arapahoe Road\, West Hartford\, Connecticut\, 06107\, United States
END:VEVENT
END:VCALENDAR