BEGIN:VCALENDAR
VERSION:2.0
PRODID:-//CT Grown - ECPv6.15.18//NONSGML v1.0//EN
CALSCALE:GREGORIAN
METHOD:PUBLISH
X-WR-CALNAME:CT Grown
X-ORIGINAL-URL:https://ctgrown.org
X-WR-CALDESC:Events for CT Grown
REFRESH-INTERVAL;VALUE=DURATION:PT1H
X-Robots-Tag:noindex
X-PUBLISHED-TTL:PT1H
BEGIN:VTIMEZONE
TZID:America/New_York
BEGIN:DAYLIGHT
TZOFFSETFROM:-0500
TZOFFSETTO:-0400
TZNAME:EDT
DTSTART:20210314T070000
END:DAYLIGHT
BEGIN:STANDARD
TZOFFSETFROM:-0400
TZOFFSETTO:-0500
TZNAME:EST
DTSTART:20211107T060000
END:STANDARD
BEGIN:DAYLIGHT
TZOFFSETFROM:-0500
TZOFFSETTO:-0400
TZNAME:EDT
DTSTART:20220313T070000
END:DAYLIGHT
BEGIN:STANDARD
TZOFFSETFROM:-0400
TZOFFSETTO:-0500
TZNAME:EST
DTSTART:20221106T060000
END:STANDARD
BEGIN:DAYLIGHT
TZOFFSETFROM:-0500
TZOFFSETTO:-0400
TZNAME:EDT
DTSTART:20230312T070000
END:DAYLIGHT
BEGIN:STANDARD
TZOFFSETFROM:-0400
TZOFFSETTO:-0500
TZNAME:EST
DTSTART:20231105T060000
END:STANDARD
BEGIN:DAYLIGHT
TZOFFSETFROM:-0500
TZOFFSETTO:-0400
TZNAME:EDT
DTSTART:20240310T070000
END:DAYLIGHT
BEGIN:STANDARD
TZOFFSETFROM:-0400
TZOFFSETTO:-0500
TZNAME:EST
DTSTART:20241103T060000
END:STANDARD
END:VTIMEZONE
BEGIN:VEVENT
DTSTART;TZID=America/New_York:20230804T000000
DTEND;TZID=America/New_York:20230804T160000
DTSTAMP:20260424T075648
CREATED:20230608T145912Z
LAST-MODIFIED:20230608T145915Z
UID:10006748-1691107200-1691164800@ctgrown.org
SUMMARY:Alliance for Community Empowerment Farmers Market
DESCRIPTION:
URL:https://ctgrown.org/event/alliance-for-community-empowerment-farmers-market/2023-08-04/
LOCATION:Alliance for Community Empowerment\, 1070 Park Ave.\, Bridgeport\, Connecticut\, 06604\, United States
END:VEVENT
BEGIN:VEVENT
DTSTART;TZID=America/New_York:20230728T000000
DTEND;TZID=America/New_York:20230728T160000
DTSTAMP:20260424T075648
CREATED:20230608T145912Z
LAST-MODIFIED:20230608T145915Z
UID:10006747-1690502400-1690560000@ctgrown.org
SUMMARY:Alliance for Community Empowerment Farmers Market
DESCRIPTION:
URL:https://ctgrown.org/event/alliance-for-community-empowerment-farmers-market/2023-07-28/
LOCATION:Alliance for Community Empowerment\, 1070 Park Ave.\, Bridgeport\, Connecticut\, 06604\, United States
END:VEVENT
BEGIN:VEVENT
DTSTART;TZID=America/New_York:20230721T000000
DTEND;TZID=America/New_York:20230721T160000
DTSTAMP:20260424T075648
CREATED:20230608T145912Z
LAST-MODIFIED:20230608T145915Z
UID:10006746-1689897600-1689955200@ctgrown.org
SUMMARY:Alliance for Community Empowerment Farmers Market
DESCRIPTION:
URL:https://ctgrown.org/event/alliance-for-community-empowerment-farmers-market/2023-07-21/
LOCATION:Alliance for Community Empowerment\, 1070 Park Ave.\, Bridgeport\, Connecticut\, 06604\, United States
END:VEVENT
BEGIN:VEVENT
DTSTART;TZID=America/New_York:20230714T000000
DTEND;TZID=America/New_York:20230714T160000
DTSTAMP:20260424T075648
CREATED:20230608T145912Z
LAST-MODIFIED:20230608T145915Z
UID:10006745-1689292800-1689350400@ctgrown.org
SUMMARY:Alliance for Community Empowerment Farmers Market
DESCRIPTION:
URL:https://ctgrown.org/event/alliance-for-community-empowerment-farmers-market/2023-07-14/
LOCATION:Alliance for Community Empowerment\, 1070 Park Ave.\, Bridgeport\, Connecticut\, 06604\, United States
END:VEVENT
BEGIN:VEVENT
DTSTART;TZID=America/New_York:20230707T000000
DTEND;TZID=America/New_York:20230707T160000
DTSTAMP:20260424T075648
CREATED:20230608T145912Z
LAST-MODIFIED:20230608T145915Z
UID:10006744-1688688000-1688745600@ctgrown.org
SUMMARY:Alliance for Community Empowerment Farmers Market
DESCRIPTION:
URL:https://ctgrown.org/event/alliance-for-community-empowerment-farmers-market/2023-07-07/
LOCATION:Alliance for Community Empowerment\, 1070 Park Ave.\, Bridgeport\, Connecticut\, 06604\, United States
END:VEVENT
BEGIN:VEVENT
DTSTART;TZID=America/New_York:20230630T000000
DTEND;TZID=America/New_York:20230630T160000
DTSTAMP:20260424T075648
CREATED:20230608T145912Z
LAST-MODIFIED:20230608T145915Z
UID:10006743-1688083200-1688140800@ctgrown.org
SUMMARY:Alliance for Community Empowerment Farmers Market
DESCRIPTION:
URL:https://ctgrown.org/event/alliance-for-community-empowerment-farmers-market/2023-06-30/
LOCATION:Alliance for Community Empowerment\, 1070 Park Ave.\, Bridgeport\, Connecticut\, 06604\, United States
END:VEVENT
BEGIN:VEVENT
DTSTART;TZID=America/New_York:20230623T000000
DTEND;TZID=America/New_York:20230623T160000
DTSTAMP:20260424T075648
CREATED:20230608T145912Z
LAST-MODIFIED:20230608T145915Z
UID:10006742-1687478400-1687536000@ctgrown.org
SUMMARY:Alliance for Community Empowerment Farmers Market
DESCRIPTION:
URL:https://ctgrown.org/event/alliance-for-community-empowerment-farmers-market/2023-06-23/
LOCATION:Alliance for Community Empowerment\, 1070 Park Ave.\, Bridgeport\, Connecticut\, 06604\, United States
END:VEVENT
BEGIN:VEVENT
DTSTART;TZID=America/New_York:20230616T000000
DTEND;TZID=America/New_York:20230616T160000
DTSTAMP:20260424T075648
CREATED:20230608T145912Z
LAST-MODIFIED:20230608T145915Z
UID:10006741-1686873600-1686931200@ctgrown.org
SUMMARY:Alliance for Community Empowerment Farmers Market
DESCRIPTION:
URL:https://ctgrown.org/event/alliance-for-community-empowerment-farmers-market/2023-06-16/
LOCATION:Alliance for Community Empowerment\, 1070 Park Ave.\, Bridgeport\, Connecticut\, 06604\, United States
END:VEVENT
BEGIN:VEVENT
DTSTART;TZID=America/New_York:20230609T000000
DTEND;TZID=America/New_York:20230609T160000
DTSTAMP:20260424T075648
CREATED:20230608T145912Z
LAST-MODIFIED:20230608T145915Z
UID:10006740-1686268800-1686326400@ctgrown.org
SUMMARY:Alliance for Community Empowerment Farmers Market
DESCRIPTION:
URL:https://ctgrown.org/event/alliance-for-community-empowerment-farmers-market/2023-06-09/
LOCATION:Alliance for Community Empowerment\, 1070 Park Ave.\, Bridgeport\, Connecticut\, 06604\, United States
END:VEVENT
BEGIN:VEVENT
DTSTART;TZID=America/New_York:20221028T100000
DTEND;TZID=America/New_York:20221028T140000
DTSTAMP:20260424T075648
CREATED:20220720T015123Z
LAST-MODIFIED:20220720T184632Z
UID:10002964-1666951200-1666965600@ctgrown.org
SUMMARY:Bridgeport - Alliance's Farmers Market
DESCRIPTION:Accepts SFNMP\, SNAP/EBT
URL:https://ctgrown.org/event/bridgeport-alliances-farmers-market/2022-10-28/
LOCATION:Alliance for Community Empowerment\, 1070 Park Ave.\, Bridgeport\, Connecticut\, 06604\, United States
END:VEVENT
BEGIN:VEVENT
DTSTART;TZID=America/New_York:20221021T100000
DTEND;TZID=America/New_York:20221021T140000
DTSTAMP:20260424T075648
CREATED:20220720T015123Z
LAST-MODIFIED:20220720T184632Z
UID:10002963-1666346400-1666360800@ctgrown.org
SUMMARY:Bridgeport - Alliance's Farmers Market
DESCRIPTION:Accepts SFNMP\, SNAP/EBT
URL:https://ctgrown.org/event/bridgeport-alliances-farmers-market/2022-10-21/
LOCATION:Alliance for Community Empowerment\, 1070 Park Ave.\, Bridgeport\, Connecticut\, 06604\, United States
END:VEVENT
BEGIN:VEVENT
DTSTART;TZID=America/New_York:20221014T100000
DTEND;TZID=America/New_York:20221014T140000
DTSTAMP:20260424T075648
CREATED:20220720T015123Z
LAST-MODIFIED:20220720T184632Z
UID:10002962-1665741600-1665756000@ctgrown.org
SUMMARY:Bridgeport - Alliance's Farmers Market
DESCRIPTION:Accepts SFNMP\, SNAP/EBT
URL:https://ctgrown.org/event/bridgeport-alliances-farmers-market/2022-10-14/
LOCATION:Alliance for Community Empowerment\, 1070 Park Ave.\, Bridgeport\, Connecticut\, 06604\, United States
END:VEVENT
BEGIN:VEVENT
DTSTART;TZID=America/New_York:20221007T100000
DTEND;TZID=America/New_York:20221007T140000
DTSTAMP:20260424T075648
CREATED:20220720T015123Z
LAST-MODIFIED:20220720T184632Z
UID:10002961-1665136800-1665151200@ctgrown.org
SUMMARY:Bridgeport - Alliance's Farmers Market
DESCRIPTION:Accepts SFNMP\, SNAP/EBT
URL:https://ctgrown.org/event/bridgeport-alliances-farmers-market/2022-10-07/
LOCATION:Alliance for Community Empowerment\, 1070 Park Ave.\, Bridgeport\, Connecticut\, 06604\, United States
END:VEVENT
BEGIN:VEVENT
DTSTART;TZID=America/New_York:20220930T100000
DTEND;TZID=America/New_York:20220930T140000
DTSTAMP:20260424T075648
CREATED:20220720T015123Z
LAST-MODIFIED:20220720T184632Z
UID:10002960-1664532000-1664546400@ctgrown.org
SUMMARY:Bridgeport - Alliance's Farmers Market
DESCRIPTION:Accepts SFNMP\, SNAP/EBT
URL:https://ctgrown.org/event/bridgeport-alliances-farmers-market/2022-09-30/
LOCATION:Alliance for Community Empowerment\, 1070 Park Ave.\, Bridgeport\, Connecticut\, 06604\, United States
END:VEVENT
BEGIN:VEVENT
DTSTART;TZID=America/New_York:20220923T100000
DTEND;TZID=America/New_York:20220923T140000
DTSTAMP:20260424T075648
CREATED:20220720T015123Z
LAST-MODIFIED:20220720T184632Z
UID:10002959-1663927200-1663941600@ctgrown.org
SUMMARY:Bridgeport - Alliance's Farmers Market
DESCRIPTION:Accepts SFNMP\, SNAP/EBT
URL:https://ctgrown.org/event/bridgeport-alliances-farmers-market/2022-09-23/
LOCATION:Alliance for Community Empowerment\, 1070 Park Ave.\, Bridgeport\, Connecticut\, 06604\, United States
END:VEVENT
BEGIN:VEVENT
DTSTART;TZID=America/New_York:20220916T100000
DTEND;TZID=America/New_York:20220916T140000
DTSTAMP:20260424T075648
CREATED:20220720T015123Z
LAST-MODIFIED:20220720T184632Z
UID:10002958-1663322400-1663336800@ctgrown.org
SUMMARY:Bridgeport - Alliance's Farmers Market
DESCRIPTION:Accepts SFNMP\, SNAP/EBT
URL:https://ctgrown.org/event/bridgeport-alliances-farmers-market/2022-09-16/
LOCATION:Alliance for Community Empowerment\, 1070 Park Ave.\, Bridgeport\, Connecticut\, 06604\, United States
END:VEVENT
BEGIN:VEVENT
DTSTART;TZID=America/New_York:20220909T100000
DTEND;TZID=America/New_York:20220909T140000
DTSTAMP:20260424T075648
CREATED:20220720T015123Z
LAST-MODIFIED:20220720T184632Z
UID:10002957-1662717600-1662732000@ctgrown.org
SUMMARY:Bridgeport - Alliance's Farmers Market
DESCRIPTION:Accepts SFNMP\, SNAP/EBT
URL:https://ctgrown.org/event/bridgeport-alliances-farmers-market/2022-09-09/
LOCATION:Alliance for Community Empowerment\, 1070 Park Ave.\, Bridgeport\, Connecticut\, 06604\, United States
END:VEVENT
BEGIN:VEVENT
DTSTART;TZID=America/New_York:20220902T100000
DTEND;TZID=America/New_York:20220902T140000
DTSTAMP:20260424T075648
CREATED:20220720T015123Z
LAST-MODIFIED:20220720T184632Z
UID:10002956-1662112800-1662127200@ctgrown.org
SUMMARY:Bridgeport - Alliance's Farmers Market
DESCRIPTION:Accepts SFNMP\, SNAP/EBT
URL:https://ctgrown.org/event/bridgeport-alliances-farmers-market/2022-09-02/
LOCATION:Alliance for Community Empowerment\, 1070 Park Ave.\, Bridgeport\, Connecticut\, 06604\, United States
END:VEVENT
BEGIN:VEVENT
DTSTART;TZID=America/New_York:20220826T100000
DTEND;TZID=America/New_York:20220826T140000
DTSTAMP:20260424T075648
CREATED:20220720T015123Z
LAST-MODIFIED:20220720T184632Z
UID:10002955-1661508000-1661522400@ctgrown.org
SUMMARY:Bridgeport - Alliance's Farmers Market
DESCRIPTION:Accepts SFNMP\, SNAP/EBT
URL:https://ctgrown.org/event/bridgeport-alliances-farmers-market/2022-08-26/
LOCATION:Alliance for Community Empowerment\, 1070 Park Ave.\, Bridgeport\, Connecticut\, 06604\, United States
END:VEVENT
BEGIN:VEVENT
DTSTART;TZID=America/New_York:20220819T100000
DTEND;TZID=America/New_York:20220819T140000
DTSTAMP:20260424T075648
CREATED:20220720T015123Z
LAST-MODIFIED:20220720T184632Z
UID:10002954-1660903200-1660917600@ctgrown.org
SUMMARY:Bridgeport - Alliance's Farmers Market
DESCRIPTION:Accepts SFNMP\, SNAP/EBT
URL:https://ctgrown.org/event/bridgeport-alliances-farmers-market/2022-08-19/
LOCATION:Alliance for Community Empowerment\, 1070 Park Ave.\, Bridgeport\, Connecticut\, 06604\, United States
END:VEVENT
BEGIN:VEVENT
DTSTART;TZID=America/New_York:20220812T100000
DTEND;TZID=America/New_York:20220812T140000
DTSTAMP:20260424T075648
CREATED:20220720T015123Z
LAST-MODIFIED:20220720T184632Z
UID:10002953-1660298400-1660312800@ctgrown.org
SUMMARY:Bridgeport - Alliance's Farmers Market
DESCRIPTION:Accepts SFNMP\, SNAP/EBT
URL:https://ctgrown.org/event/bridgeport-alliances-farmers-market/2022-08-12/
LOCATION:Alliance for Community Empowerment\, 1070 Park Ave.\, Bridgeport\, Connecticut\, 06604\, United States
END:VEVENT
BEGIN:VEVENT
DTSTART;TZID=America/New_York:20220805T100000
DTEND;TZID=America/New_York:20220805T140000
DTSTAMP:20260424T075648
CREATED:20220720T015123Z
LAST-MODIFIED:20220720T184632Z
UID:10002952-1659693600-1659708000@ctgrown.org
SUMMARY:Bridgeport - Alliance's Farmers Market
DESCRIPTION:Accepts SFNMP\, SNAP/EBT
URL:https://ctgrown.org/event/bridgeport-alliances-farmers-market/2022-08-05/
LOCATION:Alliance for Community Empowerment\, 1070 Park Ave.\, Bridgeport\, Connecticut\, 06604\, United States
END:VEVENT
BEGIN:VEVENT
DTSTART;TZID=America/New_York:20220729T100000
DTEND;TZID=America/New_York:20220729T140000
DTSTAMP:20260424T075648
CREATED:20220720T015123Z
LAST-MODIFIED:20220720T184632Z
UID:10002951-1659088800-1659103200@ctgrown.org
SUMMARY:Bridgeport - Alliance's Farmers Market
DESCRIPTION:Accepts SFNMP\, SNAP/EBT
URL:https://ctgrown.org/event/bridgeport-alliances-farmers-market/2022-07-29/
LOCATION:Alliance for Community Empowerment\, 1070 Park Ave.\, Bridgeport\, Connecticut\, 06604\, United States
END:VEVENT
BEGIN:VEVENT
DTSTART;TZID=America/New_York:20220722T100000
DTEND;TZID=America/New_York:20220722T140000
DTSTAMP:20260424T075648
CREATED:20220720T015123Z
LAST-MODIFIED:20220720T184632Z
UID:10002950-1658484000-1658498400@ctgrown.org
SUMMARY:Bridgeport - Alliance's Farmers Market
DESCRIPTION:Accepts SFNMP\, SNAP/EBT
URL:https://ctgrown.org/event/bridgeport-alliances-farmers-market/2022-07-22/
LOCATION:Alliance for Community Empowerment\, 1070 Park Ave.\, Bridgeport\, Connecticut\, 06604\, United States
END:VEVENT
END:VCALENDAR