BEGIN:VCALENDAR
VERSION:2.0
PRODID:-//CT Grown - ECPv6.15.18//NONSGML v1.0//EN
CALSCALE:GREGORIAN
METHOD:PUBLISH
X-WR-CALNAME:CT Grown
X-ORIGINAL-URL:https://ctgrown.org
X-WR-CALDESC:Events for CT Grown
REFRESH-INTERVAL;VALUE=DURATION:PT1H
X-Robots-Tag:noindex
X-PUBLISHED-TTL:PT1H
BEGIN:VTIMEZONE
TZID:America/New_York
BEGIN:DAYLIGHT
TZOFFSETFROM:-0500
TZOFFSETTO:-0400
TZNAME:EDT
DTSTART:20210314T070000
END:DAYLIGHT
BEGIN:STANDARD
TZOFFSETFROM:-0400
TZOFFSETTO:-0500
TZNAME:EST
DTSTART:20211107T060000
END:STANDARD
BEGIN:DAYLIGHT
TZOFFSETFROM:-0500
TZOFFSETTO:-0400
TZNAME:EDT
DTSTART:20220313T070000
END:DAYLIGHT
BEGIN:STANDARD
TZOFFSETFROM:-0400
TZOFFSETTO:-0500
TZNAME:EST
DTSTART:20221106T060000
END:STANDARD
BEGIN:DAYLIGHT
TZOFFSETFROM:-0500
TZOFFSETTO:-0400
TZNAME:EDT
DTSTART:20230312T070000
END:DAYLIGHT
BEGIN:STANDARD
TZOFFSETFROM:-0400
TZOFFSETTO:-0500
TZNAME:EST
DTSTART:20231105T060000
END:STANDARD
BEGIN:DAYLIGHT
TZOFFSETFROM:-0500
TZOFFSETTO:-0400
TZNAME:EDT
DTSTART:20240310T070000
END:DAYLIGHT
BEGIN:STANDARD
TZOFFSETFROM:-0400
TZOFFSETTO:-0500
TZNAME:EST
DTSTART:20241103T060000
END:STANDARD
BEGIN:DAYLIGHT
TZOFFSETFROM:-0500
TZOFFSETTO:-0400
TZNAME:EDT
DTSTART:20250309T070000
END:DAYLIGHT
BEGIN:STANDARD
TZOFFSETFROM:-0400
TZOFFSETTO:-0500
TZNAME:EST
DTSTART:20251102T060000
END:STANDARD
END:VTIMEZONE
BEGIN:VEVENT
DTSTART;TZID=America/New_York:20240825T090000
DTEND;TZID=America/New_York:20240825T180000
DTSTAMP:20260420T093157
CREATED:20240802T182740Z
LAST-MODIFIED:20240802T182742Z
UID:10008347-1724576400-1724608800@ctgrown.org
SUMMARY:Chester Fair
DESCRIPTION:This “country fair for all ages” features area livestock\, food\, rides\, and more. This year’s theme is “caring for the environment.”
URL:https://ctgrown.org/event/chester-fair-3/2024-08-25/
LOCATION:Chester Fairground\, 11 Kirtland Terrace\, Chester\, Connecticut\, 06412\, United States
END:VEVENT
BEGIN:VEVENT
DTSTART;TZID=America/New_York:20240824T080000
DTEND;TZID=America/New_York:20240824T230000
DTSTAMP:20260420T093157
CREATED:20240802T182740Z
LAST-MODIFIED:20240802T182742Z
UID:10008346-1724486400-1724540400@ctgrown.org
SUMMARY:Chester Fair
DESCRIPTION:This “country fair for all ages” features area livestock\, food\, rides\, and more. This year’s theme is “caring for the environment.”
URL:https://ctgrown.org/event/chester-fair-3/2024-08-24/
LOCATION:Chester Fairground\, 11 Kirtland Terrace\, Chester\, Connecticut\, 06412\, United States
END:VEVENT
BEGIN:VEVENT
DTSTART;TZID=America/New_York:20240823T180000
DTEND;TZID=America/New_York:20240823T230000
DTSTAMP:20260420T093157
CREATED:20240802T182740Z
LAST-MODIFIED:20240802T182742Z
UID:10008345-1724436000-1724454000@ctgrown.org
SUMMARY:Chester Fair
DESCRIPTION:This “country fair for all ages” features area livestock\, food\, rides\, and more. This year’s theme is “caring for the environment.”
URL:https://ctgrown.org/event/chester-fair-3/2024-08-23/
LOCATION:Chester Fairground\, 11 Kirtland Terrace\, Chester\, Connecticut\, 06412\, United States
END:VEVENT
BEGIN:VEVENT
DTSTART;TZID=America/New_York:20230827T090000
DTEND;TZID=America/New_York:20230827T180000
DTSTAMP:20260420T093157
CREATED:20230803T200644Z
LAST-MODIFIED:20230803T200646Z
UID:10008057-1693126800-1693159200@ctgrown.org
SUMMARY:Chester Fair
DESCRIPTION:
URL:https://ctgrown.org/event/chester-fair-2/2023-08-27/
LOCATION:Chester Fairground\, 11 Kirtland Terrace\, Chester\, Connecticut\, 06412\, United States
END:VEVENT
BEGIN:VEVENT
DTSTART;TZID=America/New_York:20230826T080000
DTEND;TZID=America/New_York:20230826T230000
DTSTAMP:20260420T093157
CREATED:20230803T200644Z
LAST-MODIFIED:20230803T200646Z
UID:10008056-1693036800-1693090800@ctgrown.org
SUMMARY:Chester Fair
DESCRIPTION:
URL:https://ctgrown.org/event/chester-fair-2/2023-08-26/
LOCATION:Chester Fairground\, 11 Kirtland Terrace\, Chester\, Connecticut\, 06412\, United States
END:VEVENT
BEGIN:VEVENT
DTSTART;TZID=America/New_York:20230825T090000
DTEND;TZID=America/New_York:20230825T180000
DTSTAMP:20260420T093157
CREATED:20230803T200644Z
LAST-MODIFIED:20230803T200646Z
UID:10008055-1692954000-1692986400@ctgrown.org
SUMMARY:Chester Fair
DESCRIPTION:
URL:https://ctgrown.org/event/chester-fair-2/2023-08-25/
LOCATION:Chester Fairground\, 11 Kirtland Terrace\, Chester\, Connecticut\, 06412\, United States
END:VEVENT
BEGIN:VEVENT
DTSTART;TZID=America/New_York:20220828T090000
DTEND;TZID=America/New_York:20220828T180000
DTSTAMP:20260420T093157
CREATED:20220722T184527Z
LAST-MODIFIED:20220722T184528Z
UID:10003483-1661677200-1661709600@ctgrown.org
SUMMARY:Chester Fair
DESCRIPTION:
URL:https://ctgrown.org/event/chester-fair/2022-08-28/
LOCATION:Chester Fairground\, 11 Kirtland Terrace\, Chester\, Connecticut\, 06412\, United States
END:VEVENT
BEGIN:VEVENT
DTSTART;TZID=America/New_York:20220827T080000
DTEND;TZID=America/New_York:20220827T230000
DTSTAMP:20260420T093157
CREATED:20220722T184527Z
LAST-MODIFIED:20220722T184528Z
UID:10003482-1661587200-1661641200@ctgrown.org
SUMMARY:Chester Fair
DESCRIPTION:
URL:https://ctgrown.org/event/chester-fair/2022-08-27/
LOCATION:Chester Fairground\, 11 Kirtland Terrace\, Chester\, Connecticut\, 06412\, United States
END:VEVENT
BEGIN:VEVENT
DTSTART;TZID=America/New_York:20220826T180000
DTEND;TZID=America/New_York:20220826T230000
DTSTAMP:20260420T093157
CREATED:20220722T184527Z
LAST-MODIFIED:20220722T184528Z
UID:10003481-1661536800-1661554800@ctgrown.org
SUMMARY:Chester Fair
DESCRIPTION:
URL:https://ctgrown.org/event/chester-fair/2022-08-26/
LOCATION:Chester Fairground\, 11 Kirtland Terrace\, Chester\, Connecticut\, 06412\, United States
END:VEVENT
END:VCALENDAR