BEGIN:VCALENDAR
VERSION:2.0
PRODID:-//CT Grown - ECPv6.15.18//NONSGML v1.0//EN
CALSCALE:GREGORIAN
METHOD:PUBLISH
X-WR-CALNAME:CT Grown
X-ORIGINAL-URL:https://ctgrown.org
X-WR-CALDESC:Events for CT Grown
REFRESH-INTERVAL;VALUE=DURATION:PT1H
X-Robots-Tag:noindex
X-PUBLISHED-TTL:PT1H
BEGIN:VTIMEZONE
TZID:America/New_York
BEGIN:DAYLIGHT
TZOFFSETFROM:-0500
TZOFFSETTO:-0400
TZNAME:EDT
DTSTART:20210314T070000
END:DAYLIGHT
BEGIN:STANDARD
TZOFFSETFROM:-0400
TZOFFSETTO:-0500
TZNAME:EST
DTSTART:20211107T060000
END:STANDARD
BEGIN:DAYLIGHT
TZOFFSETFROM:-0500
TZOFFSETTO:-0400
TZNAME:EDT
DTSTART:20220313T070000
END:DAYLIGHT
BEGIN:STANDARD
TZOFFSETFROM:-0400
TZOFFSETTO:-0500
TZNAME:EST
DTSTART:20221106T060000
END:STANDARD
BEGIN:DAYLIGHT
TZOFFSETFROM:-0500
TZOFFSETTO:-0400
TZNAME:EDT
DTSTART:20230312T070000
END:DAYLIGHT
BEGIN:STANDARD
TZOFFSETFROM:-0400
TZOFFSETTO:-0500
TZNAME:EST
DTSTART:20231105T060000
END:STANDARD
BEGIN:DAYLIGHT
TZOFFSETFROM:-0500
TZOFFSETTO:-0400
TZNAME:EDT
DTSTART:20240310T070000
END:DAYLIGHT
BEGIN:STANDARD
TZOFFSETFROM:-0400
TZOFFSETTO:-0500
TZNAME:EST
DTSTART:20241103T060000
END:STANDARD
END:VTIMEZONE
BEGIN:VEVENT
DTSTART;TZID=America/New_York:20231028T090000
DTEND;TZID=America/New_York:20231028T123000
DTSTAMP:20260420T210124
CREATED:20230531T015009Z
LAST-MODIFIED:20230531T015012Z
UID:10005725-1698483600-1698496200@ctgrown.org
SUMMARY:Cornwall Co-op Farm Market
DESCRIPTION:
URL:https://ctgrown.org/event/cornwall-co-op-farm-market-2/2023-10-28/
LOCATION:Cornwall Town Hall\, 16 Pine Street\, Cornwall\, Connecticut\, 06796\, United States
END:VEVENT
BEGIN:VEVENT
DTSTART;TZID=America/New_York:20231021T090000
DTEND;TZID=America/New_York:20231021T123000
DTSTAMP:20260420T210124
CREATED:20230531T015009Z
LAST-MODIFIED:20230531T015012Z
UID:10005724-1697878800-1697891400@ctgrown.org
SUMMARY:Cornwall Co-op Farm Market
DESCRIPTION:
URL:https://ctgrown.org/event/cornwall-co-op-farm-market-2/2023-10-21/
LOCATION:Cornwall Town Hall\, 16 Pine Street\, Cornwall\, Connecticut\, 06796\, United States
END:VEVENT
BEGIN:VEVENT
DTSTART;TZID=America/New_York:20231014T090000
DTEND;TZID=America/New_York:20231014T123000
DTSTAMP:20260420T210124
CREATED:20230531T015009Z
LAST-MODIFIED:20230531T015012Z
UID:10005723-1697274000-1697286600@ctgrown.org
SUMMARY:Cornwall Co-op Farm Market
DESCRIPTION:
URL:https://ctgrown.org/event/cornwall-co-op-farm-market-2/2023-10-14/
LOCATION:Cornwall Town Hall\, 16 Pine Street\, Cornwall\, Connecticut\, 06796\, United States
END:VEVENT
BEGIN:VEVENT
DTSTART;TZID=America/New_York:20231007T090000
DTEND;TZID=America/New_York:20231007T123000
DTSTAMP:20260420T210124
CREATED:20230531T015009Z
LAST-MODIFIED:20230531T015012Z
UID:10005722-1696669200-1696681800@ctgrown.org
SUMMARY:Cornwall Co-op Farm Market
DESCRIPTION:
URL:https://ctgrown.org/event/cornwall-co-op-farm-market-2/2023-10-07/
LOCATION:Cornwall Town Hall\, 16 Pine Street\, Cornwall\, Connecticut\, 06796\, United States
END:VEVENT
BEGIN:VEVENT
DTSTART;TZID=America/New_York:20230930T090000
DTEND;TZID=America/New_York:20230930T123000
DTSTAMP:20260420T210124
CREATED:20230531T015009Z
LAST-MODIFIED:20230531T015012Z
UID:10005721-1696064400-1696077000@ctgrown.org
SUMMARY:Cornwall Co-op Farm Market
DESCRIPTION:
URL:https://ctgrown.org/event/cornwall-co-op-farm-market-2/2023-09-30/
LOCATION:Cornwall Town Hall\, 16 Pine Street\, Cornwall\, Connecticut\, 06796\, United States
END:VEVENT
BEGIN:VEVENT
DTSTART;TZID=America/New_York:20230923T090000
DTEND;TZID=America/New_York:20230923T123000
DTSTAMP:20260420T210124
CREATED:20230531T015009Z
LAST-MODIFIED:20230531T015012Z
UID:10005720-1695459600-1695472200@ctgrown.org
SUMMARY:Cornwall Co-op Farm Market
DESCRIPTION:
URL:https://ctgrown.org/event/cornwall-co-op-farm-market-2/2023-09-23/
LOCATION:Cornwall Town Hall\, 16 Pine Street\, Cornwall\, Connecticut\, 06796\, United States
END:VEVENT
BEGIN:VEVENT
DTSTART;TZID=America/New_York:20230916T090000
DTEND;TZID=America/New_York:20230916T123000
DTSTAMP:20260420T210124
CREATED:20230531T015009Z
LAST-MODIFIED:20230531T015012Z
UID:10005719-1694854800-1694867400@ctgrown.org
SUMMARY:Cornwall Co-op Farm Market
DESCRIPTION:
URL:https://ctgrown.org/event/cornwall-co-op-farm-market-2/2023-09-16/
LOCATION:Cornwall Town Hall\, 16 Pine Street\, Cornwall\, Connecticut\, 06796\, United States
END:VEVENT
BEGIN:VEVENT
DTSTART;TZID=America/New_York:20230909T090000
DTEND;TZID=America/New_York:20230909T123000
DTSTAMP:20260420T210124
CREATED:20230531T015009Z
LAST-MODIFIED:20230531T015012Z
UID:10005718-1694250000-1694262600@ctgrown.org
SUMMARY:Cornwall Co-op Farm Market
DESCRIPTION:
URL:https://ctgrown.org/event/cornwall-co-op-farm-market-2/2023-09-09/
LOCATION:Cornwall Town Hall\, 16 Pine Street\, Cornwall\, Connecticut\, 06796\, United States
END:VEVENT
BEGIN:VEVENT
DTSTART;TZID=America/New_York:20230902T090000
DTEND;TZID=America/New_York:20230902T123000
DTSTAMP:20260420T210124
CREATED:20230531T015009Z
LAST-MODIFIED:20230531T015012Z
UID:10005717-1693645200-1693657800@ctgrown.org
SUMMARY:Cornwall Co-op Farm Market
DESCRIPTION:
URL:https://ctgrown.org/event/cornwall-co-op-farm-market-2/2023-09-02/
LOCATION:Cornwall Town Hall\, 16 Pine Street\, Cornwall\, Connecticut\, 06796\, United States
END:VEVENT
BEGIN:VEVENT
DTSTART;TZID=America/New_York:20230826T090000
DTEND;TZID=America/New_York:20230826T123000
DTSTAMP:20260420T210124
CREATED:20230531T015009Z
LAST-MODIFIED:20230531T015012Z
UID:10005716-1693040400-1693053000@ctgrown.org
SUMMARY:Cornwall Co-op Farm Market
DESCRIPTION:
URL:https://ctgrown.org/event/cornwall-co-op-farm-market-2/2023-08-26/
LOCATION:Cornwall Town Hall\, 16 Pine Street\, Cornwall\, Connecticut\, 06796\, United States
END:VEVENT
BEGIN:VEVENT
DTSTART;TZID=America/New_York:20230819T090000
DTEND;TZID=America/New_York:20230819T123000
DTSTAMP:20260420T210124
CREATED:20230531T015009Z
LAST-MODIFIED:20230531T015012Z
UID:10005715-1692435600-1692448200@ctgrown.org
SUMMARY:Cornwall Co-op Farm Market
DESCRIPTION:
URL:https://ctgrown.org/event/cornwall-co-op-farm-market-2/2023-08-19/
LOCATION:Cornwall Town Hall\, 16 Pine Street\, Cornwall\, Connecticut\, 06796\, United States
END:VEVENT
BEGIN:VEVENT
DTSTART;TZID=America/New_York:20230812T090000
DTEND;TZID=America/New_York:20230812T123000
DTSTAMP:20260420T210124
CREATED:20230531T015009Z
LAST-MODIFIED:20230531T015012Z
UID:10005714-1691830800-1691843400@ctgrown.org
SUMMARY:Cornwall Co-op Farm Market
DESCRIPTION:
URL:https://ctgrown.org/event/cornwall-co-op-farm-market-2/2023-08-12/
LOCATION:Cornwall Town Hall\, 16 Pine Street\, Cornwall\, Connecticut\, 06796\, United States
END:VEVENT
BEGIN:VEVENT
DTSTART;TZID=America/New_York:20230805T090000
DTEND;TZID=America/New_York:20230805T123000
DTSTAMP:20260420T210124
CREATED:20230531T015009Z
LAST-MODIFIED:20230531T015012Z
UID:10005713-1691226000-1691238600@ctgrown.org
SUMMARY:Cornwall Co-op Farm Market
DESCRIPTION:
URL:https://ctgrown.org/event/cornwall-co-op-farm-market-2/2023-08-05/
LOCATION:Cornwall Town Hall\, 16 Pine Street\, Cornwall\, Connecticut\, 06796\, United States
END:VEVENT
BEGIN:VEVENT
DTSTART;TZID=America/New_York:20230729T090000
DTEND;TZID=America/New_York:20230729T123000
DTSTAMP:20260420T210124
CREATED:20230531T015009Z
LAST-MODIFIED:20230531T015012Z
UID:10005712-1690621200-1690633800@ctgrown.org
SUMMARY:Cornwall Co-op Farm Market
DESCRIPTION:
URL:https://ctgrown.org/event/cornwall-co-op-farm-market-2/2023-07-29/
LOCATION:Cornwall Town Hall\, 16 Pine Street\, Cornwall\, Connecticut\, 06796\, United States
END:VEVENT
BEGIN:VEVENT
DTSTART;TZID=America/New_York:20230722T090000
DTEND;TZID=America/New_York:20230722T123000
DTSTAMP:20260420T210124
CREATED:20230531T015009Z
LAST-MODIFIED:20230531T015012Z
UID:10005711-1690016400-1690029000@ctgrown.org
SUMMARY:Cornwall Co-op Farm Market
DESCRIPTION:
URL:https://ctgrown.org/event/cornwall-co-op-farm-market-2/2023-07-22/
LOCATION:Cornwall Town Hall\, 16 Pine Street\, Cornwall\, Connecticut\, 06796\, United States
END:VEVENT
BEGIN:VEVENT
DTSTART;TZID=America/New_York:20230715T090000
DTEND;TZID=America/New_York:20230715T123000
DTSTAMP:20260420T210124
CREATED:20230531T015009Z
LAST-MODIFIED:20230531T015012Z
UID:10005710-1689411600-1689424200@ctgrown.org
SUMMARY:Cornwall Co-op Farm Market
DESCRIPTION:
URL:https://ctgrown.org/event/cornwall-co-op-farm-market-2/2023-07-15/
LOCATION:Cornwall Town Hall\, 16 Pine Street\, Cornwall\, Connecticut\, 06796\, United States
END:VEVENT
BEGIN:VEVENT
DTSTART;TZID=America/New_York:20230708T090000
DTEND;TZID=America/New_York:20230708T123000
DTSTAMP:20260420T210124
CREATED:20230531T015009Z
LAST-MODIFIED:20230531T015012Z
UID:10005709-1688806800-1688819400@ctgrown.org
SUMMARY:Cornwall Co-op Farm Market
DESCRIPTION:
URL:https://ctgrown.org/event/cornwall-co-op-farm-market-2/2023-07-08/
LOCATION:Cornwall Town Hall\, 16 Pine Street\, Cornwall\, Connecticut\, 06796\, United States
END:VEVENT
BEGIN:VEVENT
DTSTART;TZID=America/New_York:20230701T090000
DTEND;TZID=America/New_York:20230701T123000
DTSTAMP:20260420T210124
CREATED:20230531T015009Z
LAST-MODIFIED:20230531T015012Z
UID:10005708-1688202000-1688214600@ctgrown.org
SUMMARY:Cornwall Co-op Farm Market
DESCRIPTION:
URL:https://ctgrown.org/event/cornwall-co-op-farm-market-2/2023-07-01/
LOCATION:Cornwall Town Hall\, 16 Pine Street\, Cornwall\, Connecticut\, 06796\, United States
END:VEVENT
BEGIN:VEVENT
DTSTART;TZID=America/New_York:20230624T090000
DTEND;TZID=America/New_York:20230624T123000
DTSTAMP:20260420T210124
CREATED:20230531T015009Z
LAST-MODIFIED:20230531T015012Z
UID:10005707-1687597200-1687609800@ctgrown.org
SUMMARY:Cornwall Co-op Farm Market
DESCRIPTION:
URL:https://ctgrown.org/event/cornwall-co-op-farm-market-2/2023-06-24/
LOCATION:Cornwall Town Hall\, 16 Pine Street\, Cornwall\, Connecticut\, 06796\, United States
END:VEVENT
BEGIN:VEVENT
DTSTART;TZID=America/New_York:20230617T090000
DTEND;TZID=America/New_York:20230617T123000
DTSTAMP:20260420T210124
CREATED:20230531T015009Z
LAST-MODIFIED:20230531T015012Z
UID:10005706-1686992400-1687005000@ctgrown.org
SUMMARY:Cornwall Co-op Farm Market
DESCRIPTION:
URL:https://ctgrown.org/event/cornwall-co-op-farm-market-2/2023-06-17/
LOCATION:Cornwall Town Hall\, 16 Pine Street\, Cornwall\, Connecticut\, 06796\, United States
END:VEVENT
BEGIN:VEVENT
DTSTART;TZID=America/New_York:20230610T090000
DTEND;TZID=America/New_York:20230610T123000
DTSTAMP:20260420T210124
CREATED:20230531T015009Z
LAST-MODIFIED:20230531T015012Z
UID:10005705-1686387600-1686400200@ctgrown.org
SUMMARY:Cornwall Co-op Farm Market
DESCRIPTION:
URL:https://ctgrown.org/event/cornwall-co-op-farm-market-2/2023-06-10/
LOCATION:Cornwall Town Hall\, 16 Pine Street\, Cornwall\, Connecticut\, 06796\, United States
END:VEVENT
BEGIN:VEVENT
DTSTART;TZID=America/New_York:20230603T090000
DTEND;TZID=America/New_York:20230603T123000
DTSTAMP:20260420T210124
CREATED:20230531T015009Z
LAST-MODIFIED:20230531T015012Z
UID:10005704-1685782800-1685795400@ctgrown.org
SUMMARY:Cornwall Co-op Farm Market
DESCRIPTION:
URL:https://ctgrown.org/event/cornwall-co-op-farm-market-2/2023-06-03/
LOCATION:Cornwall Town Hall\, 16 Pine Street\, Cornwall\, Connecticut\, 06796\, United States
END:VEVENT
BEGIN:VEVENT
DTSTART;TZID=America/New_York:20221022T090000
DTEND;TZID=America/New_York:20221022T123000
DTSTAMP:20260420T210124
CREATED:20220801T185454Z
LAST-MODIFIED:20220801T185456Z
UID:10004316-1666429200-1666441800@ctgrown.org
SUMMARY:Cornwall Co-Op Farm Market
DESCRIPTION:
URL:https://ctgrown.org/event/cornwall-co-op-farm-market/2022-10-22/
LOCATION:Cornwall Town Hall\, 16 Pine Street\, Cornwall\, Connecticut\, 06796\, United States
END:VEVENT
BEGIN:VEVENT
DTSTART;TZID=America/New_York:20221015T090000
DTEND;TZID=America/New_York:20221015T123000
DTSTAMP:20260420T210124
CREATED:20220801T185454Z
LAST-MODIFIED:20220801T185456Z
UID:10004315-1665824400-1665837000@ctgrown.org
SUMMARY:Cornwall Co-Op Farm Market
DESCRIPTION:
URL:https://ctgrown.org/event/cornwall-co-op-farm-market/2022-10-15/
LOCATION:Cornwall Town Hall\, 16 Pine Street\, Cornwall\, Connecticut\, 06796\, United States
END:VEVENT
BEGIN:VEVENT
DTSTART;TZID=America/New_York:20221008T090000
DTEND;TZID=America/New_York:20221008T123000
DTSTAMP:20260420T210124
CREATED:20220801T185454Z
LAST-MODIFIED:20220801T185456Z
UID:10004314-1665219600-1665232200@ctgrown.org
SUMMARY:Cornwall Co-Op Farm Market
DESCRIPTION:
URL:https://ctgrown.org/event/cornwall-co-op-farm-market/2022-10-08/
LOCATION:Cornwall Town Hall\, 16 Pine Street\, Cornwall\, Connecticut\, 06796\, United States
END:VEVENT
BEGIN:VEVENT
DTSTART;TZID=America/New_York:20221001T090000
DTEND;TZID=America/New_York:20221001T123000
DTSTAMP:20260420T210124
CREATED:20220801T185454Z
LAST-MODIFIED:20220801T185456Z
UID:10004313-1664614800-1664627400@ctgrown.org
SUMMARY:Cornwall Co-Op Farm Market
DESCRIPTION:
URL:https://ctgrown.org/event/cornwall-co-op-farm-market/2022-10-01/
LOCATION:Cornwall Town Hall\, 16 Pine Street\, Cornwall\, Connecticut\, 06796\, United States
END:VEVENT
BEGIN:VEVENT
DTSTART;TZID=America/New_York:20220924T090000
DTEND;TZID=America/New_York:20220924T123000
DTSTAMP:20260420T210124
CREATED:20220801T185454Z
LAST-MODIFIED:20220801T185456Z
UID:10004312-1664010000-1664022600@ctgrown.org
SUMMARY:Cornwall Co-Op Farm Market
DESCRIPTION:
URL:https://ctgrown.org/event/cornwall-co-op-farm-market/2022-09-24/
LOCATION:Cornwall Town Hall\, 16 Pine Street\, Cornwall\, Connecticut\, 06796\, United States
END:VEVENT
BEGIN:VEVENT
DTSTART;TZID=America/New_York:20220917T090000
DTEND;TZID=America/New_York:20220917T123000
DTSTAMP:20260420T210124
CREATED:20220801T185454Z
LAST-MODIFIED:20220801T185456Z
UID:10004311-1663405200-1663417800@ctgrown.org
SUMMARY:Cornwall Co-Op Farm Market
DESCRIPTION:
URL:https://ctgrown.org/event/cornwall-co-op-farm-market/2022-09-17/
LOCATION:Cornwall Town Hall\, 16 Pine Street\, Cornwall\, Connecticut\, 06796\, United States
END:VEVENT
BEGIN:VEVENT
DTSTART;TZID=America/New_York:20220910T090000
DTEND;TZID=America/New_York:20220910T123000
DTSTAMP:20260420T210124
CREATED:20220801T185454Z
LAST-MODIFIED:20220801T185456Z
UID:10004310-1662800400-1662813000@ctgrown.org
SUMMARY:Cornwall Co-Op Farm Market
DESCRIPTION:
URL:https://ctgrown.org/event/cornwall-co-op-farm-market/2022-09-10/
LOCATION:Cornwall Town Hall\, 16 Pine Street\, Cornwall\, Connecticut\, 06796\, United States
END:VEVENT
BEGIN:VEVENT
DTSTART;TZID=America/New_York:20220903T090000
DTEND;TZID=America/New_York:20220903T123000
DTSTAMP:20260420T210124
CREATED:20220801T185454Z
LAST-MODIFIED:20220801T185456Z
UID:10004309-1662195600-1662208200@ctgrown.org
SUMMARY:Cornwall Co-Op Farm Market
DESCRIPTION:
URL:https://ctgrown.org/event/cornwall-co-op-farm-market/2022-09-03/
LOCATION:Cornwall Town Hall\, 16 Pine Street\, Cornwall\, Connecticut\, 06796\, United States
END:VEVENT
END:VCALENDAR