BEGIN:VCALENDAR
VERSION:2.0
PRODID:-//CT Grown - ECPv6.15.18//NONSGML v1.0//EN
CALSCALE:GREGORIAN
METHOD:PUBLISH
X-WR-CALNAME:CT Grown
X-ORIGINAL-URL:https://ctgrown.org
X-WR-CALDESC:Events for CT Grown
REFRESH-INTERVAL;VALUE=DURATION:PT1H
X-Robots-Tag:noindex
X-PUBLISHED-TTL:PT1H
BEGIN:VTIMEZONE
TZID:America/New_York
BEGIN:DAYLIGHT
TZOFFSETFROM:-0500
TZOFFSETTO:-0400
TZNAME:EDT
DTSTART:20210314T070000
END:DAYLIGHT
BEGIN:STANDARD
TZOFFSETFROM:-0400
TZOFFSETTO:-0500
TZNAME:EST
DTSTART:20211107T060000
END:STANDARD
BEGIN:DAYLIGHT
TZOFFSETFROM:-0500
TZOFFSETTO:-0400
TZNAME:EDT
DTSTART:20220313T070000
END:DAYLIGHT
BEGIN:STANDARD
TZOFFSETFROM:-0400
TZOFFSETTO:-0500
TZNAME:EST
DTSTART:20221106T060000
END:STANDARD
BEGIN:DAYLIGHT
TZOFFSETFROM:-0500
TZOFFSETTO:-0400
TZNAME:EDT
DTSTART:20230312T070000
END:DAYLIGHT
BEGIN:STANDARD
TZOFFSETFROM:-0400
TZOFFSETTO:-0500
TZNAME:EST
DTSTART:20231105T060000
END:STANDARD
END:VTIMEZONE
BEGIN:VEVENT
DTSTART;TZID=America/New_York:20221029T100000
DTEND;TZID=America/New_York:20221029T140000
DTSTAMP:20260421T075917
CREATED:20220801T185120Z
LAST-MODIFIED:20220801T185122Z
UID:10004304-1667037600-1667052000@ctgrown.org
SUMMARY:Deep River Farmers Market
DESCRIPTION:
URL:https://ctgrown.org/event/deep-river-farmers-market/2022-10-29/
LOCATION:Deep River Farmers Market\, 1 Church Street\, Deep River\, Connecticut\, 06417\, United States
END:VEVENT
BEGIN:VEVENT
DTSTART;TZID=America/New_York:20221022T100000
DTEND;TZID=America/New_York:20221022T140000
DTSTAMP:20260421T075917
CREATED:20220801T185120Z
LAST-MODIFIED:20220801T185122Z
UID:10004303-1666432800-1666447200@ctgrown.org
SUMMARY:Deep River Farmers Market
DESCRIPTION:
URL:https://ctgrown.org/event/deep-river-farmers-market/2022-10-22/
LOCATION:Deep River Farmers Market\, 1 Church Street\, Deep River\, Connecticut\, 06417\, United States
END:VEVENT
BEGIN:VEVENT
DTSTART;TZID=America/New_York:20221015T100000
DTEND;TZID=America/New_York:20221015T140000
DTSTAMP:20260421T075917
CREATED:20220801T185120Z
LAST-MODIFIED:20220801T185122Z
UID:10004302-1665828000-1665842400@ctgrown.org
SUMMARY:Deep River Farmers Market
DESCRIPTION:
URL:https://ctgrown.org/event/deep-river-farmers-market/2022-10-15/
LOCATION:Deep River Farmers Market\, 1 Church Street\, Deep River\, Connecticut\, 06417\, United States
END:VEVENT
BEGIN:VEVENT
DTSTART;TZID=America/New_York:20221008T100000
DTEND;TZID=America/New_York:20221008T140000
DTSTAMP:20260421T075917
CREATED:20220801T185120Z
LAST-MODIFIED:20220801T185122Z
UID:10004301-1665223200-1665237600@ctgrown.org
SUMMARY:Deep River Farmers Market
DESCRIPTION:
URL:https://ctgrown.org/event/deep-river-farmers-market/2022-10-08/
LOCATION:Deep River Farmers Market\, 1 Church Street\, Deep River\, Connecticut\, 06417\, United States
END:VEVENT
BEGIN:VEVENT
DTSTART;TZID=America/New_York:20221001T100000
DTEND;TZID=America/New_York:20221001T140000
DTSTAMP:20260421T075917
CREATED:20220801T185120Z
LAST-MODIFIED:20220801T185122Z
UID:10004300-1664618400-1664632800@ctgrown.org
SUMMARY:Deep River Farmers Market
DESCRIPTION:
URL:https://ctgrown.org/event/deep-river-farmers-market/2022-10-01/
LOCATION:Deep River Farmers Market\, 1 Church Street\, Deep River\, Connecticut\, 06417\, United States
END:VEVENT
BEGIN:VEVENT
DTSTART;TZID=America/New_York:20220924T100000
DTEND;TZID=America/New_York:20220924T140000
DTSTAMP:20260421T075917
CREATED:20220801T185120Z
LAST-MODIFIED:20220801T185122Z
UID:10004299-1664013600-1664028000@ctgrown.org
SUMMARY:Deep River Farmers Market
DESCRIPTION:
URL:https://ctgrown.org/event/deep-river-farmers-market/2022-09-24/
LOCATION:Deep River Farmers Market\, 1 Church Street\, Deep River\, Connecticut\, 06417\, United States
END:VEVENT
BEGIN:VEVENT
DTSTART;TZID=America/New_York:20220917T100000
DTEND;TZID=America/New_York:20220917T140000
DTSTAMP:20260421T075917
CREATED:20220801T185120Z
LAST-MODIFIED:20220801T185122Z
UID:10004298-1663408800-1663423200@ctgrown.org
SUMMARY:Deep River Farmers Market
DESCRIPTION:
URL:https://ctgrown.org/event/deep-river-farmers-market/2022-09-17/
LOCATION:Deep River Farmers Market\, 1 Church Street\, Deep River\, Connecticut\, 06417\, United States
END:VEVENT
BEGIN:VEVENT
DTSTART;TZID=America/New_York:20220910T100000
DTEND;TZID=America/New_York:20220910T140000
DTSTAMP:20260421T075917
CREATED:20220801T185120Z
LAST-MODIFIED:20220801T185122Z
UID:10004297-1662804000-1662818400@ctgrown.org
SUMMARY:Deep River Farmers Market
DESCRIPTION:
URL:https://ctgrown.org/event/deep-river-farmers-market/2022-09-10/
LOCATION:Deep River Farmers Market\, 1 Church Street\, Deep River\, Connecticut\, 06417\, United States
END:VEVENT
BEGIN:VEVENT
DTSTART;TZID=America/New_York:20220903T100000
DTEND;TZID=America/New_York:20220903T140000
DTSTAMP:20260421T075917
CREATED:20220801T185120Z
LAST-MODIFIED:20220801T185122Z
UID:10004296-1662199200-1662213600@ctgrown.org
SUMMARY:Deep River Farmers Market
DESCRIPTION:
URL:https://ctgrown.org/event/deep-river-farmers-market/2022-09-03/
LOCATION:Deep River Farmers Market\, 1 Church Street\, Deep River\, Connecticut\, 06417\, United States
END:VEVENT
BEGIN:VEVENT
DTSTART;TZID=America/New_York:20220827T100000
DTEND;TZID=America/New_York:20220827T140000
DTSTAMP:20260421T075917
CREATED:20220801T185120Z
LAST-MODIFIED:20220801T185122Z
UID:10004295-1661594400-1661608800@ctgrown.org
SUMMARY:Deep River Farmers Market
DESCRIPTION:
URL:https://ctgrown.org/event/deep-river-farmers-market/2022-08-27/
LOCATION:Deep River Farmers Market\, 1 Church Street\, Deep River\, Connecticut\, 06417\, United States
END:VEVENT
BEGIN:VEVENT
DTSTART;TZID=America/New_York:20220820T100000
DTEND;TZID=America/New_York:20220820T140000
DTSTAMP:20260421T075917
CREATED:20220801T185120Z
LAST-MODIFIED:20220801T185122Z
UID:10004294-1660989600-1661004000@ctgrown.org
SUMMARY:Deep River Farmers Market
DESCRIPTION:
URL:https://ctgrown.org/event/deep-river-farmers-market/2022-08-20/
LOCATION:Deep River Farmers Market\, 1 Church Street\, Deep River\, Connecticut\, 06417\, United States
END:VEVENT
BEGIN:VEVENT
DTSTART;TZID=America/New_York:20220813T100000
DTEND;TZID=America/New_York:20220813T140000
DTSTAMP:20260421T075917
CREATED:20220801T185120Z
LAST-MODIFIED:20220801T185122Z
UID:10004293-1660384800-1660399200@ctgrown.org
SUMMARY:Deep River Farmers Market
DESCRIPTION:
URL:https://ctgrown.org/event/deep-river-farmers-market/2022-08-13/
LOCATION:Deep River Farmers Market\, 1 Church Street\, Deep River\, Connecticut\, 06417\, United States
END:VEVENT
BEGIN:VEVENT
DTSTART;TZID=America/New_York:20220806T100000
DTEND;TZID=America/New_York:20220806T140000
DTSTAMP:20260421T075917
CREATED:20220801T185120Z
LAST-MODIFIED:20220801T185122Z
UID:10004292-1659780000-1659794400@ctgrown.org
SUMMARY:Deep River Farmers Market
DESCRIPTION:
URL:https://ctgrown.org/event/deep-river-farmers-market/2022-08-06/
LOCATION:Deep River Farmers Market\, 1 Church Street\, Deep River\, Connecticut\, 06417\, United States
END:VEVENT
END:VCALENDAR