BEGIN:VCALENDAR
VERSION:2.0
PRODID:-//CT Grown - ECPv6.15.18//NONSGML v1.0//EN
CALSCALE:GREGORIAN
METHOD:PUBLISH
X-ORIGINAL-URL:https://ctgrown.org
X-WR-CALDESC:Events for CT Grown
REFRESH-INTERVAL;VALUE=DURATION:PT1H
X-Robots-Tag:noindex
X-PUBLISHED-TTL:PT1H
BEGIN:VTIMEZONE
TZID:America/New_York
BEGIN:DAYLIGHT
TZOFFSETFROM:-0500
TZOFFSETTO:-0400
TZNAME:EDT
DTSTART:20220313T070000
END:DAYLIGHT
BEGIN:STANDARD
TZOFFSETFROM:-0400
TZOFFSETTO:-0500
TZNAME:EST
DTSTART:20221106T060000
END:STANDARD
BEGIN:DAYLIGHT
TZOFFSETFROM:-0500
TZOFFSETTO:-0400
TZNAME:EDT
DTSTART:20230312T070000
END:DAYLIGHT
BEGIN:STANDARD
TZOFFSETFROM:-0400
TZOFFSETTO:-0500
TZNAME:EST
DTSTART:20231105T060000
END:STANDARD
BEGIN:DAYLIGHT
TZOFFSETFROM:-0500
TZOFFSETTO:-0400
TZNAME:EDT
DTSTART:20240310T070000
END:DAYLIGHT
BEGIN:STANDARD
TZOFFSETFROM:-0400
TZOFFSETTO:-0500
TZNAME:EST
DTSTART:20241103T060000
END:STANDARD
END:VTIMEZONE
BEGIN:VEVENT
DTSTART;TZID=America/New_York:20231124T150000
DTEND;TZID=America/New_York:20231124T180000
DTSTAMP:20260425T063436
CREATED:20230608T014515Z
LAST-MODIFIED:20230608T014517Z
UID:10006371-1700838000-1700848800@ctgrown.org
SUMMARY:Madison Farmers' Market
DESCRIPTION:
URL:https://ctgrown.org/event/madison-farmers-market-3/2023-11-24/
LOCATION:Madison Town Green\, 26 Meeting House Lane\, Madison\, Connecticut\, 06443\, United States
END:VEVENT
BEGIN:VEVENT
DTSTART;TZID=America/New_York:20231124T150000
DTEND;TZID=America/New_York:20231124T180000
DTSTAMP:20260425T063436
CREATED:20230502T010435Z
LAST-MODIFIED:20230502T010438Z
UID:10005237-1700838000-1700848800@ctgrown.org
SUMMARY:Madison Farmers' Market
DESCRIPTION:
URL:https://ctgrown.org/event/madison-farmers-market-2/2023-11-24/
LOCATION:Madison Town Green\, 26 Meeting House Lane\, Madison\, Connecticut\, 06443\, United States
END:VEVENT
BEGIN:VEVENT
DTSTART;TZID=America/New_York:20231117T150000
DTEND;TZID=America/New_York:20231117T180000
DTSTAMP:20260425T063436
CREATED:20230608T014515Z
LAST-MODIFIED:20230608T014517Z
UID:10006370-1700233200-1700244000@ctgrown.org
SUMMARY:Madison Farmers' Market
DESCRIPTION:
URL:https://ctgrown.org/event/madison-farmers-market-3/2023-11-17/
LOCATION:Madison Town Green\, 26 Meeting House Lane\, Madison\, Connecticut\, 06443\, United States
END:VEVENT
BEGIN:VEVENT
DTSTART;TZID=America/New_York:20231117T150000
DTEND;TZID=America/New_York:20231117T180000
DTSTAMP:20260425T063436
CREATED:20230502T010435Z
LAST-MODIFIED:20230502T010438Z
UID:10005236-1700233200-1700244000@ctgrown.org
SUMMARY:Madison Farmers' Market
DESCRIPTION:
URL:https://ctgrown.org/event/madison-farmers-market-2/2023-11-17/
LOCATION:Madison Town Green\, 26 Meeting House Lane\, Madison\, Connecticut\, 06443\, United States
END:VEVENT
BEGIN:VEVENT
DTSTART;TZID=America/New_York:20231110T150000
DTEND;TZID=America/New_York:20231110T180000
DTSTAMP:20260425T063436
CREATED:20230608T014515Z
LAST-MODIFIED:20230608T014517Z
UID:10006369-1699628400-1699639200@ctgrown.org
SUMMARY:Madison Farmers' Market
DESCRIPTION:
URL:https://ctgrown.org/event/madison-farmers-market-3/2023-11-10/
LOCATION:Madison Town Green\, 26 Meeting House Lane\, Madison\, Connecticut\, 06443\, United States
END:VEVENT
BEGIN:VEVENT
DTSTART;TZID=America/New_York:20231110T150000
DTEND;TZID=America/New_York:20231110T180000
DTSTAMP:20260425T063436
CREATED:20230502T010435Z
LAST-MODIFIED:20230502T010438Z
UID:10005235-1699628400-1699639200@ctgrown.org
SUMMARY:Madison Farmers' Market
DESCRIPTION:
URL:https://ctgrown.org/event/madison-farmers-market-2/2023-11-10/
LOCATION:Madison Town Green\, 26 Meeting House Lane\, Madison\, Connecticut\, 06443\, United States
END:VEVENT
BEGIN:VEVENT
DTSTART;TZID=America/New_York:20231103T150000
DTEND;TZID=America/New_York:20231103T180000
DTSTAMP:20260425T063436
CREATED:20230608T014515Z
LAST-MODIFIED:20230608T014517Z
UID:10006368-1699023600-1699034400@ctgrown.org
SUMMARY:Madison Farmers' Market
DESCRIPTION:
URL:https://ctgrown.org/event/madison-farmers-market-3/2023-11-03/
LOCATION:Madison Town Green\, 26 Meeting House Lane\, Madison\, Connecticut\, 06443\, United States
END:VEVENT
BEGIN:VEVENT
DTSTART;TZID=America/New_York:20231103T150000
DTEND;TZID=America/New_York:20231103T180000
DTSTAMP:20260425T063436
CREATED:20230502T010435Z
LAST-MODIFIED:20230502T010438Z
UID:10005234-1699023600-1699034400@ctgrown.org
SUMMARY:Madison Farmers' Market
DESCRIPTION:
URL:https://ctgrown.org/event/madison-farmers-market-2/2023-11-03/
LOCATION:Madison Town Green\, 26 Meeting House Lane\, Madison\, Connecticut\, 06443\, United States
END:VEVENT
BEGIN:VEVENT
DTSTART;TZID=America/New_York:20231027T150000
DTEND;TZID=America/New_York:20231027T180000
DTSTAMP:20260425T063436
CREATED:20230608T014515Z
LAST-MODIFIED:20230608T014517Z
UID:10006367-1698418800-1698429600@ctgrown.org
SUMMARY:Madison Farmers' Market
DESCRIPTION:
URL:https://ctgrown.org/event/madison-farmers-market-3/2023-10-27/
LOCATION:Madison Town Green\, 26 Meeting House Lane\, Madison\, Connecticut\, 06443\, United States
END:VEVENT
BEGIN:VEVENT
DTSTART;TZID=America/New_York:20231027T150000
DTEND;TZID=America/New_York:20231027T180000
DTSTAMP:20260425T063436
CREATED:20230502T010435Z
LAST-MODIFIED:20230502T010438Z
UID:10005233-1698418800-1698429600@ctgrown.org
SUMMARY:Madison Farmers' Market
DESCRIPTION:
URL:https://ctgrown.org/event/madison-farmers-market-2/2023-10-27/
LOCATION:Madison Town Green\, 26 Meeting House Lane\, Madison\, Connecticut\, 06443\, United States
END:VEVENT
BEGIN:VEVENT
DTSTART;TZID=America/New_York:20231020T150000
DTEND;TZID=America/New_York:20231020T180000
DTSTAMP:20260425T063436
CREATED:20230608T014515Z
LAST-MODIFIED:20230608T014517Z
UID:10006366-1697814000-1697824800@ctgrown.org
SUMMARY:Madison Farmers' Market
DESCRIPTION:
URL:https://ctgrown.org/event/madison-farmers-market-3/2023-10-20/
LOCATION:Madison Town Green\, 26 Meeting House Lane\, Madison\, Connecticut\, 06443\, United States
END:VEVENT
BEGIN:VEVENT
DTSTART;TZID=America/New_York:20231020T150000
DTEND;TZID=America/New_York:20231020T180000
DTSTAMP:20260425T063436
CREATED:20230502T010435Z
LAST-MODIFIED:20230502T010438Z
UID:10005232-1697814000-1697824800@ctgrown.org
SUMMARY:Madison Farmers' Market
DESCRIPTION:
URL:https://ctgrown.org/event/madison-farmers-market-2/2023-10-20/
LOCATION:Madison Town Green\, 26 Meeting House Lane\, Madison\, Connecticut\, 06443\, United States
END:VEVENT
BEGIN:VEVENT
DTSTART;TZID=America/New_York:20231013T150000
DTEND;TZID=America/New_York:20231013T180000
DTSTAMP:20260425T063436
CREATED:20230608T014515Z
LAST-MODIFIED:20230608T014517Z
UID:10006365-1697209200-1697220000@ctgrown.org
SUMMARY:Madison Farmers' Market
DESCRIPTION:
URL:https://ctgrown.org/event/madison-farmers-market-3/2023-10-13/
LOCATION:Madison Town Green\, 26 Meeting House Lane\, Madison\, Connecticut\, 06443\, United States
END:VEVENT
BEGIN:VEVENT
DTSTART;TZID=America/New_York:20231013T150000
DTEND;TZID=America/New_York:20231013T180000
DTSTAMP:20260425T063436
CREATED:20230502T010435Z
LAST-MODIFIED:20230502T010438Z
UID:10005231-1697209200-1697220000@ctgrown.org
SUMMARY:Madison Farmers' Market
DESCRIPTION:
URL:https://ctgrown.org/event/madison-farmers-market-2/2023-10-13/
LOCATION:Madison Town Green\, 26 Meeting House Lane\, Madison\, Connecticut\, 06443\, United States
END:VEVENT
BEGIN:VEVENT
DTSTART;TZID=America/New_York:20231006T150000
DTEND;TZID=America/New_York:20231006T180000
DTSTAMP:20260425T063436
CREATED:20230608T014515Z
LAST-MODIFIED:20230608T014517Z
UID:10006364-1696604400-1696615200@ctgrown.org
SUMMARY:Madison Farmers' Market
DESCRIPTION:
URL:https://ctgrown.org/event/madison-farmers-market-3/2023-10-06/
LOCATION:Madison Town Green\, 26 Meeting House Lane\, Madison\, Connecticut\, 06443\, United States
END:VEVENT
BEGIN:VEVENT
DTSTART;TZID=America/New_York:20231006T150000
DTEND;TZID=America/New_York:20231006T180000
DTSTAMP:20260425T063436
CREATED:20230502T010435Z
LAST-MODIFIED:20230502T010438Z
UID:10005230-1696604400-1696615200@ctgrown.org
SUMMARY:Madison Farmers' Market
DESCRIPTION:
URL:https://ctgrown.org/event/madison-farmers-market-2/2023-10-06/
LOCATION:Madison Town Green\, 26 Meeting House Lane\, Madison\, Connecticut\, 06443\, United States
END:VEVENT
BEGIN:VEVENT
DTSTART;TZID=America/New_York:20230929T150000
DTEND;TZID=America/New_York:20230929T180000
DTSTAMP:20260425T063436
CREATED:20230608T014515Z
LAST-MODIFIED:20230608T014517Z
UID:10006363-1695999600-1696010400@ctgrown.org
SUMMARY:Madison Farmers' Market
DESCRIPTION:
URL:https://ctgrown.org/event/madison-farmers-market-3/2023-09-29/
LOCATION:Madison Town Green\, 26 Meeting House Lane\, Madison\, Connecticut\, 06443\, United States
END:VEVENT
BEGIN:VEVENT
DTSTART;TZID=America/New_York:20230929T150000
DTEND;TZID=America/New_York:20230929T180000
DTSTAMP:20260425T063436
CREATED:20230502T010435Z
LAST-MODIFIED:20230502T010438Z
UID:10005229-1695999600-1696010400@ctgrown.org
SUMMARY:Madison Farmers' Market
DESCRIPTION:
URL:https://ctgrown.org/event/madison-farmers-market-2/2023-09-29/
LOCATION:Madison Town Green\, 26 Meeting House Lane\, Madison\, Connecticut\, 06443\, United States
END:VEVENT
BEGIN:VEVENT
DTSTART;TZID=America/New_York:20230922T150000
DTEND;TZID=America/New_York:20230922T180000
DTSTAMP:20260425T063436
CREATED:20230608T014515Z
LAST-MODIFIED:20230608T014517Z
UID:10006362-1695394800-1695405600@ctgrown.org
SUMMARY:Madison Farmers' Market
DESCRIPTION:
URL:https://ctgrown.org/event/madison-farmers-market-3/2023-09-22/
LOCATION:Madison Town Green\, 26 Meeting House Lane\, Madison\, Connecticut\, 06443\, United States
END:VEVENT
BEGIN:VEVENT
DTSTART;TZID=America/New_York:20230922T150000
DTEND;TZID=America/New_York:20230922T180000
DTSTAMP:20260425T063436
CREATED:20230502T010435Z
LAST-MODIFIED:20230502T010438Z
UID:10005228-1695394800-1695405600@ctgrown.org
SUMMARY:Madison Farmers' Market
DESCRIPTION:
URL:https://ctgrown.org/event/madison-farmers-market-2/2023-09-22/
LOCATION:Madison Town Green\, 26 Meeting House Lane\, Madison\, Connecticut\, 06443\, United States
END:VEVENT
BEGIN:VEVENT
DTSTART;TZID=America/New_York:20230915T150000
DTEND;TZID=America/New_York:20230915T180000
DTSTAMP:20260425T063436
CREATED:20230608T014515Z
LAST-MODIFIED:20230608T014517Z
UID:10006361-1694790000-1694800800@ctgrown.org
SUMMARY:Madison Farmers' Market
DESCRIPTION:
URL:https://ctgrown.org/event/madison-farmers-market-3/2023-09-15/
LOCATION:Madison Town Green\, 26 Meeting House Lane\, Madison\, Connecticut\, 06443\, United States
END:VEVENT
BEGIN:VEVENT
DTSTART;TZID=America/New_York:20230915T150000
DTEND;TZID=America/New_York:20230915T180000
DTSTAMP:20260425T063436
CREATED:20230502T010435Z
LAST-MODIFIED:20230502T010438Z
UID:10005227-1694790000-1694800800@ctgrown.org
SUMMARY:Madison Farmers' Market
DESCRIPTION:
URL:https://ctgrown.org/event/madison-farmers-market-2/2023-09-15/
LOCATION:Madison Town Green\, 26 Meeting House Lane\, Madison\, Connecticut\, 06443\, United States
END:VEVENT
BEGIN:VEVENT
DTSTART;TZID=America/New_York:20230908T150000
DTEND;TZID=America/New_York:20230908T180000
DTSTAMP:20260425T063436
CREATED:20230608T014515Z
LAST-MODIFIED:20230608T014517Z
UID:10006360-1694185200-1694196000@ctgrown.org
SUMMARY:Madison Farmers' Market
DESCRIPTION:
URL:https://ctgrown.org/event/madison-farmers-market-3/2023-09-08/
LOCATION:Madison Town Green\, 26 Meeting House Lane\, Madison\, Connecticut\, 06443\, United States
END:VEVENT
BEGIN:VEVENT
DTSTART;TZID=America/New_York:20230908T150000
DTEND;TZID=America/New_York:20230908T180000
DTSTAMP:20260425T063436
CREATED:20230502T010435Z
LAST-MODIFIED:20230502T010438Z
UID:10005226-1694185200-1694196000@ctgrown.org
SUMMARY:Madison Farmers' Market
DESCRIPTION:
URL:https://ctgrown.org/event/madison-farmers-market-2/2023-09-08/
LOCATION:Madison Town Green\, 26 Meeting House Lane\, Madison\, Connecticut\, 06443\, United States
END:VEVENT
BEGIN:VEVENT
DTSTART;TZID=America/New_York:20230901T150000
DTEND;TZID=America/New_York:20230901T180000
DTSTAMP:20260425T063436
CREATED:20230608T014515Z
LAST-MODIFIED:20230608T014517Z
UID:10006359-1693580400-1693591200@ctgrown.org
SUMMARY:Madison Farmers' Market
DESCRIPTION:
URL:https://ctgrown.org/event/madison-farmers-market-3/2023-09-01/
LOCATION:Madison Town Green\, 26 Meeting House Lane\, Madison\, Connecticut\, 06443\, United States
END:VEVENT
BEGIN:VEVENT
DTSTART;TZID=America/New_York:20230901T150000
DTEND;TZID=America/New_York:20230901T180000
DTSTAMP:20260425T063436
CREATED:20230502T010435Z
LAST-MODIFIED:20230502T010438Z
UID:10005225-1693580400-1693591200@ctgrown.org
SUMMARY:Madison Farmers' Market
DESCRIPTION:
URL:https://ctgrown.org/event/madison-farmers-market-2/2023-09-01/
LOCATION:Madison Town Green\, 26 Meeting House Lane\, Madison\, Connecticut\, 06443\, United States
END:VEVENT
BEGIN:VEVENT
DTSTART;TZID=America/New_York:20230825T150000
DTEND;TZID=America/New_York:20230825T180000
DTSTAMP:20260425T063436
CREATED:20230608T014515Z
LAST-MODIFIED:20230608T014517Z
UID:10006358-1692975600-1692986400@ctgrown.org
SUMMARY:Madison Farmers' Market
DESCRIPTION:
URL:https://ctgrown.org/event/madison-farmers-market-3/2023-08-25/
LOCATION:Madison Town Green\, 26 Meeting House Lane\, Madison\, Connecticut\, 06443\, United States
END:VEVENT
BEGIN:VEVENT
DTSTART;TZID=America/New_York:20230825T150000
DTEND;TZID=America/New_York:20230825T180000
DTSTAMP:20260425T063436
CREATED:20230502T010435Z
LAST-MODIFIED:20230502T010438Z
UID:10005224-1692975600-1692986400@ctgrown.org
SUMMARY:Madison Farmers' Market
DESCRIPTION:
URL:https://ctgrown.org/event/madison-farmers-market-2/2023-08-25/
LOCATION:Madison Town Green\, 26 Meeting House Lane\, Madison\, Connecticut\, 06443\, United States
END:VEVENT
BEGIN:VEVENT
DTSTART;TZID=America/New_York:20230818T150000
DTEND;TZID=America/New_York:20230818T180000
DTSTAMP:20260425T063436
CREATED:20230608T014515Z
LAST-MODIFIED:20230608T014517Z
UID:10006357-1692370800-1692381600@ctgrown.org
SUMMARY:Madison Farmers' Market
DESCRIPTION:
URL:https://ctgrown.org/event/madison-farmers-market-3/2023-08-18/
LOCATION:Madison Town Green\, 26 Meeting House Lane\, Madison\, Connecticut\, 06443\, United States
END:VEVENT
BEGIN:VEVENT
DTSTART;TZID=America/New_York:20230818T150000
DTEND;TZID=America/New_York:20230818T180000
DTSTAMP:20260425T063436
CREATED:20230502T010435Z
LAST-MODIFIED:20230502T010438Z
UID:10005223-1692370800-1692381600@ctgrown.org
SUMMARY:Madison Farmers' Market
DESCRIPTION:
URL:https://ctgrown.org/event/madison-farmers-market-2/2023-08-18/
LOCATION:Madison Town Green\, 26 Meeting House Lane\, Madison\, Connecticut\, 06443\, United States
END:VEVENT
END:VCALENDAR