BEGIN:VCALENDAR
VERSION:2.0
PRODID:-//CT Grown - ECPv6.15.18//NONSGML v1.0//EN
CALSCALE:GREGORIAN
METHOD:PUBLISH
X-ORIGINAL-URL:https://ctgrown.org
X-WR-CALDESC:Events for CT Grown
REFRESH-INTERVAL;VALUE=DURATION:PT1H
X-Robots-Tag:noindex
X-PUBLISHED-TTL:PT1H
BEGIN:VTIMEZONE
TZID:America/New_York
BEGIN:DAYLIGHT
TZOFFSETFROM:-0500
TZOFFSETTO:-0400
TZNAME:EDT
DTSTART:20210314T070000
END:DAYLIGHT
BEGIN:STANDARD
TZOFFSETFROM:-0400
TZOFFSETTO:-0500
TZNAME:EST
DTSTART:20211107T060000
END:STANDARD
BEGIN:DAYLIGHT
TZOFFSETFROM:-0500
TZOFFSETTO:-0400
TZNAME:EDT
DTSTART:20220313T070000
END:DAYLIGHT
BEGIN:STANDARD
TZOFFSETFROM:-0400
TZOFFSETTO:-0500
TZNAME:EST
DTSTART:20221106T060000
END:STANDARD
BEGIN:DAYLIGHT
TZOFFSETFROM:-0500
TZOFFSETTO:-0400
TZNAME:EDT
DTSTART:20230312T070000
END:DAYLIGHT
BEGIN:STANDARD
TZOFFSETFROM:-0400
TZOFFSETTO:-0500
TZNAME:EST
DTSTART:20231105T060000
END:STANDARD
BEGIN:DAYLIGHT
TZOFFSETFROM:-0500
TZOFFSETTO:-0400
TZNAME:EDT
DTSTART:20240310T070000
END:DAYLIGHT
BEGIN:STANDARD
TZOFFSETFROM:-0400
TZOFFSETTO:-0500
TZNAME:EST
DTSTART:20241103T060000
END:STANDARD
END:VTIMEZONE
BEGIN:VEVENT
DTSTART;TZID=America/New_York:20230722T090000
DTEND;TZID=America/New_York:20230722T130000
DTSTAMP:20260425T073838
CREATED:20230608T150210Z
LAST-MODIFIED:20230608T150213Z
UID:10006786-1690016400-1690030800@ctgrown.org
SUMMARY:Farmers' Market of Black Rock
DESCRIPTION:
URL:https://ctgrown.org/event/farmers-market-of-black-rock/2023-07-22/
LOCATION:St. Ann’s Field\, 481 Brewster Street\, Bridgeport\, Connecticut\, 06605\, United States
END:VEVENT
BEGIN:VEVENT
DTSTART;TZID=America/New_York:20230715T090000
DTEND;TZID=America/New_York:20230715T130000
DTSTAMP:20260425T073838
CREATED:20230608T150210Z
LAST-MODIFIED:20230608T150213Z
UID:10006785-1689411600-1689426000@ctgrown.org
SUMMARY:Farmers' Market of Black Rock
DESCRIPTION:
URL:https://ctgrown.org/event/farmers-market-of-black-rock/2023-07-15/
LOCATION:St. Ann’s Field\, 481 Brewster Street\, Bridgeport\, Connecticut\, 06605\, United States
END:VEVENT
BEGIN:VEVENT
DTSTART;TZID=America/New_York:20230708T090000
DTEND;TZID=America/New_York:20230708T130000
DTSTAMP:20260425T073838
CREATED:20230608T150210Z
LAST-MODIFIED:20230608T150213Z
UID:10006784-1688806800-1688821200@ctgrown.org
SUMMARY:Farmers' Market of Black Rock
DESCRIPTION:
URL:https://ctgrown.org/event/farmers-market-of-black-rock/2023-07-08/
LOCATION:St. Ann’s Field\, 481 Brewster Street\, Bridgeport\, Connecticut\, 06605\, United States
END:VEVENT
BEGIN:VEVENT
DTSTART;TZID=America/New_York:20230701T090000
DTEND;TZID=America/New_York:20230701T130000
DTSTAMP:20260425T073838
CREATED:20230608T150210Z
LAST-MODIFIED:20230608T150213Z
UID:10006783-1688202000-1688216400@ctgrown.org
SUMMARY:Farmers' Market of Black Rock
DESCRIPTION:
URL:https://ctgrown.org/event/farmers-market-of-black-rock/2023-07-01/
LOCATION:St. Ann’s Field\, 481 Brewster Street\, Bridgeport\, Connecticut\, 06605\, United States
END:VEVENT
BEGIN:VEVENT
DTSTART;TZID=America/New_York:20230624T090000
DTEND;TZID=America/New_York:20230624T130000
DTSTAMP:20260425T073838
CREATED:20230608T150210Z
LAST-MODIFIED:20230608T150213Z
UID:10006782-1687597200-1687611600@ctgrown.org
SUMMARY:Farmers' Market of Black Rock
DESCRIPTION:
URL:https://ctgrown.org/event/farmers-market-of-black-rock/2023-06-24/
LOCATION:St. Ann’s Field\, 481 Brewster Street\, Bridgeport\, Connecticut\, 06605\, United States
END:VEVENT
BEGIN:VEVENT
DTSTART;TZID=America/New_York:20230617T090000
DTEND;TZID=America/New_York:20230617T130000
DTSTAMP:20260425T073838
CREATED:20230608T150210Z
LAST-MODIFIED:20230608T150213Z
UID:10006781-1686992400-1687006800@ctgrown.org
SUMMARY:Farmers' Market of Black Rock
DESCRIPTION:
URL:https://ctgrown.org/event/farmers-market-of-black-rock/2023-06-17/
LOCATION:St. Ann’s Field\, 481 Brewster Street\, Bridgeport\, Connecticut\, 06605\, United States
END:VEVENT
BEGIN:VEVENT
DTSTART;TZID=America/New_York:20221015T090000
DTEND;TZID=America/New_York:20221015T130000
DTSTAMP:20260425T073838
CREATED:20220720T155010Z
LAST-MODIFIED:20220720T184002Z
UID:10003020-1665824400-1665838800@ctgrown.org
SUMMARY:Bridgeport - Farmers' Market of Black Rock
DESCRIPTION:Accepts SNAP/EBT
URL:https://ctgrown.org/event/bridgeport-farmers-market-of-black-rock/2022-10-15/
LOCATION:St. Ann’s Field\, 481 Brewster Street\, Bridgeport\, Connecticut\, 06605\, United States
END:VEVENT
BEGIN:VEVENT
DTSTART;TZID=America/New_York:20221008T090000
DTEND;TZID=America/New_York:20221008T130000
DTSTAMP:20260425T073838
CREATED:20220720T155010Z
LAST-MODIFIED:20220720T184002Z
UID:10003019-1665219600-1665234000@ctgrown.org
SUMMARY:Bridgeport - Farmers' Market of Black Rock
DESCRIPTION:Accepts SNAP/EBT
URL:https://ctgrown.org/event/bridgeport-farmers-market-of-black-rock/2022-10-08/
LOCATION:St. Ann’s Field\, 481 Brewster Street\, Bridgeport\, Connecticut\, 06605\, United States
END:VEVENT
BEGIN:VEVENT
DTSTART;TZID=America/New_York:20221001T090000
DTEND;TZID=America/New_York:20221001T130000
DTSTAMP:20260425T073838
CREATED:20220720T155010Z
LAST-MODIFIED:20220720T184002Z
UID:10003018-1664614800-1664629200@ctgrown.org
SUMMARY:Bridgeport - Farmers' Market of Black Rock
DESCRIPTION:Accepts SNAP/EBT
URL:https://ctgrown.org/event/bridgeport-farmers-market-of-black-rock/2022-10-01/
LOCATION:St. Ann’s Field\, 481 Brewster Street\, Bridgeport\, Connecticut\, 06605\, United States
END:VEVENT
BEGIN:VEVENT
DTSTART;TZID=America/New_York:20220924T090000
DTEND;TZID=America/New_York:20220924T130000
DTSTAMP:20260425T073838
CREATED:20220720T155010Z
LAST-MODIFIED:20220720T184002Z
UID:10003017-1664010000-1664024400@ctgrown.org
SUMMARY:Bridgeport - Farmers' Market of Black Rock
DESCRIPTION:Accepts SNAP/EBT
URL:https://ctgrown.org/event/bridgeport-farmers-market-of-black-rock/2022-09-24/
LOCATION:St. Ann’s Field\, 481 Brewster Street\, Bridgeport\, Connecticut\, 06605\, United States
END:VEVENT
BEGIN:VEVENT
DTSTART;TZID=America/New_York:20220917T090000
DTEND;TZID=America/New_York:20220917T130000
DTSTAMP:20260425T073838
CREATED:20220720T155010Z
LAST-MODIFIED:20220720T184002Z
UID:10003016-1663405200-1663419600@ctgrown.org
SUMMARY:Bridgeport - Farmers' Market of Black Rock
DESCRIPTION:Accepts SNAP/EBT
URL:https://ctgrown.org/event/bridgeport-farmers-market-of-black-rock/2022-09-17/
LOCATION:St. Ann’s Field\, 481 Brewster Street\, Bridgeport\, Connecticut\, 06605\, United States
END:VEVENT
BEGIN:VEVENT
DTSTART;TZID=America/New_York:20220910T090000
DTEND;TZID=America/New_York:20220910T130000
DTSTAMP:20260425T073838
CREATED:20220720T155010Z
LAST-MODIFIED:20220720T184002Z
UID:10003015-1662800400-1662814800@ctgrown.org
SUMMARY:Bridgeport - Farmers' Market of Black Rock
DESCRIPTION:Accepts SNAP/EBT
URL:https://ctgrown.org/event/bridgeport-farmers-market-of-black-rock/2022-09-10/
LOCATION:St. Ann’s Field\, 481 Brewster Street\, Bridgeport\, Connecticut\, 06605\, United States
END:VEVENT
BEGIN:VEVENT
DTSTART;TZID=America/New_York:20220903T090000
DTEND;TZID=America/New_York:20220903T130000
DTSTAMP:20260425T073838
CREATED:20220720T155010Z
LAST-MODIFIED:20220720T184002Z
UID:10003014-1662195600-1662210000@ctgrown.org
SUMMARY:Bridgeport - Farmers' Market of Black Rock
DESCRIPTION:Accepts SNAP/EBT
URL:https://ctgrown.org/event/bridgeport-farmers-market-of-black-rock/2022-09-03/
LOCATION:St. Ann’s Field\, 481 Brewster Street\, Bridgeport\, Connecticut\, 06605\, United States
END:VEVENT
BEGIN:VEVENT
DTSTART;TZID=America/New_York:20220827T090000
DTEND;TZID=America/New_York:20220827T130000
DTSTAMP:20260425T073838
CREATED:20220720T155010Z
LAST-MODIFIED:20220720T184002Z
UID:10003013-1661590800-1661605200@ctgrown.org
SUMMARY:Bridgeport - Farmers' Market of Black Rock
DESCRIPTION:Accepts SNAP/EBT
URL:https://ctgrown.org/event/bridgeport-farmers-market-of-black-rock/2022-08-27/
LOCATION:St. Ann’s Field\, 481 Brewster Street\, Bridgeport\, Connecticut\, 06605\, United States
END:VEVENT
BEGIN:VEVENT
DTSTART;TZID=America/New_York:20220820T090000
DTEND;TZID=America/New_York:20220820T130000
DTSTAMP:20260425T073838
CREATED:20220720T155010Z
LAST-MODIFIED:20220720T184002Z
UID:10003012-1660986000-1661000400@ctgrown.org
SUMMARY:Bridgeport - Farmers' Market of Black Rock
DESCRIPTION:Accepts SNAP/EBT
URL:https://ctgrown.org/event/bridgeport-farmers-market-of-black-rock/2022-08-20/
LOCATION:St. Ann’s Field\, 481 Brewster Street\, Bridgeport\, Connecticut\, 06605\, United States
END:VEVENT
BEGIN:VEVENT
DTSTART;TZID=America/New_York:20220813T090000
DTEND;TZID=America/New_York:20220813T130000
DTSTAMP:20260425T073838
CREATED:20220720T155010Z
LAST-MODIFIED:20220720T184002Z
UID:10003011-1660381200-1660395600@ctgrown.org
SUMMARY:Bridgeport - Farmers' Market of Black Rock
DESCRIPTION:Accepts SNAP/EBT
URL:https://ctgrown.org/event/bridgeport-farmers-market-of-black-rock/2022-08-13/
LOCATION:St. Ann’s Field\, 481 Brewster Street\, Bridgeport\, Connecticut\, 06605\, United States
END:VEVENT
BEGIN:VEVENT
DTSTART;TZID=America/New_York:20220806T090000
DTEND;TZID=America/New_York:20220806T130000
DTSTAMP:20260425T073838
CREATED:20220720T155010Z
LAST-MODIFIED:20220720T184002Z
UID:10003010-1659776400-1659790800@ctgrown.org
SUMMARY:Bridgeport - Farmers' Market of Black Rock
DESCRIPTION:Accepts SNAP/EBT
URL:https://ctgrown.org/event/bridgeport-farmers-market-of-black-rock/2022-08-06/
LOCATION:St. Ann’s Field\, 481 Brewster Street\, Bridgeport\, Connecticut\, 06605\, United States
END:VEVENT
BEGIN:VEVENT
DTSTART;TZID=America/New_York:20220730T090000
DTEND;TZID=America/New_York:20220730T130000
DTSTAMP:20260425T073838
CREATED:20220720T155010Z
LAST-MODIFIED:20220720T184002Z
UID:10003009-1659171600-1659186000@ctgrown.org
SUMMARY:Bridgeport - Farmers' Market of Black Rock
DESCRIPTION:Accepts SNAP/EBT
URL:https://ctgrown.org/event/bridgeport-farmers-market-of-black-rock/2022-07-30/
LOCATION:St. Ann’s Field\, 481 Brewster Street\, Bridgeport\, Connecticut\, 06605\, United States
END:VEVENT
BEGIN:VEVENT
DTSTART;TZID=America/New_York:20220723T090000
DTEND;TZID=America/New_York:20220723T130000
DTSTAMP:20260425T073838
CREATED:20220720T155010Z
LAST-MODIFIED:20220720T184002Z
UID:10003008-1658566800-1658581200@ctgrown.org
SUMMARY:Bridgeport - Farmers' Market of Black Rock
DESCRIPTION:Accepts SNAP/EBT
URL:https://ctgrown.org/event/bridgeport-farmers-market-of-black-rock/2022-07-23/
LOCATION:St. Ann’s Field\, 481 Brewster Street\, Bridgeport\, Connecticut\, 06605\, United States
END:VEVENT
END:VCALENDAR